BEGIN:VCALENDAR
VERSION:2.0
PRODID:-//Chattanooga Metro - ECPv6.15.20//NONSGML v1.0//EN
CALSCALE:GREGORIAN
METHOD:PUBLISH
X-WR-CALNAME:Chattanooga Metro
X-ORIGINAL-URL:https://chattanoogametro.com
X-WR-CALDESC:Events for Chattanooga Metro
REFRESH-INTERVAL;VALUE=DURATION:PT1H
X-Robots-Tag:noindex
X-PUBLISHED-TTL:PT1H
BEGIN:VTIMEZONE
TZID:America/New_York
BEGIN:DAYLIGHT
TZOFFSETFROM:-0500
TZOFFSETTO:-0400
TZNAME:EDT
DTSTART:20290311T070000
END:DAYLIGHT
BEGIN:STANDARD
TZOFFSETFROM:-0400
TZOFFSETTO:-0500
TZNAME:EST
DTSTART:20291104T060000
END:STANDARD
BEGIN:DAYLIGHT
TZOFFSETFROM:-0500
TZOFFSETTO:-0400
TZNAME:EDT
DTSTART:20300310T070000
END:DAYLIGHT
BEGIN:STANDARD
TZOFFSETFROM:-0400
TZOFFSETTO:-0500
TZNAME:EST
DTSTART:20301103T060000
END:STANDARD
BEGIN:DAYLIGHT
TZOFFSETFROM:-0500
TZOFFSETTO:-0400
TZNAME:EDT
DTSTART:20310309T070000
END:DAYLIGHT
BEGIN:STANDARD
TZOFFSETFROM:-0400
TZOFFSETTO:-0500
TZNAME:EST
DTSTART:20311102T060000
END:STANDARD
BEGIN:DAYLIGHT
TZOFFSETFROM:-0500
TZOFFSETTO:-0400
TZNAME:EDT
DTSTART:20320314T070000
END:DAYLIGHT
BEGIN:STANDARD
TZOFFSETFROM:-0400
TZOFFSETTO:-0500
TZNAME:EST
DTSTART:20321107T060000
END:STANDARD
END:VTIMEZONE
BEGIN:VEVENT
DTSTART;TZID=America/New_York:20300515T113000
DTEND;TZID=America/New_York:20300515T130000
DTSTAMP:20260420T002620
CREATED:20250424T014039Z
LAST-MODIFIED:20251014T234102Z
UID:10000902-1905075000-1905080400@chattanoogametro.com
SUMMARY:Incredible Business Networking - Local Goat
DESCRIPTION:Sponsored by Jurgen Mootz with Tradebank of Chattanooga \nCome Out and Meet New People / Brings Cards\, Brochures\, Etc. \n\nFree to attend\, no dues or fees\nNo membership required\nNo attendance requirements\nNo category restrictions\nNo Exclusions – all inclusive\nBuy food/drink if you wish (optional)\n\nCheck our website for updates.
URL:https://chattanoogametro.com/event/incredible-business-networking-3/2030-05-15/
LOCATION:Local Goat\, 6108 Artesian Circle\, Ooltewah\, TN\, 37363\, United States
CATEGORIES:Networking Events
ATTACH;FMTTYPE=image/png:https://chattanoogametro.com/wp-content/uploads/2025/04/IBN-Logo.png
END:VEVENT
BEGIN:VEVENT
DTSTART;TZID=America/New_York:20300619T113000
DTEND;TZID=America/New_York:20300619T130000
DTSTAMP:20260420T002620
CREATED:20250424T014039Z
LAST-MODIFIED:20251014T234102Z
UID:10000903-1908099000-1908104400@chattanoogametro.com
SUMMARY:Incredible Business Networking - Local Goat
DESCRIPTION:Sponsored by Jurgen Mootz with Tradebank of Chattanooga \nCome Out and Meet New People / Brings Cards\, Brochures\, Etc. \n\nFree to attend\, no dues or fees\nNo membership required\nNo attendance requirements\nNo category restrictions\nNo Exclusions – all inclusive\nBuy food/drink if you wish (optional)\n\nCheck our website for updates.
URL:https://chattanoogametro.com/event/incredible-business-networking-3/2030-06-19/
LOCATION:Local Goat\, 6108 Artesian Circle\, Ooltewah\, TN\, 37363\, United States
CATEGORIES:Networking Events
ATTACH;FMTTYPE=image/png:https://chattanoogametro.com/wp-content/uploads/2025/04/IBN-Logo.png
END:VEVENT
BEGIN:VEVENT
DTSTART;TZID=America/New_York:20300717T113000
DTEND;TZID=America/New_York:20300717T130000
DTSTAMP:20260420T002620
CREATED:20250424T014039Z
LAST-MODIFIED:20251014T234102Z
UID:10000918-1910518200-1910523600@chattanoogametro.com
SUMMARY:Incredible Business Networking - Local Goat
DESCRIPTION:Sponsored by Jurgen Mootz with Tradebank of Chattanooga \nCome Out and Meet New People / Brings Cards\, Brochures\, Etc. \n\nFree to attend\, no dues or fees\nNo membership required\nNo attendance requirements\nNo category restrictions\nNo Exclusions – all inclusive\nBuy food/drink if you wish (optional)\n\nCheck our website for updates.
URL:https://chattanoogametro.com/event/incredible-business-networking-3/2030-07-17/
LOCATION:Local Goat\, 6108 Artesian Circle\, Ooltewah\, TN\, 37363\, United States
CATEGORIES:Networking Events
ATTACH;FMTTYPE=image/png:https://chattanoogametro.com/wp-content/uploads/2025/04/IBN-Logo.png
END:VEVENT
BEGIN:VEVENT
DTSTART;TZID=America/New_York:20300821T113000
DTEND;TZID=America/New_York:20300821T130000
DTSTAMP:20260420T002620
CREATED:20250424T014039Z
LAST-MODIFIED:20251014T234102Z
UID:10000942-1913542200-1913547600@chattanoogametro.com
SUMMARY:Incredible Business Networking - Local Goat
DESCRIPTION:Sponsored by Jurgen Mootz with Tradebank of Chattanooga \nCome Out and Meet New People / Brings Cards\, Brochures\, Etc. \n\nFree to attend\, no dues or fees\nNo membership required\nNo attendance requirements\nNo category restrictions\nNo Exclusions – all inclusive\nBuy food/drink if you wish (optional)\n\nCheck our website for updates.
URL:https://chattanoogametro.com/event/incredible-business-networking-3/2030-08-21/
LOCATION:Local Goat\, 6108 Artesian Circle\, Ooltewah\, TN\, 37363\, United States
CATEGORIES:Networking Events
ATTACH;FMTTYPE=image/png:https://chattanoogametro.com/wp-content/uploads/2025/04/IBN-Logo.png
END:VEVENT
BEGIN:VEVENT
DTSTART;TZID=America/New_York:20300918T113000
DTEND;TZID=America/New_York:20300918T130000
DTSTAMP:20260420T002620
CREATED:20250424T014039Z
LAST-MODIFIED:20251014T234102Z
UID:10000943-1915961400-1915966800@chattanoogametro.com
SUMMARY:Incredible Business Networking - Local Goat
DESCRIPTION:Sponsored by Jurgen Mootz with Tradebank of Chattanooga \nCome Out and Meet New People / Brings Cards\, Brochures\, Etc. \n\nFree to attend\, no dues or fees\nNo membership required\nNo attendance requirements\nNo category restrictions\nNo Exclusions – all inclusive\nBuy food/drink if you wish (optional)\n\nCheck our website for updates.
URL:https://chattanoogametro.com/event/incredible-business-networking-3/2030-09-18/
LOCATION:Local Goat\, 6108 Artesian Circle\, Ooltewah\, TN\, 37363\, United States
CATEGORIES:Networking Events
ATTACH;FMTTYPE=image/png:https://chattanoogametro.com/wp-content/uploads/2025/04/IBN-Logo.png
END:VEVENT
BEGIN:VEVENT
DTSTART;TZID=America/New_York:20301016T113000
DTEND;TZID=America/New_York:20301016T130000
DTSTAMP:20260420T002620
CREATED:20250424T014039Z
LAST-MODIFIED:20251014T234102Z
UID:10001864-1918380600-1918386000@chattanoogametro.com
SUMMARY:Incredible Business Networking - Local Goat
DESCRIPTION:Sponsored by Jurgen Mootz with Tradebank of Chattanooga \nCome Out and Meet New People / Brings Cards\, Brochures\, Etc. \n\nFree to attend\, no dues or fees\nNo membership required\nNo attendance requirements\nNo category restrictions\nNo Exclusions – all inclusive\nBuy food/drink if you wish (optional)\n\nCheck our website for updates.
URL:https://chattanoogametro.com/event/incredible-business-networking-3/2030-10-16/
LOCATION:Local Goat\, 6108 Artesian Circle\, Ooltewah\, TN\, 37363\, United States
CATEGORIES:Networking Events
ATTACH;FMTTYPE=image/png:https://chattanoogametro.com/wp-content/uploads/2025/04/IBN-Logo.png
END:VEVENT
BEGIN:VEVENT
DTSTART;TZID=America/New_York:20301120T113000
DTEND;TZID=America/New_York:20301120T130000
DTSTAMP:20260420T002620
CREATED:20250424T014039Z
LAST-MODIFIED:20251014T234102Z
UID:10002306-1921404600-1921410000@chattanoogametro.com
SUMMARY:Incredible Business Networking - Local Goat
DESCRIPTION:Sponsored by Jurgen Mootz with Tradebank of Chattanooga \nCome Out and Meet New People / Brings Cards\, Brochures\, Etc. \n\nFree to attend\, no dues or fees\nNo membership required\nNo attendance requirements\nNo category restrictions\nNo Exclusions – all inclusive\nBuy food/drink if you wish (optional)\n\nCheck our website for updates.
URL:https://chattanoogametro.com/event/incredible-business-networking-3/2030-11-20/
LOCATION:Local Goat\, 6108 Artesian Circle\, Ooltewah\, TN\, 37363\, United States
CATEGORIES:Networking Events
ATTACH;FMTTYPE=image/png:https://chattanoogametro.com/wp-content/uploads/2025/04/IBN-Logo.png
END:VEVENT
BEGIN:VEVENT
DTSTART;TZID=America/New_York:20301218T113000
DTEND;TZID=America/New_York:20301218T130000
DTSTAMP:20260420T002620
CREATED:20250424T014039Z
LAST-MODIFIED:20251014T234102Z
UID:10002307-1923823800-1923829200@chattanoogametro.com
SUMMARY:Incredible Business Networking - Local Goat
DESCRIPTION:Sponsored by Jurgen Mootz with Tradebank of Chattanooga \nCome Out and Meet New People / Brings Cards\, Brochures\, Etc. \n\nFree to attend\, no dues or fees\nNo membership required\nNo attendance requirements\nNo category restrictions\nNo Exclusions – all inclusive\nBuy food/drink if you wish (optional)\n\nCheck our website for updates.
URL:https://chattanoogametro.com/event/incredible-business-networking-3/2030-12-18/
LOCATION:Local Goat\, 6108 Artesian Circle\, Ooltewah\, TN\, 37363\, United States
CATEGORIES:Networking Events
ATTACH;FMTTYPE=image/png:https://chattanoogametro.com/wp-content/uploads/2025/04/IBN-Logo.png
END:VEVENT
BEGIN:VEVENT
DTSTART;TZID=America/New_York:20310115T113000
DTEND;TZID=America/New_York:20310115T130000
DTSTAMP:20260420T002620
CREATED:20250424T014039Z
LAST-MODIFIED:20251014T234102Z
UID:10002316-1926243000-1926248400@chattanoogametro.com
SUMMARY:Incredible Business Networking - Local Goat
DESCRIPTION:Sponsored by Jurgen Mootz with Tradebank of Chattanooga \nCome Out and Meet New People / Brings Cards\, Brochures\, Etc. \n\nFree to attend\, no dues or fees\nNo membership required\nNo attendance requirements\nNo category restrictions\nNo Exclusions – all inclusive\nBuy food/drink if you wish (optional)\n\nCheck our website for updates.
URL:https://chattanoogametro.com/event/incredible-business-networking-3/2031-01-15/
LOCATION:Local Goat\, 6108 Artesian Circle\, Ooltewah\, TN\, 37363\, United States
CATEGORIES:Networking Events
ATTACH;FMTTYPE=image/png:https://chattanoogametro.com/wp-content/uploads/2025/04/IBN-Logo.png
END:VEVENT
BEGIN:VEVENT
DTSTART;TZID=America/New_York:20310219T113000
DTEND;TZID=America/New_York:20310219T130000
DTSTAMP:20260420T002620
CREATED:20250424T014039Z
LAST-MODIFIED:20251014T234102Z
UID:10002330-1929267000-1929272400@chattanoogametro.com
SUMMARY:Incredible Business Networking - Local Goat
DESCRIPTION:Sponsored by Jurgen Mootz with Tradebank of Chattanooga \nCome Out and Meet New People / Brings Cards\, Brochures\, Etc. \n\nFree to attend\, no dues or fees\nNo membership required\nNo attendance requirements\nNo category restrictions\nNo Exclusions – all inclusive\nBuy food/drink if you wish (optional)\n\nCheck our website for updates.
URL:https://chattanoogametro.com/event/incredible-business-networking-3/2031-02-19/
LOCATION:Local Goat\, 6108 Artesian Circle\, Ooltewah\, TN\, 37363\, United States
CATEGORIES:Networking Events
ATTACH;FMTTYPE=image/png:https://chattanoogametro.com/wp-content/uploads/2025/04/IBN-Logo.png
END:VEVENT
BEGIN:VEVENT
DTSTART;TZID=America/New_York:20310319T113000
DTEND;TZID=America/New_York:20310319T130000
DTSTAMP:20260420T002620
CREATED:20250424T014039Z
LAST-MODIFIED:20251014T234102Z
UID:10002342-1931686200-1931691600@chattanoogametro.com
SUMMARY:Incredible Business Networking - Local Goat
DESCRIPTION:Sponsored by Jurgen Mootz with Tradebank of Chattanooga \nCome Out and Meet New People / Brings Cards\, Brochures\, Etc. \n\nFree to attend\, no dues or fees\nNo membership required\nNo attendance requirements\nNo category restrictions\nNo Exclusions – all inclusive\nBuy food/drink if you wish (optional)\n\nCheck our website for updates.
URL:https://chattanoogametro.com/event/incredible-business-networking-3/2031-03-19/
LOCATION:Local Goat\, 6108 Artesian Circle\, Ooltewah\, TN\, 37363\, United States
CATEGORIES:Networking Events
ATTACH;FMTTYPE=image/png:https://chattanoogametro.com/wp-content/uploads/2025/04/IBN-Logo.png
END:VEVENT
BEGIN:VEVENT
DTSTART;TZID=America/New_York:20310416T113000
DTEND;TZID=America/New_York:20310416T130000
DTSTAMP:20260420T002620
CREATED:20250424T014039Z
LAST-MODIFIED:20251014T234102Z
UID:10002354-1934105400-1934110800@chattanoogametro.com
SUMMARY:Incredible Business Networking - Local Goat
DESCRIPTION:Sponsored by Jurgen Mootz with Tradebank of Chattanooga \nCome Out and Meet New People / Brings Cards\, Brochures\, Etc. \n\nFree to attend\, no dues or fees\nNo membership required\nNo attendance requirements\nNo category restrictions\nNo Exclusions – all inclusive\nBuy food/drink if you wish (optional)\n\nCheck our website for updates.
URL:https://chattanoogametro.com/event/incredible-business-networking-3/2031-04-16/
LOCATION:Local Goat\, 6108 Artesian Circle\, Ooltewah\, TN\, 37363\, United States
CATEGORIES:Networking Events
ATTACH;FMTTYPE=image/png:https://chattanoogametro.com/wp-content/uploads/2025/04/IBN-Logo.png
END:VEVENT
END:VCALENDAR