BEGIN:VCALENDAR
VERSION:2.0
PRODID:-//Chattanooga Metro - ECPv6.15.20//NONSGML v1.0//EN
CALSCALE:GREGORIAN
METHOD:PUBLISH
X-WR-CALNAME:Chattanooga Metro
X-ORIGINAL-URL:https://chattanoogametro.com
X-WR-CALDESC:Events for Chattanooga Metro
REFRESH-INTERVAL;VALUE=DURATION:PT1H
X-Robots-Tag:noindex
X-PUBLISHED-TTL:PT1H
BEGIN:VTIMEZONE
TZID:America/New_York
BEGIN:DAYLIGHT
TZOFFSETFROM:-0500
TZOFFSETTO:-0400
TZNAME:EDT
DTSTART:20280312T070000
END:DAYLIGHT
BEGIN:STANDARD
TZOFFSETFROM:-0400
TZOFFSETTO:-0500
TZNAME:EST
DTSTART:20281105T060000
END:STANDARD
BEGIN:DAYLIGHT
TZOFFSETFROM:-0500
TZOFFSETTO:-0400
TZNAME:EDT
DTSTART:20290311T070000
END:DAYLIGHT
BEGIN:STANDARD
TZOFFSETFROM:-0400
TZOFFSETTO:-0500
TZNAME:EST
DTSTART:20291104T060000
END:STANDARD
BEGIN:DAYLIGHT
TZOFFSETFROM:-0500
TZOFFSETTO:-0400
TZNAME:EDT
DTSTART:20300310T070000
END:DAYLIGHT
BEGIN:STANDARD
TZOFFSETFROM:-0400
TZOFFSETTO:-0500
TZNAME:EST
DTSTART:20301103T060000
END:STANDARD
BEGIN:DAYLIGHT
TZOFFSETFROM:-0500
TZOFFSETTO:-0400
TZNAME:EDT
DTSTART:20310309T070000
END:DAYLIGHT
BEGIN:STANDARD
TZOFFSETFROM:-0400
TZOFFSETTO:-0500
TZNAME:EST
DTSTART:20311102T060000
END:STANDARD
BEGIN:DAYLIGHT
TZOFFSETFROM:-0500
TZOFFSETTO:-0400
TZNAME:EDT
DTSTART:20320314T070000
END:DAYLIGHT
BEGIN:STANDARD
TZOFFSETFROM:-0400
TZOFFSETTO:-0500
TZNAME:EST
DTSTART:20321107T060000
END:STANDARD
END:VTIMEZONE
BEGIN:VEVENT
DTSTART;TZID=America/New_York:20290425T113000
DTEND;TZID=America/New_York:20290425T130000
DTSTAMP:20260420T030151
CREATED:20251014T235420Z
LAST-MODIFIED:20251015T000734Z
UID:10000752-1871811000-1871816400@chattanoogametro.com
SUMMARY:Incredible Business Networking - Farm to Folk
DESCRIPTION:Sponsored by Jurgen Mootz with Tradebank of Chattanooga \nCome Out and Meet New People / Brings Cards\, Brochures\, Etc. Free to attend\, no dues or fees No membership required No attendance requirements No category restrictions No Exclusions – all inclusive Buy food/drink if you wish (optional) Check our website for updates.
URL:https://chattanoogametro.com/event/incredible-business-networking-6-2/2029-04-25/
LOCATION:Farm to Folk\, 120 General Lee Street\, Ringgold\, GA\, 30736
CATEGORIES:All Events,Networking Events
ATTACH;FMTTYPE=image/png:https://chattanoogametro.com/wp-content/uploads/2025/04/IBN-Logo.png
END:VEVENT
BEGIN:VEVENT
DTSTART;TZID=America/New_York:20290523T113000
DTEND;TZID=America/New_York:20290523T130000
DTSTAMP:20260420T030151
CREATED:20251014T235420Z
LAST-MODIFIED:20251015T000734Z
UID:10000753-1874230200-1874235600@chattanoogametro.com
SUMMARY:Incredible Business Networking - Farm to Folk
DESCRIPTION:Sponsored by Jurgen Mootz with Tradebank of Chattanooga \nCome Out and Meet New People / Brings Cards\, Brochures\, Etc. Free to attend\, no dues or fees No membership required No attendance requirements No category restrictions No Exclusions – all inclusive Buy food/drink if you wish (optional) Check our website for updates.
URL:https://chattanoogametro.com/event/incredible-business-networking-6-2/2029-05-23/
LOCATION:Farm to Folk\, 120 General Lee Street\, Ringgold\, GA\, 30736
CATEGORIES:All Events,Networking Events
ATTACH;FMTTYPE=image/png:https://chattanoogametro.com/wp-content/uploads/2025/04/IBN-Logo.png
END:VEVENT
BEGIN:VEVENT
DTSTART;TZID=America/New_York:20290627T113000
DTEND;TZID=America/New_York:20290627T130000
DTSTAMP:20260420T030151
CREATED:20251014T235420Z
LAST-MODIFIED:20251015T000734Z
UID:10000754-1877254200-1877259600@chattanoogametro.com
SUMMARY:Incredible Business Networking - Farm to Folk
DESCRIPTION:Sponsored by Jurgen Mootz with Tradebank of Chattanooga \nCome Out and Meet New People / Brings Cards\, Brochures\, Etc. Free to attend\, no dues or fees No membership required No attendance requirements No category restrictions No Exclusions – all inclusive Buy food/drink if you wish (optional) Check our website for updates.
URL:https://chattanoogametro.com/event/incredible-business-networking-6-2/2029-06-27/
LOCATION:Farm to Folk\, 120 General Lee Street\, Ringgold\, GA\, 30736
CATEGORIES:All Events,Networking Events
ATTACH;FMTTYPE=image/png:https://chattanoogametro.com/wp-content/uploads/2025/04/IBN-Logo.png
END:VEVENT
BEGIN:VEVENT
DTSTART;TZID=America/New_York:20290725T113000
DTEND;TZID=America/New_York:20290725T130000
DTSTAMP:20260420T030151
CREATED:20251014T235420Z
LAST-MODIFIED:20251015T000734Z
UID:10000755-1879673400-1879678800@chattanoogametro.com
SUMMARY:Incredible Business Networking - Farm to Folk
DESCRIPTION:Sponsored by Jurgen Mootz with Tradebank of Chattanooga \nCome Out and Meet New People / Brings Cards\, Brochures\, Etc. Free to attend\, no dues or fees No membership required No attendance requirements No category restrictions No Exclusions – all inclusive Buy food/drink if you wish (optional) Check our website for updates.
URL:https://chattanoogametro.com/event/incredible-business-networking-6-2/2029-07-25/
LOCATION:Farm to Folk\, 120 General Lee Street\, Ringgold\, GA\, 30736
CATEGORIES:All Events,Networking Events
ATTACH;FMTTYPE=image/png:https://chattanoogametro.com/wp-content/uploads/2025/04/IBN-Logo.png
END:VEVENT
BEGIN:VEVENT
DTSTART;TZID=America/New_York:20290822T113000
DTEND;TZID=America/New_York:20290822T130000
DTSTAMP:20260420T030151
CREATED:20251014T235420Z
LAST-MODIFIED:20251015T000734Z
UID:10000756-1882092600-1882098000@chattanoogametro.com
SUMMARY:Incredible Business Networking - Farm to Folk
DESCRIPTION:Sponsored by Jurgen Mootz with Tradebank of Chattanooga \nCome Out and Meet New People / Brings Cards\, Brochures\, Etc. Free to attend\, no dues or fees No membership required No attendance requirements No category restrictions No Exclusions – all inclusive Buy food/drink if you wish (optional) Check our website for updates.
URL:https://chattanoogametro.com/event/incredible-business-networking-6-2/2029-08-22/
LOCATION:Farm to Folk\, 120 General Lee Street\, Ringgold\, GA\, 30736
CATEGORIES:All Events,Networking Events
ATTACH;FMTTYPE=image/png:https://chattanoogametro.com/wp-content/uploads/2025/04/IBN-Logo.png
END:VEVENT
BEGIN:VEVENT
DTSTART;TZID=America/New_York:20290926T113000
DTEND;TZID=America/New_York:20290926T130000
DTSTAMP:20260420T030151
CREATED:20251014T235420Z
LAST-MODIFIED:20251015T000734Z
UID:10000757-1885116600-1885122000@chattanoogametro.com
SUMMARY:Incredible Business Networking - Farm to Folk
DESCRIPTION:Sponsored by Jurgen Mootz with Tradebank of Chattanooga \nCome Out and Meet New People / Brings Cards\, Brochures\, Etc. Free to attend\, no dues or fees No membership required No attendance requirements No category restrictions No Exclusions – all inclusive Buy food/drink if you wish (optional) Check our website for updates.
URL:https://chattanoogametro.com/event/incredible-business-networking-6-2/2029-09-26/
LOCATION:Farm to Folk\, 120 General Lee Street\, Ringgold\, GA\, 30736
CATEGORIES:All Events,Networking Events
ATTACH;FMTTYPE=image/png:https://chattanoogametro.com/wp-content/uploads/2025/04/IBN-Logo.png
END:VEVENT
BEGIN:VEVENT
DTSTART;TZID=America/New_York:20291024T113000
DTEND;TZID=America/New_York:20291024T130000
DTSTAMP:20260420T030151
CREATED:20251014T235420Z
LAST-MODIFIED:20251015T000734Z
UID:10000758-1887535800-1887541200@chattanoogametro.com
SUMMARY:Incredible Business Networking - Farm to Folk
DESCRIPTION:Sponsored by Jurgen Mootz with Tradebank of Chattanooga \nCome Out and Meet New People / Brings Cards\, Brochures\, Etc. Free to attend\, no dues or fees No membership required No attendance requirements No category restrictions No Exclusions – all inclusive Buy food/drink if you wish (optional) Check our website for updates.
URL:https://chattanoogametro.com/event/incredible-business-networking-6-2/2029-10-24/
LOCATION:Farm to Folk\, 120 General Lee Street\, Ringgold\, GA\, 30736
CATEGORIES:All Events,Networking Events
ATTACH;FMTTYPE=image/png:https://chattanoogametro.com/wp-content/uploads/2025/04/IBN-Logo.png
END:VEVENT
BEGIN:VEVENT
DTSTART;TZID=America/New_York:20291128T113000
DTEND;TZID=America/New_York:20291128T130000
DTSTAMP:20260420T030151
CREATED:20251014T235420Z
LAST-MODIFIED:20251015T000734Z
UID:10000759-1890559800-1890565200@chattanoogametro.com
SUMMARY:Incredible Business Networking - Farm to Folk
DESCRIPTION:Sponsored by Jurgen Mootz with Tradebank of Chattanooga \nCome Out and Meet New People / Brings Cards\, Brochures\, Etc. Free to attend\, no dues or fees No membership required No attendance requirements No category restrictions No Exclusions – all inclusive Buy food/drink if you wish (optional) Check our website for updates.
URL:https://chattanoogametro.com/event/incredible-business-networking-6-2/2029-11-28/
LOCATION:Farm to Folk\, 120 General Lee Street\, Ringgold\, GA\, 30736
CATEGORIES:All Events,Networking Events
ATTACH;FMTTYPE=image/png:https://chattanoogametro.com/wp-content/uploads/2025/04/IBN-Logo.png
END:VEVENT
BEGIN:VEVENT
DTSTART;TZID=America/New_York:20291226T113000
DTEND;TZID=America/New_York:20291226T130000
DTSTAMP:20260420T030151
CREATED:20251014T235420Z
LAST-MODIFIED:20251015T000734Z
UID:10000760-1892979000-1892984400@chattanoogametro.com
SUMMARY:Incredible Business Networking - Farm to Folk
DESCRIPTION:Sponsored by Jurgen Mootz with Tradebank of Chattanooga \nCome Out and Meet New People / Brings Cards\, Brochures\, Etc. Free to attend\, no dues or fees No membership required No attendance requirements No category restrictions No Exclusions – all inclusive Buy food/drink if you wish (optional) Check our website for updates.
URL:https://chattanoogametro.com/event/incredible-business-networking-6-2/2029-12-26/
LOCATION:Farm to Folk\, 120 General Lee Street\, Ringgold\, GA\, 30736
CATEGORIES:All Events,Networking Events
ATTACH;FMTTYPE=image/png:https://chattanoogametro.com/wp-content/uploads/2025/04/IBN-Logo.png
END:VEVENT
BEGIN:VEVENT
DTSTART;TZID=America/New_York:20300123T113000
DTEND;TZID=America/New_York:20300123T130000
DTSTAMP:20260420T030151
CREATED:20251014T235420Z
LAST-MODIFIED:20251015T000734Z
UID:10000761-1895398200-1895403600@chattanoogametro.com
SUMMARY:Incredible Business Networking - Farm to Folk
DESCRIPTION:Sponsored by Jurgen Mootz with Tradebank of Chattanooga \nCome Out and Meet New People / Brings Cards\, Brochures\, Etc. Free to attend\, no dues or fees No membership required No attendance requirements No category restrictions No Exclusions – all inclusive Buy food/drink if you wish (optional) Check our website for updates.
URL:https://chattanoogametro.com/event/incredible-business-networking-6-2/2030-01-23/
LOCATION:Farm to Folk\, 120 General Lee Street\, Ringgold\, GA\, 30736
CATEGORIES:All Events,Networking Events
ATTACH;FMTTYPE=image/png:https://chattanoogametro.com/wp-content/uploads/2025/04/IBN-Logo.png
END:VEVENT
BEGIN:VEVENT
DTSTART;TZID=America/New_York:20300227T113000
DTEND;TZID=America/New_York:20300227T130000
DTSTAMP:20260420T030151
CREATED:20251014T235420Z
LAST-MODIFIED:20251015T000734Z
UID:10000762-1898422200-1898427600@chattanoogametro.com
SUMMARY:Incredible Business Networking - Farm to Folk
DESCRIPTION:Sponsored by Jurgen Mootz with Tradebank of Chattanooga \nCome Out and Meet New People / Brings Cards\, Brochures\, Etc. Free to attend\, no dues or fees No membership required No attendance requirements No category restrictions No Exclusions – all inclusive Buy food/drink if you wish (optional) Check our website for updates.
URL:https://chattanoogametro.com/event/incredible-business-networking-6-2/2030-02-27/
LOCATION:Farm to Folk\, 120 General Lee Street\, Ringgold\, GA\, 30736
CATEGORIES:All Events,Networking Events
ATTACH;FMTTYPE=image/png:https://chattanoogametro.com/wp-content/uploads/2025/04/IBN-Logo.png
END:VEVENT
BEGIN:VEVENT
DTSTART;TZID=America/New_York:20300327T113000
DTEND;TZID=America/New_York:20300327T130000
DTSTAMP:20260420T030151
CREATED:20251014T235420Z
LAST-MODIFIED:20251015T000734Z
UID:10000763-1900841400-1900846800@chattanoogametro.com
SUMMARY:Incredible Business Networking - Farm to Folk
DESCRIPTION:Sponsored by Jurgen Mootz with Tradebank of Chattanooga \nCome Out and Meet New People / Brings Cards\, Brochures\, Etc. Free to attend\, no dues or fees No membership required No attendance requirements No category restrictions No Exclusions – all inclusive Buy food/drink if you wish (optional) Check our website for updates.
URL:https://chattanoogametro.com/event/incredible-business-networking-6-2/2030-03-27/
LOCATION:Farm to Folk\, 120 General Lee Street\, Ringgold\, GA\, 30736
CATEGORIES:All Events,Networking Events
ATTACH;FMTTYPE=image/png:https://chattanoogametro.com/wp-content/uploads/2025/04/IBN-Logo.png
END:VEVENT
BEGIN:VEVENT
DTSTART;TZID=America/New_York:20300424T113000
DTEND;TZID=America/New_York:20300424T130000
DTSTAMP:20260420T030151
CREATED:20251014T235420Z
LAST-MODIFIED:20251015T000734Z
UID:10000824-1903260600-1903266000@chattanoogametro.com
SUMMARY:Incredible Business Networking - Farm to Folk
DESCRIPTION:Sponsored by Jurgen Mootz with Tradebank of Chattanooga \nCome Out and Meet New People / Brings Cards\, Brochures\, Etc. Free to attend\, no dues or fees No membership required No attendance requirements No category restrictions No Exclusions – all inclusive Buy food/drink if you wish (optional) Check our website for updates.
URL:https://chattanoogametro.com/event/incredible-business-networking-6-2/2030-04-24/
LOCATION:Farm to Folk\, 120 General Lee Street\, Ringgold\, GA\, 30736
CATEGORIES:All Events,Networking Events
ATTACH;FMTTYPE=image/png:https://chattanoogametro.com/wp-content/uploads/2025/04/IBN-Logo.png
END:VEVENT
BEGIN:VEVENT
DTSTART;TZID=America/New_York:20300522T113000
DTEND;TZID=America/New_York:20300522T130000
DTSTAMP:20260420T030151
CREATED:20251014T235420Z
LAST-MODIFIED:20251015T000734Z
UID:10000905-1905679800-1905685200@chattanoogametro.com
SUMMARY:Incredible Business Networking - Farm to Folk
DESCRIPTION:Sponsored by Jurgen Mootz with Tradebank of Chattanooga \nCome Out and Meet New People / Brings Cards\, Brochures\, Etc. Free to attend\, no dues or fees No membership required No attendance requirements No category restrictions No Exclusions – all inclusive Buy food/drink if you wish (optional) Check our website for updates.
URL:https://chattanoogametro.com/event/incredible-business-networking-6-2/2030-05-22/
LOCATION:Farm to Folk\, 120 General Lee Street\, Ringgold\, GA\, 30736
CATEGORIES:All Events,Networking Events
ATTACH;FMTTYPE=image/png:https://chattanoogametro.com/wp-content/uploads/2025/04/IBN-Logo.png
END:VEVENT
BEGIN:VEVENT
DTSTART;TZID=America/New_York:20300626T113000
DTEND;TZID=America/New_York:20300626T130000
DTSTAMP:20260420T030151
CREATED:20251014T235420Z
LAST-MODIFIED:20251015T000734Z
UID:10000906-1908703800-1908709200@chattanoogametro.com
SUMMARY:Incredible Business Networking - Farm to Folk
DESCRIPTION:Sponsored by Jurgen Mootz with Tradebank of Chattanooga \nCome Out and Meet New People / Brings Cards\, Brochures\, Etc. Free to attend\, no dues or fees No membership required No attendance requirements No category restrictions No Exclusions – all inclusive Buy food/drink if you wish (optional) Check our website for updates.
URL:https://chattanoogametro.com/event/incredible-business-networking-6-2/2030-06-26/
LOCATION:Farm to Folk\, 120 General Lee Street\, Ringgold\, GA\, 30736
CATEGORIES:All Events,Networking Events
ATTACH;FMTTYPE=image/png:https://chattanoogametro.com/wp-content/uploads/2025/04/IBN-Logo.png
END:VEVENT
BEGIN:VEVENT
DTSTART;TZID=America/New_York:20300724T113000
DTEND;TZID=America/New_York:20300724T130000
DTSTAMP:20260420T030151
CREATED:20251014T235420Z
LAST-MODIFIED:20251015T000734Z
UID:10000922-1911123000-1911128400@chattanoogametro.com
SUMMARY:Incredible Business Networking - Farm to Folk
DESCRIPTION:Sponsored by Jurgen Mootz with Tradebank of Chattanooga \nCome Out and Meet New People / Brings Cards\, Brochures\, Etc. Free to attend\, no dues or fees No membership required No attendance requirements No category restrictions No Exclusions – all inclusive Buy food/drink if you wish (optional) Check our website for updates.
URL:https://chattanoogametro.com/event/incredible-business-networking-6-2/2030-07-24/
LOCATION:Farm to Folk\, 120 General Lee Street\, Ringgold\, GA\, 30736
CATEGORIES:All Events,Networking Events
ATTACH;FMTTYPE=image/png:https://chattanoogametro.com/wp-content/uploads/2025/04/IBN-Logo.png
END:VEVENT
BEGIN:VEVENT
DTSTART;TZID=America/New_York:20300828T113000
DTEND;TZID=America/New_York:20300828T130000
DTSTAMP:20260420T030151
CREATED:20251014T235420Z
LAST-MODIFIED:20251015T000734Z
UID:10000946-1914147000-1914152400@chattanoogametro.com
SUMMARY:Incredible Business Networking - Farm to Folk
DESCRIPTION:Sponsored by Jurgen Mootz with Tradebank of Chattanooga \nCome Out and Meet New People / Brings Cards\, Brochures\, Etc. Free to attend\, no dues or fees No membership required No attendance requirements No category restrictions No Exclusions – all inclusive Buy food/drink if you wish (optional) Check our website for updates.
URL:https://chattanoogametro.com/event/incredible-business-networking-6-2/2030-08-28/
LOCATION:Farm to Folk\, 120 General Lee Street\, Ringgold\, GA\, 30736
CATEGORIES:All Events,Networking Events
ATTACH;FMTTYPE=image/png:https://chattanoogametro.com/wp-content/uploads/2025/04/IBN-Logo.png
END:VEVENT
BEGIN:VEVENT
DTSTART;TZID=America/New_York:20300925T113000
DTEND;TZID=America/New_York:20300925T130000
DTSTAMP:20260420T030151
CREATED:20251014T235420Z
LAST-MODIFIED:20251015T000734Z
UID:10000947-1916566200-1916571600@chattanoogametro.com
SUMMARY:Incredible Business Networking - Farm to Folk
DESCRIPTION:Sponsored by Jurgen Mootz with Tradebank of Chattanooga \nCome Out and Meet New People / Brings Cards\, Brochures\, Etc. Free to attend\, no dues or fees No membership required No attendance requirements No category restrictions No Exclusions – all inclusive Buy food/drink if you wish (optional) Check our website for updates.
URL:https://chattanoogametro.com/event/incredible-business-networking-6-2/2030-09-25/
LOCATION:Farm to Folk\, 120 General Lee Street\, Ringgold\, GA\, 30736
CATEGORIES:All Events,Networking Events
ATTACH;FMTTYPE=image/png:https://chattanoogametro.com/wp-content/uploads/2025/04/IBN-Logo.png
END:VEVENT
BEGIN:VEVENT
DTSTART;TZID=America/New_York:20301023T113000
DTEND;TZID=America/New_York:20301023T130000
DTSTAMP:20260420T030151
CREATED:20251014T235420Z
LAST-MODIFIED:20251015T000734Z
UID:10001883-1918985400-1918990800@chattanoogametro.com
SUMMARY:Incredible Business Networking - Farm to Folk
DESCRIPTION:Sponsored by Jurgen Mootz with Tradebank of Chattanooga \nCome Out and Meet New People / Brings Cards\, Brochures\, Etc. Free to attend\, no dues or fees No membership required No attendance requirements No category restrictions No Exclusions – all inclusive Buy food/drink if you wish (optional) Check our website for updates.
URL:https://chattanoogametro.com/event/incredible-business-networking-6-2/2030-10-23/
LOCATION:Farm to Folk\, 120 General Lee Street\, Ringgold\, GA\, 30736
CATEGORIES:All Events,Networking Events
ATTACH;FMTTYPE=image/png:https://chattanoogametro.com/wp-content/uploads/2025/04/IBN-Logo.png
END:VEVENT
BEGIN:VEVENT
DTSTART;TZID=America/New_York:20301127T113000
DTEND;TZID=America/New_York:20301127T130000
DTSTAMP:20260420T030151
CREATED:20251014T235420Z
LAST-MODIFIED:20251015T000734Z
UID:10002310-1922009400-1922014800@chattanoogametro.com
SUMMARY:Incredible Business Networking - Farm to Folk
DESCRIPTION:Sponsored by Jurgen Mootz with Tradebank of Chattanooga \nCome Out and Meet New People / Brings Cards\, Brochures\, Etc. Free to attend\, no dues or fees No membership required No attendance requirements No category restrictions No Exclusions – all inclusive Buy food/drink if you wish (optional) Check our website for updates.
URL:https://chattanoogametro.com/event/incredible-business-networking-6-2/2030-11-27/
LOCATION:Farm to Folk\, 120 General Lee Street\, Ringgold\, GA\, 30736
CATEGORIES:All Events,Networking Events
ATTACH;FMTTYPE=image/png:https://chattanoogametro.com/wp-content/uploads/2025/04/IBN-Logo.png
END:VEVENT
BEGIN:VEVENT
DTSTART;TZID=America/New_York:20301225T113000
DTEND;TZID=America/New_York:20301225T130000
DTSTAMP:20260420T030151
CREATED:20251014T235420Z
LAST-MODIFIED:20251015T000734Z
UID:10002311-1924428600-1924434000@chattanoogametro.com
SUMMARY:Incredible Business Networking - Farm to Folk
DESCRIPTION:Sponsored by Jurgen Mootz with Tradebank of Chattanooga \nCome Out and Meet New People / Brings Cards\, Brochures\, Etc. Free to attend\, no dues or fees No membership required No attendance requirements No category restrictions No Exclusions – all inclusive Buy food/drink if you wish (optional) Check our website for updates.
URL:https://chattanoogametro.com/event/incredible-business-networking-6-2/2030-12-25/
LOCATION:Farm to Folk\, 120 General Lee Street\, Ringgold\, GA\, 30736
CATEGORIES:All Events,Networking Events
ATTACH;FMTTYPE=image/png:https://chattanoogametro.com/wp-content/uploads/2025/04/IBN-Logo.png
END:VEVENT
BEGIN:VEVENT
DTSTART;TZID=America/New_York:20310122T113000
DTEND;TZID=America/New_York:20310122T130000
DTSTAMP:20260420T030151
CREATED:20251014T235420Z
LAST-MODIFIED:20251015T000734Z
UID:10002318-1926847800-1926853200@chattanoogametro.com
SUMMARY:Incredible Business Networking - Farm to Folk
DESCRIPTION:Sponsored by Jurgen Mootz with Tradebank of Chattanooga \nCome Out and Meet New People / Brings Cards\, Brochures\, Etc. Free to attend\, no dues or fees No membership required No attendance requirements No category restrictions No Exclusions – all inclusive Buy food/drink if you wish (optional) Check our website for updates.
URL:https://chattanoogametro.com/event/incredible-business-networking-6-2/2031-01-22/
LOCATION:Farm to Folk\, 120 General Lee Street\, Ringgold\, GA\, 30736
CATEGORIES:All Events,Networking Events
ATTACH;FMTTYPE=image/png:https://chattanoogametro.com/wp-content/uploads/2025/04/IBN-Logo.png
END:VEVENT
BEGIN:VEVENT
DTSTART;TZID=America/New_York:20310226T113000
DTEND;TZID=America/New_York:20310226T130000
DTSTAMP:20260420T030151
CREATED:20251014T235420Z
LAST-MODIFIED:20251015T000734Z
UID:10002331-1929871800-1929877200@chattanoogametro.com
SUMMARY:Incredible Business Networking - Farm to Folk
DESCRIPTION:Sponsored by Jurgen Mootz with Tradebank of Chattanooga \nCome Out and Meet New People / Brings Cards\, Brochures\, Etc. Free to attend\, no dues or fees No membership required No attendance requirements No category restrictions No Exclusions – all inclusive Buy food/drink if you wish (optional) Check our website for updates.
URL:https://chattanoogametro.com/event/incredible-business-networking-6-2/2031-02-26/
LOCATION:Farm to Folk\, 120 General Lee Street\, Ringgold\, GA\, 30736
CATEGORIES:All Events,Networking Events
ATTACH;FMTTYPE=image/png:https://chattanoogametro.com/wp-content/uploads/2025/04/IBN-Logo.png
END:VEVENT
BEGIN:VEVENT
DTSTART;TZID=America/New_York:20310326T113000
DTEND;TZID=America/New_York:20310326T130000
DTSTAMP:20260420T030151
CREATED:20251014T235420Z
LAST-MODIFIED:20251015T000734Z
UID:10002344-1932291000-1932296400@chattanoogametro.com
SUMMARY:Incredible Business Networking - Farm to Folk
DESCRIPTION:Sponsored by Jurgen Mootz with Tradebank of Chattanooga \nCome Out and Meet New People / Brings Cards\, Brochures\, Etc. Free to attend\, no dues or fees No membership required No attendance requirements No category restrictions No Exclusions – all inclusive Buy food/drink if you wish (optional) Check our website for updates.
URL:https://chattanoogametro.com/event/incredible-business-networking-6-2/2031-03-26/
LOCATION:Farm to Folk\, 120 General Lee Street\, Ringgold\, GA\, 30736
CATEGORIES:All Events,Networking Events
ATTACH;FMTTYPE=image/png:https://chattanoogametro.com/wp-content/uploads/2025/04/IBN-Logo.png
END:VEVENT
END:VCALENDAR