BEGIN:VCALENDAR
VERSION:2.0
PRODID:-//Chattanooga Metro - ECPv6.15.20//NONSGML v1.0//EN
CALSCALE:GREGORIAN
METHOD:PUBLISH
X-WR-CALNAME:Chattanooga Metro
X-ORIGINAL-URL:https://chattanoogametro.com
X-WR-CALDESC:Events for Chattanooga Metro
REFRESH-INTERVAL;VALUE=DURATION:PT1H
X-Robots-Tag:noindex
X-PUBLISHED-TTL:PT1H
BEGIN:VTIMEZONE
TZID:America/New_York
BEGIN:DAYLIGHT
TZOFFSETFROM:-0500
TZOFFSETTO:-0400
TZNAME:EDT
DTSTART:20250309T070000
END:DAYLIGHT
BEGIN:STANDARD
TZOFFSETFROM:-0400
TZOFFSETTO:-0500
TZNAME:EST
DTSTART:20251102T060000
END:STANDARD
BEGIN:DAYLIGHT
TZOFFSETFROM:-0500
TZOFFSETTO:-0400
TZNAME:EDT
DTSTART:20260308T070000
END:DAYLIGHT
BEGIN:STANDARD
TZOFFSETFROM:-0400
TZOFFSETTO:-0500
TZNAME:EST
DTSTART:20261101T060000
END:STANDARD
BEGIN:DAYLIGHT
TZOFFSETFROM:-0500
TZOFFSETTO:-0400
TZNAME:EDT
DTSTART:20270314T070000
END:DAYLIGHT
BEGIN:STANDARD
TZOFFSETFROM:-0400
TZOFFSETTO:-0500
TZNAME:EST
DTSTART:20271107T060000
END:STANDARD
BEGIN:DAYLIGHT
TZOFFSETFROM:-0500
TZOFFSETTO:-0400
TZNAME:EDT
DTSTART:20280312T070000
END:DAYLIGHT
BEGIN:STANDARD
TZOFFSETFROM:-0400
TZOFFSETTO:-0500
TZNAME:EST
DTSTART:20281105T060000
END:STANDARD
BEGIN:DAYLIGHT
TZOFFSETFROM:-0500
TZOFFSETTO:-0400
TZNAME:EDT
DTSTART:20290311T070000
END:DAYLIGHT
BEGIN:STANDARD
TZOFFSETFROM:-0400
TZOFFSETTO:-0500
TZNAME:EST
DTSTART:20291104T060000
END:STANDARD
END:VTIMEZONE
BEGIN:VEVENT
DTSTART;TZID=America/New_York:20260422T113000
DTEND;TZID=America/New_York:20260422T130000
DTSTAMP:20260419T212629
CREATED:20251014T235420Z
LAST-MODIFIED:20251015T000734Z
UID:10000716-1776857400-1776862800@chattanoogametro.com
SUMMARY:Incredible Business Networking - Farm to Folk
DESCRIPTION:Sponsored by Jurgen Mootz with Tradebank of Chattanooga \nCome Out and Meet New People / Brings Cards\, Brochures\, Etc. Free to attend\, no dues or fees No membership required No attendance requirements No category restrictions No Exclusions – all inclusive Buy food/drink if you wish (optional) Check our website for updates.
URL:https://chattanoogametro.com/event/incredible-business-networking-6-2/2026-04-22/
LOCATION:Farm to Folk\, 120 General Lee Street\, Ringgold\, GA\, 30736
CATEGORIES:All Events,Networking Events
ATTACH;FMTTYPE=image/png:https://chattanoogametro.com/wp-content/uploads/2025/04/IBN-Logo.png
END:VEVENT
BEGIN:VEVENT
DTSTART;TZID=America/New_York:20260527T113000
DTEND;TZID=America/New_York:20260527T130000
DTSTAMP:20260419T212629
CREATED:20251014T235420Z
LAST-MODIFIED:20251015T000734Z
UID:10000717-1779881400-1779886800@chattanoogametro.com
SUMMARY:Incredible Business Networking - Farm to Folk
DESCRIPTION:Sponsored by Jurgen Mootz with Tradebank of Chattanooga \nCome Out and Meet New People / Brings Cards\, Brochures\, Etc. Free to attend\, no dues or fees No membership required No attendance requirements No category restrictions No Exclusions – all inclusive Buy food/drink if you wish (optional) Check our website for updates.
URL:https://chattanoogametro.com/event/incredible-business-networking-6-2/2026-05-27/
LOCATION:Farm to Folk\, 120 General Lee Street\, Ringgold\, GA\, 30736
CATEGORIES:All Events,Networking Events
ATTACH;FMTTYPE=image/png:https://chattanoogametro.com/wp-content/uploads/2025/04/IBN-Logo.png
END:VEVENT
BEGIN:VEVENT
DTSTART;TZID=America/New_York:20260624T113000
DTEND;TZID=America/New_York:20260624T130000
DTSTAMP:20260419T212629
CREATED:20251014T235420Z
LAST-MODIFIED:20251015T000734Z
UID:10000718-1782300600-1782306000@chattanoogametro.com
SUMMARY:Incredible Business Networking - Farm to Folk
DESCRIPTION:Sponsored by Jurgen Mootz with Tradebank of Chattanooga \nCome Out and Meet New People / Brings Cards\, Brochures\, Etc. Free to attend\, no dues or fees No membership required No attendance requirements No category restrictions No Exclusions – all inclusive Buy food/drink if you wish (optional) Check our website for updates.
URL:https://chattanoogametro.com/event/incredible-business-networking-6-2/2026-06-24/
LOCATION:Farm to Folk\, 120 General Lee Street\, Ringgold\, GA\, 30736
CATEGORIES:All Events,Networking Events
ATTACH;FMTTYPE=image/png:https://chattanoogametro.com/wp-content/uploads/2025/04/IBN-Logo.png
END:VEVENT
BEGIN:VEVENT
DTSTART;TZID=America/New_York:20260722T113000
DTEND;TZID=America/New_York:20260722T130000
DTSTAMP:20260419T212629
CREATED:20251014T235420Z
LAST-MODIFIED:20251015T000734Z
UID:10000719-1784719800-1784725200@chattanoogametro.com
SUMMARY:Incredible Business Networking - Farm to Folk
DESCRIPTION:Sponsored by Jurgen Mootz with Tradebank of Chattanooga \nCome Out and Meet New People / Brings Cards\, Brochures\, Etc. Free to attend\, no dues or fees No membership required No attendance requirements No category restrictions No Exclusions – all inclusive Buy food/drink if you wish (optional) Check our website for updates.
URL:https://chattanoogametro.com/event/incredible-business-networking-6-2/2026-07-22/
LOCATION:Farm to Folk\, 120 General Lee Street\, Ringgold\, GA\, 30736
CATEGORIES:All Events,Networking Events
ATTACH;FMTTYPE=image/png:https://chattanoogametro.com/wp-content/uploads/2025/04/IBN-Logo.png
END:VEVENT
BEGIN:VEVENT
DTSTART;TZID=America/New_York:20260826T113000
DTEND;TZID=America/New_York:20260826T130000
DTSTAMP:20260419T212629
CREATED:20251014T235420Z
LAST-MODIFIED:20251015T000734Z
UID:10000720-1787743800-1787749200@chattanoogametro.com
SUMMARY:Incredible Business Networking - Farm to Folk
DESCRIPTION:Sponsored by Jurgen Mootz with Tradebank of Chattanooga \nCome Out and Meet New People / Brings Cards\, Brochures\, Etc. Free to attend\, no dues or fees No membership required No attendance requirements No category restrictions No Exclusions – all inclusive Buy food/drink if you wish (optional) Check our website for updates.
URL:https://chattanoogametro.com/event/incredible-business-networking-6-2/2026-08-26/
LOCATION:Farm to Folk\, 120 General Lee Street\, Ringgold\, GA\, 30736
CATEGORIES:All Events,Networking Events
ATTACH;FMTTYPE=image/png:https://chattanoogametro.com/wp-content/uploads/2025/04/IBN-Logo.png
END:VEVENT
BEGIN:VEVENT
DTSTART;TZID=America/New_York:20260923T113000
DTEND;TZID=America/New_York:20260923T130000
DTSTAMP:20260419T212629
CREATED:20251014T235420Z
LAST-MODIFIED:20251015T000734Z
UID:10000721-1790163000-1790168400@chattanoogametro.com
SUMMARY:Incredible Business Networking - Farm to Folk
DESCRIPTION:Sponsored by Jurgen Mootz with Tradebank of Chattanooga \nCome Out and Meet New People / Brings Cards\, Brochures\, Etc. Free to attend\, no dues or fees No membership required No attendance requirements No category restrictions No Exclusions – all inclusive Buy food/drink if you wish (optional) Check our website for updates.
URL:https://chattanoogametro.com/event/incredible-business-networking-6-2/2026-09-23/
LOCATION:Farm to Folk\, 120 General Lee Street\, Ringgold\, GA\, 30736
CATEGORIES:All Events,Networking Events
ATTACH;FMTTYPE=image/png:https://chattanoogametro.com/wp-content/uploads/2025/04/IBN-Logo.png
END:VEVENT
BEGIN:VEVENT
DTSTART;TZID=America/New_York:20261028T113000
DTEND;TZID=America/New_York:20261028T130000
DTSTAMP:20260419T212629
CREATED:20251014T235420Z
LAST-MODIFIED:20251015T000734Z
UID:10000722-1793187000-1793192400@chattanoogametro.com
SUMMARY:Incredible Business Networking - Farm to Folk
DESCRIPTION:Sponsored by Jurgen Mootz with Tradebank of Chattanooga \nCome Out and Meet New People / Brings Cards\, Brochures\, Etc. Free to attend\, no dues or fees No membership required No attendance requirements No category restrictions No Exclusions – all inclusive Buy food/drink if you wish (optional) Check our website for updates.
URL:https://chattanoogametro.com/event/incredible-business-networking-6-2/2026-10-28/
LOCATION:Farm to Folk\, 120 General Lee Street\, Ringgold\, GA\, 30736
CATEGORIES:All Events,Networking Events
ATTACH;FMTTYPE=image/png:https://chattanoogametro.com/wp-content/uploads/2025/04/IBN-Logo.png
END:VEVENT
BEGIN:VEVENT
DTSTART;TZID=America/New_York:20261125T113000
DTEND;TZID=America/New_York:20261125T130000
DTSTAMP:20260419T212629
CREATED:20251014T235420Z
LAST-MODIFIED:20251015T000734Z
UID:10000723-1795606200-1795611600@chattanoogametro.com
SUMMARY:Incredible Business Networking - Farm to Folk
DESCRIPTION:Sponsored by Jurgen Mootz with Tradebank of Chattanooga \nCome Out and Meet New People / Brings Cards\, Brochures\, Etc. Free to attend\, no dues or fees No membership required No attendance requirements No category restrictions No Exclusions – all inclusive Buy food/drink if you wish (optional) Check our website for updates.
URL:https://chattanoogametro.com/event/incredible-business-networking-6-2/2026-11-25/
LOCATION:Farm to Folk\, 120 General Lee Street\, Ringgold\, GA\, 30736
CATEGORIES:All Events,Networking Events
ATTACH;FMTTYPE=image/png:https://chattanoogametro.com/wp-content/uploads/2025/04/IBN-Logo.png
END:VEVENT
BEGIN:VEVENT
DTSTART;TZID=America/New_York:20261223T113000
DTEND;TZID=America/New_York:20261223T130000
DTSTAMP:20260419T212629
CREATED:20251014T235420Z
LAST-MODIFIED:20251015T000734Z
UID:10000724-1798025400-1798030800@chattanoogametro.com
SUMMARY:Incredible Business Networking - Farm to Folk
DESCRIPTION:Sponsored by Jurgen Mootz with Tradebank of Chattanooga \nCome Out and Meet New People / Brings Cards\, Brochures\, Etc. Free to attend\, no dues or fees No membership required No attendance requirements No category restrictions No Exclusions – all inclusive Buy food/drink if you wish (optional) Check our website for updates.
URL:https://chattanoogametro.com/event/incredible-business-networking-6-2/2026-12-23/
LOCATION:Farm to Folk\, 120 General Lee Street\, Ringgold\, GA\, 30736
CATEGORIES:All Events,Networking Events
ATTACH;FMTTYPE=image/png:https://chattanoogametro.com/wp-content/uploads/2025/04/IBN-Logo.png
END:VEVENT
BEGIN:VEVENT
DTSTART;TZID=America/New_York:20270127T113000
DTEND;TZID=America/New_York:20270127T130000
DTSTAMP:20260419T212629
CREATED:20251014T235420Z
LAST-MODIFIED:20251015T000734Z
UID:10000725-1801049400-1801054800@chattanoogametro.com
SUMMARY:Incredible Business Networking - Farm to Folk
DESCRIPTION:Sponsored by Jurgen Mootz with Tradebank of Chattanooga \nCome Out and Meet New People / Brings Cards\, Brochures\, Etc. Free to attend\, no dues or fees No membership required No attendance requirements No category restrictions No Exclusions – all inclusive Buy food/drink if you wish (optional) Check our website for updates.
URL:https://chattanoogametro.com/event/incredible-business-networking-6-2/2027-01-27/
LOCATION:Farm to Folk\, 120 General Lee Street\, Ringgold\, GA\, 30736
CATEGORIES:All Events,Networking Events
ATTACH;FMTTYPE=image/png:https://chattanoogametro.com/wp-content/uploads/2025/04/IBN-Logo.png
END:VEVENT
BEGIN:VEVENT
DTSTART;TZID=America/New_York:20270224T113000
DTEND;TZID=America/New_York:20270224T130000
DTSTAMP:20260419T212629
CREATED:20251014T235420Z
LAST-MODIFIED:20251015T000734Z
UID:10000726-1803468600-1803474000@chattanoogametro.com
SUMMARY:Incredible Business Networking - Farm to Folk
DESCRIPTION:Sponsored by Jurgen Mootz with Tradebank of Chattanooga \nCome Out and Meet New People / Brings Cards\, Brochures\, Etc. Free to attend\, no dues or fees No membership required No attendance requirements No category restrictions No Exclusions – all inclusive Buy food/drink if you wish (optional) Check our website for updates.
URL:https://chattanoogametro.com/event/incredible-business-networking-6-2/2027-02-24/
LOCATION:Farm to Folk\, 120 General Lee Street\, Ringgold\, GA\, 30736
CATEGORIES:All Events,Networking Events
ATTACH;FMTTYPE=image/png:https://chattanoogametro.com/wp-content/uploads/2025/04/IBN-Logo.png
END:VEVENT
BEGIN:VEVENT
DTSTART;TZID=America/New_York:20270324T113000
DTEND;TZID=America/New_York:20270324T130000
DTSTAMP:20260419T212629
CREATED:20251014T235420Z
LAST-MODIFIED:20251015T000734Z
UID:10000727-1805887800-1805893200@chattanoogametro.com
SUMMARY:Incredible Business Networking - Farm to Folk
DESCRIPTION:Sponsored by Jurgen Mootz with Tradebank of Chattanooga \nCome Out and Meet New People / Brings Cards\, Brochures\, Etc. Free to attend\, no dues or fees No membership required No attendance requirements No category restrictions No Exclusions – all inclusive Buy food/drink if you wish (optional) Check our website for updates.
URL:https://chattanoogametro.com/event/incredible-business-networking-6-2/2027-03-24/
LOCATION:Farm to Folk\, 120 General Lee Street\, Ringgold\, GA\, 30736
CATEGORIES:All Events,Networking Events
ATTACH;FMTTYPE=image/png:https://chattanoogametro.com/wp-content/uploads/2025/04/IBN-Logo.png
END:VEVENT
BEGIN:VEVENT
DTSTART;TZID=America/New_York:20270428T113000
DTEND;TZID=America/New_York:20270428T130000
DTSTAMP:20260419T212629
CREATED:20251014T235420Z
LAST-MODIFIED:20251015T000734Z
UID:10000728-1808911800-1808917200@chattanoogametro.com
SUMMARY:Incredible Business Networking - Farm to Folk
DESCRIPTION:Sponsored by Jurgen Mootz with Tradebank of Chattanooga \nCome Out and Meet New People / Brings Cards\, Brochures\, Etc. Free to attend\, no dues or fees No membership required No attendance requirements No category restrictions No Exclusions – all inclusive Buy food/drink if you wish (optional) Check our website for updates.
URL:https://chattanoogametro.com/event/incredible-business-networking-6-2/2027-04-28/
LOCATION:Farm to Folk\, 120 General Lee Street\, Ringgold\, GA\, 30736
CATEGORIES:All Events,Networking Events
ATTACH;FMTTYPE=image/png:https://chattanoogametro.com/wp-content/uploads/2025/04/IBN-Logo.png
END:VEVENT
BEGIN:VEVENT
DTSTART;TZID=America/New_York:20270526T113000
DTEND;TZID=America/New_York:20270526T130000
DTSTAMP:20260419T212629
CREATED:20251014T235420Z
LAST-MODIFIED:20251015T000734Z
UID:10000729-1811331000-1811336400@chattanoogametro.com
SUMMARY:Incredible Business Networking - Farm to Folk
DESCRIPTION:Sponsored by Jurgen Mootz with Tradebank of Chattanooga \nCome Out and Meet New People / Brings Cards\, Brochures\, Etc. Free to attend\, no dues or fees No membership required No attendance requirements No category restrictions No Exclusions – all inclusive Buy food/drink if you wish (optional) Check our website for updates.
URL:https://chattanoogametro.com/event/incredible-business-networking-6-2/2027-05-26/
LOCATION:Farm to Folk\, 120 General Lee Street\, Ringgold\, GA\, 30736
CATEGORIES:All Events,Networking Events
ATTACH;FMTTYPE=image/png:https://chattanoogametro.com/wp-content/uploads/2025/04/IBN-Logo.png
END:VEVENT
BEGIN:VEVENT
DTSTART;TZID=America/New_York:20270623T113000
DTEND;TZID=America/New_York:20270623T130000
DTSTAMP:20260419T212629
CREATED:20251014T235420Z
LAST-MODIFIED:20251015T000734Z
UID:10000730-1813750200-1813755600@chattanoogametro.com
SUMMARY:Incredible Business Networking - Farm to Folk
DESCRIPTION:Sponsored by Jurgen Mootz with Tradebank of Chattanooga \nCome Out and Meet New People / Brings Cards\, Brochures\, Etc. Free to attend\, no dues or fees No membership required No attendance requirements No category restrictions No Exclusions – all inclusive Buy food/drink if you wish (optional) Check our website for updates.
URL:https://chattanoogametro.com/event/incredible-business-networking-6-2/2027-06-23/
LOCATION:Farm to Folk\, 120 General Lee Street\, Ringgold\, GA\, 30736
CATEGORIES:All Events,Networking Events
ATTACH;FMTTYPE=image/png:https://chattanoogametro.com/wp-content/uploads/2025/04/IBN-Logo.png
END:VEVENT
BEGIN:VEVENT
DTSTART;TZID=America/New_York:20270728T113000
DTEND;TZID=America/New_York:20270728T130000
DTSTAMP:20260419T212629
CREATED:20251014T235420Z
LAST-MODIFIED:20251015T000734Z
UID:10000731-1816774200-1816779600@chattanoogametro.com
SUMMARY:Incredible Business Networking - Farm to Folk
DESCRIPTION:Sponsored by Jurgen Mootz with Tradebank of Chattanooga \nCome Out and Meet New People / Brings Cards\, Brochures\, Etc. Free to attend\, no dues or fees No membership required No attendance requirements No category restrictions No Exclusions – all inclusive Buy food/drink if you wish (optional) Check our website for updates.
URL:https://chattanoogametro.com/event/incredible-business-networking-6-2/2027-07-28/
LOCATION:Farm to Folk\, 120 General Lee Street\, Ringgold\, GA\, 30736
CATEGORIES:All Events,Networking Events
ATTACH;FMTTYPE=image/png:https://chattanoogametro.com/wp-content/uploads/2025/04/IBN-Logo.png
END:VEVENT
BEGIN:VEVENT
DTSTART;TZID=America/New_York:20270825T113000
DTEND;TZID=America/New_York:20270825T130000
DTSTAMP:20260419T212629
CREATED:20251014T235420Z
LAST-MODIFIED:20251015T000734Z
UID:10000732-1819193400-1819198800@chattanoogametro.com
SUMMARY:Incredible Business Networking - Farm to Folk
DESCRIPTION:Sponsored by Jurgen Mootz with Tradebank of Chattanooga \nCome Out and Meet New People / Brings Cards\, Brochures\, Etc. Free to attend\, no dues or fees No membership required No attendance requirements No category restrictions No Exclusions – all inclusive Buy food/drink if you wish (optional) Check our website for updates.
URL:https://chattanoogametro.com/event/incredible-business-networking-6-2/2027-08-25/
LOCATION:Farm to Folk\, 120 General Lee Street\, Ringgold\, GA\, 30736
CATEGORIES:All Events,Networking Events
ATTACH;FMTTYPE=image/png:https://chattanoogametro.com/wp-content/uploads/2025/04/IBN-Logo.png
END:VEVENT
BEGIN:VEVENT
DTSTART;TZID=America/New_York:20270922T113000
DTEND;TZID=America/New_York:20270922T130000
DTSTAMP:20260419T212629
CREATED:20251014T235420Z
LAST-MODIFIED:20251015T000734Z
UID:10000733-1821612600-1821618000@chattanoogametro.com
SUMMARY:Incredible Business Networking - Farm to Folk
DESCRIPTION:Sponsored by Jurgen Mootz with Tradebank of Chattanooga \nCome Out and Meet New People / Brings Cards\, Brochures\, Etc. Free to attend\, no dues or fees No membership required No attendance requirements No category restrictions No Exclusions – all inclusive Buy food/drink if you wish (optional) Check our website for updates.
URL:https://chattanoogametro.com/event/incredible-business-networking-6-2/2027-09-22/
LOCATION:Farm to Folk\, 120 General Lee Street\, Ringgold\, GA\, 30736
CATEGORIES:All Events,Networking Events
ATTACH;FMTTYPE=image/png:https://chattanoogametro.com/wp-content/uploads/2025/04/IBN-Logo.png
END:VEVENT
BEGIN:VEVENT
DTSTART;TZID=America/New_York:20271027T113000
DTEND;TZID=America/New_York:20271027T130000
DTSTAMP:20260419T212629
CREATED:20251014T235420Z
LAST-MODIFIED:20251015T000734Z
UID:10000734-1824636600-1824642000@chattanoogametro.com
SUMMARY:Incredible Business Networking - Farm to Folk
DESCRIPTION:Sponsored by Jurgen Mootz with Tradebank of Chattanooga \nCome Out and Meet New People / Brings Cards\, Brochures\, Etc. Free to attend\, no dues or fees No membership required No attendance requirements No category restrictions No Exclusions – all inclusive Buy food/drink if you wish (optional) Check our website for updates.
URL:https://chattanoogametro.com/event/incredible-business-networking-6-2/2027-10-27/
LOCATION:Farm to Folk\, 120 General Lee Street\, Ringgold\, GA\, 30736
CATEGORIES:All Events,Networking Events
ATTACH;FMTTYPE=image/png:https://chattanoogametro.com/wp-content/uploads/2025/04/IBN-Logo.png
END:VEVENT
BEGIN:VEVENT
DTSTART;TZID=America/New_York:20271124T113000
DTEND;TZID=America/New_York:20271124T130000
DTSTAMP:20260419T212629
CREATED:20251014T235420Z
LAST-MODIFIED:20251015T000734Z
UID:10000735-1827055800-1827061200@chattanoogametro.com
SUMMARY:Incredible Business Networking - Farm to Folk
DESCRIPTION:Sponsored by Jurgen Mootz with Tradebank of Chattanooga \nCome Out and Meet New People / Brings Cards\, Brochures\, Etc. Free to attend\, no dues or fees No membership required No attendance requirements No category restrictions No Exclusions – all inclusive Buy food/drink if you wish (optional) Check our website for updates.
URL:https://chattanoogametro.com/event/incredible-business-networking-6-2/2027-11-24/
LOCATION:Farm to Folk\, 120 General Lee Street\, Ringgold\, GA\, 30736
CATEGORIES:All Events,Networking Events
ATTACH;FMTTYPE=image/png:https://chattanoogametro.com/wp-content/uploads/2025/04/IBN-Logo.png
END:VEVENT
BEGIN:VEVENT
DTSTART;TZID=America/New_York:20271222T113000
DTEND;TZID=America/New_York:20271222T130000
DTSTAMP:20260419T212629
CREATED:20251014T235420Z
LAST-MODIFIED:20251015T000734Z
UID:10000736-1829475000-1829480400@chattanoogametro.com
SUMMARY:Incredible Business Networking - Farm to Folk
DESCRIPTION:Sponsored by Jurgen Mootz with Tradebank of Chattanooga \nCome Out and Meet New People / Brings Cards\, Brochures\, Etc. Free to attend\, no dues or fees No membership required No attendance requirements No category restrictions No Exclusions – all inclusive Buy food/drink if you wish (optional) Check our website for updates.
URL:https://chattanoogametro.com/event/incredible-business-networking-6-2/2027-12-22/
LOCATION:Farm to Folk\, 120 General Lee Street\, Ringgold\, GA\, 30736
CATEGORIES:All Events,Networking Events
ATTACH;FMTTYPE=image/png:https://chattanoogametro.com/wp-content/uploads/2025/04/IBN-Logo.png
END:VEVENT
BEGIN:VEVENT
DTSTART;TZID=America/New_York:20280126T113000
DTEND;TZID=America/New_York:20280126T130000
DTSTAMP:20260419T212629
CREATED:20251014T235420Z
LAST-MODIFIED:20251015T000734Z
UID:10000737-1832499000-1832504400@chattanoogametro.com
SUMMARY:Incredible Business Networking - Farm to Folk
DESCRIPTION:Sponsored by Jurgen Mootz with Tradebank of Chattanooga \nCome Out and Meet New People / Brings Cards\, Brochures\, Etc. Free to attend\, no dues or fees No membership required No attendance requirements No category restrictions No Exclusions – all inclusive Buy food/drink if you wish (optional) Check our website for updates.
URL:https://chattanoogametro.com/event/incredible-business-networking-6-2/2028-01-26/
LOCATION:Farm to Folk\, 120 General Lee Street\, Ringgold\, GA\, 30736
CATEGORIES:All Events,Networking Events
ATTACH;FMTTYPE=image/png:https://chattanoogametro.com/wp-content/uploads/2025/04/IBN-Logo.png
END:VEVENT
BEGIN:VEVENT
DTSTART;TZID=America/New_York:20280223T113000
DTEND;TZID=America/New_York:20280223T130000
DTSTAMP:20260419T212629
CREATED:20251014T235420Z
LAST-MODIFIED:20251015T000734Z
UID:10000738-1834918200-1834923600@chattanoogametro.com
SUMMARY:Incredible Business Networking - Farm to Folk
DESCRIPTION:Sponsored by Jurgen Mootz with Tradebank of Chattanooga \nCome Out and Meet New People / Brings Cards\, Brochures\, Etc. Free to attend\, no dues or fees No membership required No attendance requirements No category restrictions No Exclusions – all inclusive Buy food/drink if you wish (optional) Check our website for updates.
URL:https://chattanoogametro.com/event/incredible-business-networking-6-2/2028-02-23/
LOCATION:Farm to Folk\, 120 General Lee Street\, Ringgold\, GA\, 30736
CATEGORIES:All Events,Networking Events
ATTACH;FMTTYPE=image/png:https://chattanoogametro.com/wp-content/uploads/2025/04/IBN-Logo.png
END:VEVENT
BEGIN:VEVENT
DTSTART;TZID=America/New_York:20280322T113000
DTEND;TZID=America/New_York:20280322T130000
DTSTAMP:20260419T212629
CREATED:20251014T235420Z
LAST-MODIFIED:20251015T000734Z
UID:10000739-1837337400-1837342800@chattanoogametro.com
SUMMARY:Incredible Business Networking - Farm to Folk
DESCRIPTION:Sponsored by Jurgen Mootz with Tradebank of Chattanooga \nCome Out and Meet New People / Brings Cards\, Brochures\, Etc. Free to attend\, no dues or fees No membership required No attendance requirements No category restrictions No Exclusions – all inclusive Buy food/drink if you wish (optional) Check our website for updates.
URL:https://chattanoogametro.com/event/incredible-business-networking-6-2/2028-03-22/
LOCATION:Farm to Folk\, 120 General Lee Street\, Ringgold\, GA\, 30736
CATEGORIES:All Events,Networking Events
ATTACH;FMTTYPE=image/png:https://chattanoogametro.com/wp-content/uploads/2025/04/IBN-Logo.png
END:VEVENT
BEGIN:VEVENT
DTSTART;TZID=America/New_York:20280426T113000
DTEND;TZID=America/New_York:20280426T130000
DTSTAMP:20260419T212629
CREATED:20251014T235420Z
LAST-MODIFIED:20251015T000734Z
UID:10000740-1840361400-1840366800@chattanoogametro.com
SUMMARY:Incredible Business Networking - Farm to Folk
DESCRIPTION:Sponsored by Jurgen Mootz with Tradebank of Chattanooga \nCome Out and Meet New People / Brings Cards\, Brochures\, Etc. Free to attend\, no dues or fees No membership required No attendance requirements No category restrictions No Exclusions – all inclusive Buy food/drink if you wish (optional) Check our website for updates.
URL:https://chattanoogametro.com/event/incredible-business-networking-6-2/2028-04-26/
LOCATION:Farm to Folk\, 120 General Lee Street\, Ringgold\, GA\, 30736
CATEGORIES:All Events,Networking Events
ATTACH;FMTTYPE=image/png:https://chattanoogametro.com/wp-content/uploads/2025/04/IBN-Logo.png
END:VEVENT
BEGIN:VEVENT
DTSTART;TZID=America/New_York:20280524T113000
DTEND;TZID=America/New_York:20280524T130000
DTSTAMP:20260419T212629
CREATED:20251014T235420Z
LAST-MODIFIED:20251015T000734Z
UID:10000741-1842780600-1842786000@chattanoogametro.com
SUMMARY:Incredible Business Networking - Farm to Folk
DESCRIPTION:Sponsored by Jurgen Mootz with Tradebank of Chattanooga \nCome Out and Meet New People / Brings Cards\, Brochures\, Etc. Free to attend\, no dues or fees No membership required No attendance requirements No category restrictions No Exclusions – all inclusive Buy food/drink if you wish (optional) Check our website for updates.
URL:https://chattanoogametro.com/event/incredible-business-networking-6-2/2028-05-24/
LOCATION:Farm to Folk\, 120 General Lee Street\, Ringgold\, GA\, 30736
CATEGORIES:All Events,Networking Events
ATTACH;FMTTYPE=image/png:https://chattanoogametro.com/wp-content/uploads/2025/04/IBN-Logo.png
END:VEVENT
BEGIN:VEVENT
DTSTART;TZID=America/New_York:20280628T113000
DTEND;TZID=America/New_York:20280628T130000
DTSTAMP:20260419T212629
CREATED:20251014T235420Z
LAST-MODIFIED:20251015T000734Z
UID:10000742-1845804600-1845810000@chattanoogametro.com
SUMMARY:Incredible Business Networking - Farm to Folk
DESCRIPTION:Sponsored by Jurgen Mootz with Tradebank of Chattanooga \nCome Out and Meet New People / Brings Cards\, Brochures\, Etc. Free to attend\, no dues or fees No membership required No attendance requirements No category restrictions No Exclusions – all inclusive Buy food/drink if you wish (optional) Check our website for updates.
URL:https://chattanoogametro.com/event/incredible-business-networking-6-2/2028-06-28/
LOCATION:Farm to Folk\, 120 General Lee Street\, Ringgold\, GA\, 30736
CATEGORIES:All Events,Networking Events
ATTACH;FMTTYPE=image/png:https://chattanoogametro.com/wp-content/uploads/2025/04/IBN-Logo.png
END:VEVENT
BEGIN:VEVENT
DTSTART;TZID=America/New_York:20280726T113000
DTEND;TZID=America/New_York:20280726T130000
DTSTAMP:20260419T212629
CREATED:20251014T235420Z
LAST-MODIFIED:20251015T000734Z
UID:10000743-1848223800-1848229200@chattanoogametro.com
SUMMARY:Incredible Business Networking - Farm to Folk
DESCRIPTION:Sponsored by Jurgen Mootz with Tradebank of Chattanooga \nCome Out and Meet New People / Brings Cards\, Brochures\, Etc. Free to attend\, no dues or fees No membership required No attendance requirements No category restrictions No Exclusions – all inclusive Buy food/drink if you wish (optional) Check our website for updates.
URL:https://chattanoogametro.com/event/incredible-business-networking-6-2/2028-07-26/
LOCATION:Farm to Folk\, 120 General Lee Street\, Ringgold\, GA\, 30736
CATEGORIES:All Events,Networking Events
ATTACH;FMTTYPE=image/png:https://chattanoogametro.com/wp-content/uploads/2025/04/IBN-Logo.png
END:VEVENT
BEGIN:VEVENT
DTSTART;TZID=America/New_York:20280823T113000
DTEND;TZID=America/New_York:20280823T130000
DTSTAMP:20260419T212629
CREATED:20251014T235420Z
LAST-MODIFIED:20251015T000734Z
UID:10000744-1850643000-1850648400@chattanoogametro.com
SUMMARY:Incredible Business Networking - Farm to Folk
DESCRIPTION:Sponsored by Jurgen Mootz with Tradebank of Chattanooga \nCome Out and Meet New People / Brings Cards\, Brochures\, Etc. Free to attend\, no dues or fees No membership required No attendance requirements No category restrictions No Exclusions – all inclusive Buy food/drink if you wish (optional) Check our website for updates.
URL:https://chattanoogametro.com/event/incredible-business-networking-6-2/2028-08-23/
LOCATION:Farm to Folk\, 120 General Lee Street\, Ringgold\, GA\, 30736
CATEGORIES:All Events,Networking Events
ATTACH;FMTTYPE=image/png:https://chattanoogametro.com/wp-content/uploads/2025/04/IBN-Logo.png
END:VEVENT
BEGIN:VEVENT
DTSTART;TZID=America/New_York:20280927T113000
DTEND;TZID=America/New_York:20280927T130000
DTSTAMP:20260419T212629
CREATED:20251014T235420Z
LAST-MODIFIED:20251015T000734Z
UID:10000745-1853667000-1853672400@chattanoogametro.com
SUMMARY:Incredible Business Networking - Farm to Folk
DESCRIPTION:Sponsored by Jurgen Mootz with Tradebank of Chattanooga \nCome Out and Meet New People / Brings Cards\, Brochures\, Etc. Free to attend\, no dues or fees No membership required No attendance requirements No category restrictions No Exclusions – all inclusive Buy food/drink if you wish (optional) Check our website for updates.
URL:https://chattanoogametro.com/event/incredible-business-networking-6-2/2028-09-27/
LOCATION:Farm to Folk\, 120 General Lee Street\, Ringgold\, GA\, 30736
CATEGORIES:All Events,Networking Events
ATTACH;FMTTYPE=image/png:https://chattanoogametro.com/wp-content/uploads/2025/04/IBN-Logo.png
END:VEVENT
END:VCALENDAR