BEGIN:VCALENDAR
VERSION:2.0
PRODID:-//Chattanooga Metro - ECPv6.15.20//NONSGML v1.0//EN
CALSCALE:GREGORIAN
METHOD:PUBLISH
X-ORIGINAL-URL:https://chattanoogametro.com
X-WR-CALDESC:Events for Chattanooga Metro
REFRESH-INTERVAL;VALUE=DURATION:PT1H
X-Robots-Tag:noindex
X-PUBLISHED-TTL:PT1H
BEGIN:VTIMEZONE
TZID:America/New_York
BEGIN:DAYLIGHT
TZOFFSETFROM:-0500
TZOFFSETTO:-0400
TZNAME:EDT
DTSTART:20250309T070000
END:DAYLIGHT
BEGIN:STANDARD
TZOFFSETFROM:-0400
TZOFFSETTO:-0500
TZNAME:EST
DTSTART:20251102T060000
END:STANDARD
BEGIN:DAYLIGHT
TZOFFSETFROM:-0500
TZOFFSETTO:-0400
TZNAME:EDT
DTSTART:20260308T070000
END:DAYLIGHT
BEGIN:STANDARD
TZOFFSETFROM:-0400
TZOFFSETTO:-0500
TZNAME:EST
DTSTART:20261101T060000
END:STANDARD
BEGIN:DAYLIGHT
TZOFFSETFROM:-0500
TZOFFSETTO:-0400
TZNAME:EDT
DTSTART:20270314T070000
END:DAYLIGHT
BEGIN:STANDARD
TZOFFSETFROM:-0400
TZOFFSETTO:-0500
TZNAME:EST
DTSTART:20271107T060000
END:STANDARD
END:VTIMEZONE
BEGIN:VTIMEZONE
TZID:UTC
BEGIN:STANDARD
TZOFFSETFROM:+0000
TZOFFSETTO:+0000
TZNAME:UTC
DTSTART:20250101T000000
END:STANDARD
END:VTIMEZONE
BEGIN:VEVENT
DTSTART;TZID=America/New_York:20260527T113000
DTEND;TZID=America/New_York:20260527T130000
DTSTAMP:20260420T184739
CREATED:20251014T235420Z
LAST-MODIFIED:20251015T000734Z
UID:10000717-1779881400-1779886800@chattanoogametro.com
SUMMARY:Incredible Business Networking - Farm to Folk
DESCRIPTION:Sponsored by Jurgen Mootz with Tradebank of Chattanooga \nCome Out and Meet New People / Brings Cards\, Brochures\, Etc. Free to attend\, no dues or fees No membership required No attendance requirements No category restrictions No Exclusions – all inclusive Buy food/drink if you wish (optional) Check our website for updates.
URL:https://chattanoogametro.com/event/incredible-business-networking-6-2/2026-05-27/
LOCATION:Farm to Folk\, 120 General Lee Street\, Ringgold\, GA\, 30736
CATEGORIES:All Events,Networking Events
ATTACH;FMTTYPE=image/png:https://chattanoogametro.com/wp-content/uploads/2025/04/IBN-Logo.png
END:VEVENT
BEGIN:VEVENT
DTSTART;TZID=America/New_York:20260601T170000
DTEND;TZID=America/New_York:20260601T190000
DTSTAMP:20260420T184739
CREATED:20251014T213604Z
LAST-MODIFIED:20251014T235156Z
UID:10001512-1780333200-1780340400@chattanoogametro.com
SUMMARY:Incredible Business Networking - Amigos
DESCRIPTION:Sponsored by Jurgen Mootz with Tradebank of Chattanooga \nCome Out and Meet New People / Brings Cards\, Brochures\, Etc. Free to attend\, no dues or fees No membership required No attendance requirements No category restrictions No Exclusions – all inclusive Buy food/drink if you wish (optional) Check our website for updates. \nLocated inside Island Cove Marina
URL:https://chattanoogametro.com/event/incredible-business-networking-9/2026-06-01/
LOCATION:Amigos Mexican Rest\, 6830 Flamingo Lane\, Harrison\, TN\, 37341\, United States
CATEGORIES:All Events,Networking Events
ATTACH;FMTTYPE=image/png:https://chattanoogametro.com/wp-content/uploads/2025/04/IBN-Logo.png
END:VEVENT
BEGIN:VEVENT
DTSTART;TZID=America/New_York:20260602T173000
DTEND;TZID=America/New_York:20260602T190000
DTSTAMP:20260420T184739
CREATED:20251014T213946Z
LAST-MODIFIED:20251014T235053Z
UID:10001572-1780421400-1780426800@chattanoogametro.com
SUMMARY:Incredible Business Networking - Champy's
DESCRIPTION:Sponsored by Jurgen Mootz with Tradebank of Chattanooga \nCome Out and Meet New People / Brings Cards\, Brochures\, Etc. Free to attend\, no dues or fees No membership required No attendance requirements No category restrictions No Exclusions – all inclusive Buy food/drink if you wish (optional) Check our website for updates.
URL:https://chattanoogametro.com/event/incredible-business-networking-10/2026-06-02/
LOCATION:Champy’s Chicken\, 191 Ocoee Crossing NW\, Cleveland\, TN\, 37312\, United States
CATEGORIES:All Events,Networking Events
ATTACH;FMTTYPE=image/png:https://chattanoogametro.com/wp-content/uploads/2025/04/IBN-Logo.png
END:VEVENT
BEGIN:VEVENT
DTSTART;TZID=America/New_York:20260604T113000
DTEND;TZID=America/New_York:20260604T130000
DTSTAMP:20260420T184739
CREATED:20251014T211001Z
LAST-MODIFIED:20251015T000531Z
UID:10001097-1780572600-1780578000@chattanoogametro.com
SUMMARY:Incredible Business Networking - Parkway Pourhouse
DESCRIPTION:Sponsored by Jurgen Mootz with Tradebank of Chattanooga \nCome Out and Meet New People / Brings Cards\, Brochures\, Etc. Free to attend\, no dues or fees No membership required No attendance requirements No category restrictions No Exclusions – all inclusive Buy food/drink if you wish (optional) Check our website for updates.
URL:https://chattanoogametro.com/event/incredible-business-networking-2/2026-06-04/
LOCATION:Parkway Pourhouse\, 801 Riverfront Parkway\, Chattanooga\, TN\, 37402\, United States
CATEGORIES:All Events,Networking Events
ATTACH;FMTTYPE=image/png:https://chattanoogametro.com/wp-content/uploads/2025/04/IBN-Logo.png
END:VEVENT
BEGIN:VEVENT
DTSTART;TZID=America/New_York:20260609T113000
DTEND;TZID=America/New_York:20260609T130000
DTSTAMP:20260420T184739
CREATED:20251014T211558Z
LAST-MODIFIED:20251014T234611Z
UID:10001332-1781004600-1781010000@chattanoogametro.com
SUMMARY:Incredible Business Networking - Jim n Nicks
DESCRIPTION:Sponsored by Jurgen Mootz with Tradebank of Chattanooga \nCome Out and Meet New People / Brings Cards\, Brochures\, Etc. Free to attend\, no dues or fees No membership required No attendance requirements No category restrictions No Exclusions – all inclusive Buy food/drink if you wish (optional) Check our website for updates.
URL:https://chattanoogametro.com/event/incredible-business-networking-5/2026-06-09/
LOCATION:Jim “N Nick’s\, 2040 Hamilton Pl Blvd Ste 150\, Chattanooga\, TN\, 37421\, United States
CATEGORIES:All Events,Networking Events
ATTACH;FMTTYPE=image/png:https://chattanoogametro.com/wp-content/uploads/2025/04/IBN-Logo.png
END:VEVENT
BEGIN:VEVENT
DTSTART;TZID=America/New_York:20260609T180000
DTEND;TZID=America/New_York:20260609T200000
DTSTAMP:20260420T184739
CREATED:20251014T214356Z
LAST-MODIFIED:20251014T234521Z
UID:10001752-1781028000-1781035200@chattanoogametro.com
SUMMARY:Incredible Business Networking - Broken Horseshoe Winery
DESCRIPTION:Sponsored by Jurgen Mootz with Tradebank of Chattanooga \nCome Out and Meet New People / Brings Cards\, Brochures\, Etc. Free to attend\, no dues or fees No membership required No attendance requirements No category restrictions No Exclusions – all inclusive Buy food/drink if you wish (optional) Check our website for updates.
URL:https://chattanoogametro.com/event/incredible-business-networking-11/2026-06-09/
LOCATION:Broken Horseshoe Winery & Vineyard\, 5 Legion Street\, Ringgold\, GA\, 30736\, United States
CATEGORIES:All Events,Networking Events
ATTACH;FMTTYPE=image/png:https://chattanoogametro.com/wp-content/uploads/2025/04/IBN-Logo.png
END:VEVENT
BEGIN:VEVENT
DTSTART;TZID=America/New_York:20260610T113000
DTEND;TZID=America/New_York:20260610T130000
DTSTAMP:20260420T184739
CREATED:20251014T212228Z
LAST-MODIFIED:20251014T234422Z
UID:10001392-1781091000-1781096400@chattanoogametro.com
SUMMARY:Incredible Business Networking - Agave Azul
DESCRIPTION:Sponsored by Jurgen Mootz with Tradebank of Chattanooga \nCome Out and Meet New People / Brings Cards\, Brochures\, Etc. Free to attend\, no dues or fees No membership required No attendance requirements No category restrictions No Exclusions – all inclusive Buy food/drink if you wish (optional) Check our website for updates.
URL:https://chattanoogametro.com/event/incredible-business-networking-7/2026-06-10/
LOCATION:Agave Azul Mexican Bar & Grill\, 4604 Skyview Drive\, Chattanooga\, TN\, 37416\, United States
CATEGORIES:All Events,Networking Events
ATTACH;FMTTYPE=image/png:https://chattanoogametro.com/wp-content/uploads/2025/04/IBN-Logo.png
END:VEVENT
BEGIN:VEVENT
DTSTART;TZID=America/New_York:20260611T073000
DTEND;TZID=America/New_York:20260611T090000
DTSTAMP:20260420T184739
CREATED:20251014T205800Z
LAST-MODIFIED:20251014T234325Z
UID:10001692-1781163000-1781168400@chattanoogametro.com
SUMMARY:Incredible Business Networking - Eggs Up Grill
DESCRIPTION:Sponsored by Jurgen Mootz with Tradebank of Chattanooga \nCome Out and Meet New People / Brings Cards\, Brochures\, Etc. Free to attend\, no dues or fees No membership required No attendance requirements No category restrictions No Exclusions – all inclusive Buy food/drink if you wish (optional) Check our website for updates.
URL:https://chattanoogametro.com/event/incredible-business-networking/2026-06-11/
LOCATION:Eggs Up Grill\, 285 Paul Huff Parkway NW\, Cleveland\, 37312\, United States
CATEGORIES:All Events,Networking Events
ATTACH;FMTTYPE=image/png:https://chattanoogametro.com/wp-content/uploads/2025/04/IBN-Logo-1.png
END:VEVENT
BEGIN:VEVENT
DTSTART;TZID=America/New_York:20260611T113000
DTEND;TZID=America/New_York:20260611T130000
DTSTAMP:20260420T184739
CREATED:20251014T212737Z
LAST-MODIFIED:20251014T234220Z
UID:10001452-1781177400-1781182800@chattanoogametro.com
SUMMARY:Incredible Business Networking - El Jinete
DESCRIPTION:Sponsored by Jurgen Mootz with Tradebank of Chattanooga \nCome Out and Meet New People / Brings Cards\, Brochures\, Etc. Free to attend\, no dues or fees No membership required No attendance requirements No category restrictions No Exclusions – all inclusive Buy food/drink if you wish (optional) Check our website for updates.
URL:https://chattanoogametro.com/event/incredible-business-networking-8/2026-06-11/
LOCATION:El Jinette Mexican Rest\, 5031 Hixson Pike\, Hixson\, TN\, 37343\, United States
CATEGORIES:All Events,Networking Events
ATTACH;FMTTYPE=image/png:https://chattanoogametro.com/wp-content/uploads/2025/04/IBN-Logo.png
END:VEVENT
BEGIN:VEVENT
DTSTART;TZID=America/New_York:20260615T073000
DTEND;TZID=America/New_York:20260615T090000
DTSTAMP:20260420T184739
CREATED:20251014T205002Z
LAST-MODIFIED:20251015T001109Z
UID:10001812-1781508600-1781514000@chattanoogametro.com
SUMMARY:Incredible Business Networking - Grindhead Coffee
DESCRIPTION:Sponsored by Jurgen Mootz with Tradebank of Chattanooga \nCome Out and Meet New People / Brings Cards\, Brochures\, Etc. Free to attend\, no dues or fees No membership required No attendance requirements No category restrictions No Exclusions – all inclusive Buy food/drink if you wish (optional) Check our website for updates.
URL:https://chattanoogametro.com/event/incredible-business-networking-4-2/2026-06-15/
LOCATION:Grindhead Coffee\, 7955 East Brainerd Road\, Chattanooga\, TN\, 37421\, United States
CATEGORIES:All Events,Networking Events
ATTACH;FMTTYPE=image/png:https://chattanoogametro.com/wp-content/uploads/2025/04/IBN-Logo.png
END:VEVENT
BEGIN:VEVENT
DTSTART;TZID=America/New_York:20260617T113000
DTEND;TZID=America/New_York:20260617T130000
DTSTAMP:20260420T184739
CREATED:20250424T014039Z
LAST-MODIFIED:20251014T234102Z
UID:10000596-1781695800-1781701200@chattanoogametro.com
SUMMARY:Incredible Business Networking - Local Goat
DESCRIPTION:Sponsored by Jurgen Mootz with Tradebank of Chattanooga \nCome Out and Meet New People / Brings Cards\, Brochures\, Etc. \n\nFree to attend\, no dues or fees\nNo membership required\nNo attendance requirements\nNo category restrictions\nNo Exclusions – all inclusive\nBuy food/drink if you wish (optional)\n\nCheck our website for updates.
URL:https://chattanoogametro.com/event/incredible-business-networking-3/2026-06-17/
LOCATION:Local Goat\, 6108 Artesian Circle\, Ooltewah\, TN\, 37363\, United States
CATEGORIES:Networking Events
ATTACH;FMTTYPE=image/png:https://chattanoogametro.com/wp-content/uploads/2025/04/IBN-Logo.png
END:VEVENT
BEGIN:VEVENT
DTSTART;TZID=UTC:20260618T113000
DTEND;TZID=UTC:20260618T130000
DTSTAMP:20260420T184739
CREATED:20241231T012443Z
LAST-MODIFIED:20241231T020055Z
UID:10000395-1781782200-1781787600@chattanoogametro.com
SUMMARY:Mas Tequila Lunch Networking Event
DESCRIPTION:FREE Lunch Networking Event. Bring a friend\, meet new people.
URL:https://chattanoogametro.com/event/mas-tequila-lunch-networking-event/2026-06-18/
LOCATION:Mas Tequila Mexican Bar & Grill\, 4134 Ringgold Road\, East Ridge\, TN\, 37412\, United States
CATEGORIES:Networking Events
ATTACH;FMTTYPE=image/jpeg:https://chattanoogametro.com/wp-content/uploads/2024/12/Mas-Tequia-Events.jpg
END:VEVENT
BEGIN:VEVENT
DTSTART;TZID=America/New_York:20260624T113000
DTEND;TZID=America/New_York:20260624T130000
DTSTAMP:20260420T184739
CREATED:20251014T235420Z
LAST-MODIFIED:20251015T000734Z
UID:10000718-1782300600-1782306000@chattanoogametro.com
SUMMARY:Incredible Business Networking - Farm to Folk
DESCRIPTION:Sponsored by Jurgen Mootz with Tradebank of Chattanooga \nCome Out and Meet New People / Brings Cards\, Brochures\, Etc. Free to attend\, no dues or fees No membership required No attendance requirements No category restrictions No Exclusions – all inclusive Buy food/drink if you wish (optional) Check our website for updates.
URL:https://chattanoogametro.com/event/incredible-business-networking-6-2/2026-06-24/
LOCATION:Farm to Folk\, 120 General Lee Street\, Ringgold\, GA\, 30736
CATEGORIES:All Events,Networking Events
ATTACH;FMTTYPE=image/png:https://chattanoogametro.com/wp-content/uploads/2025/04/IBN-Logo.png
END:VEVENT
BEGIN:VEVENT
DTSTART;TZID=America/New_York:20260702T113000
DTEND;TZID=America/New_York:20260702T130000
DTSTAMP:20260420T184739
CREATED:20251014T211001Z
LAST-MODIFIED:20251015T000531Z
UID:10001101-1782991800-1782997200@chattanoogametro.com
SUMMARY:Incredible Business Networking - Parkway Pourhouse
DESCRIPTION:Sponsored by Jurgen Mootz with Tradebank of Chattanooga \nCome Out and Meet New People / Brings Cards\, Brochures\, Etc. Free to attend\, no dues or fees No membership required No attendance requirements No category restrictions No Exclusions – all inclusive Buy food/drink if you wish (optional) Check our website for updates.
URL:https://chattanoogametro.com/event/incredible-business-networking-2/2026-07-02/
LOCATION:Parkway Pourhouse\, 801 Riverfront Parkway\, Chattanooga\, TN\, 37402\, United States
CATEGORIES:All Events,Networking Events
ATTACH;FMTTYPE=image/png:https://chattanoogametro.com/wp-content/uploads/2025/04/IBN-Logo.png
END:VEVENT
BEGIN:VEVENT
DTSTART;TZID=America/New_York:20260706T170000
DTEND;TZID=America/New_York:20260706T190000
DTSTAMP:20260420T184739
CREATED:20251014T213604Z
LAST-MODIFIED:20251014T235156Z
UID:10001513-1783357200-1783364400@chattanoogametro.com
SUMMARY:Incredible Business Networking - Amigos
DESCRIPTION:Sponsored by Jurgen Mootz with Tradebank of Chattanooga \nCome Out and Meet New People / Brings Cards\, Brochures\, Etc. Free to attend\, no dues or fees No membership required No attendance requirements No category restrictions No Exclusions – all inclusive Buy food/drink if you wish (optional) Check our website for updates. \nLocated inside Island Cove Marina
URL:https://chattanoogametro.com/event/incredible-business-networking-9/2026-07-06/
LOCATION:Amigos Mexican Rest\, 6830 Flamingo Lane\, Harrison\, TN\, 37341\, United States
CATEGORIES:All Events,Networking Events
ATTACH;FMTTYPE=image/png:https://chattanoogametro.com/wp-content/uploads/2025/04/IBN-Logo.png
END:VEVENT
BEGIN:VEVENT
DTSTART;TZID=America/New_York:20260707T173000
DTEND;TZID=America/New_York:20260707T190000
DTSTAMP:20260420T184739
CREATED:20251014T213946Z
LAST-MODIFIED:20251014T235053Z
UID:10001573-1783445400-1783450800@chattanoogametro.com
SUMMARY:Incredible Business Networking - Champy's
DESCRIPTION:Sponsored by Jurgen Mootz with Tradebank of Chattanooga \nCome Out and Meet New People / Brings Cards\, Brochures\, Etc. Free to attend\, no dues or fees No membership required No attendance requirements No category restrictions No Exclusions – all inclusive Buy food/drink if you wish (optional) Check our website for updates.
URL:https://chattanoogametro.com/event/incredible-business-networking-10/2026-07-07/
LOCATION:Champy’s Chicken\, 191 Ocoee Crossing NW\, Cleveland\, TN\, 37312\, United States
CATEGORIES:All Events,Networking Events
ATTACH;FMTTYPE=image/png:https://chattanoogametro.com/wp-content/uploads/2025/04/IBN-Logo.png
END:VEVENT
BEGIN:VEVENT
DTSTART;TZID=America/New_York:20260708T113000
DTEND;TZID=America/New_York:20260708T130000
DTSTAMP:20260420T184739
CREATED:20251014T212228Z
LAST-MODIFIED:20251014T234422Z
UID:10001393-1783510200-1783515600@chattanoogametro.com
SUMMARY:Incredible Business Networking - Agave Azul
DESCRIPTION:Sponsored by Jurgen Mootz with Tradebank of Chattanooga \nCome Out and Meet New People / Brings Cards\, Brochures\, Etc. Free to attend\, no dues or fees No membership required No attendance requirements No category restrictions No Exclusions – all inclusive Buy food/drink if you wish (optional) Check our website for updates.
URL:https://chattanoogametro.com/event/incredible-business-networking-7/2026-07-08/
LOCATION:Agave Azul Mexican Bar & Grill\, 4604 Skyview Drive\, Chattanooga\, TN\, 37416\, United States
CATEGORIES:All Events,Networking Events
ATTACH;FMTTYPE=image/png:https://chattanoogametro.com/wp-content/uploads/2025/04/IBN-Logo.png
END:VEVENT
BEGIN:VEVENT
DTSTART;TZID=America/New_York:20260709T073000
DTEND;TZID=America/New_York:20260709T090000
DTSTAMP:20260420T184739
CREATED:20251014T205800Z
LAST-MODIFIED:20251014T234325Z
UID:10001693-1783582200-1783587600@chattanoogametro.com
SUMMARY:Incredible Business Networking - Eggs Up Grill
DESCRIPTION:Sponsored by Jurgen Mootz with Tradebank of Chattanooga \nCome Out and Meet New People / Brings Cards\, Brochures\, Etc. Free to attend\, no dues or fees No membership required No attendance requirements No category restrictions No Exclusions – all inclusive Buy food/drink if you wish (optional) Check our website for updates.
URL:https://chattanoogametro.com/event/incredible-business-networking/2026-07-09/
LOCATION:Eggs Up Grill\, 285 Paul Huff Parkway NW\, Cleveland\, 37312\, United States
CATEGORIES:All Events,Networking Events
ATTACH;FMTTYPE=image/png:https://chattanoogametro.com/wp-content/uploads/2025/04/IBN-Logo-1.png
END:VEVENT
BEGIN:VEVENT
DTSTART;TZID=America/New_York:20260709T113000
DTEND;TZID=America/New_York:20260709T130000
DTSTAMP:20260420T184739
CREATED:20251014T212737Z
LAST-MODIFIED:20251014T234220Z
UID:10001453-1783596600-1783602000@chattanoogametro.com
SUMMARY:Incredible Business Networking - El Jinete
DESCRIPTION:Sponsored by Jurgen Mootz with Tradebank of Chattanooga \nCome Out and Meet New People / Brings Cards\, Brochures\, Etc. Free to attend\, no dues or fees No membership required No attendance requirements No category restrictions No Exclusions – all inclusive Buy food/drink if you wish (optional) Check our website for updates.
URL:https://chattanoogametro.com/event/incredible-business-networking-8/2026-07-09/
LOCATION:El Jinette Mexican Rest\, 5031 Hixson Pike\, Hixson\, TN\, 37343\, United States
CATEGORIES:All Events,Networking Events
ATTACH;FMTTYPE=image/png:https://chattanoogametro.com/wp-content/uploads/2025/04/IBN-Logo.png
END:VEVENT
BEGIN:VEVENT
DTSTART;TZID=America/New_York:20260714T113000
DTEND;TZID=America/New_York:20260714T130000
DTSTAMP:20260420T184739
CREATED:20251014T211558Z
LAST-MODIFIED:20251014T234611Z
UID:10001333-1784028600-1784034000@chattanoogametro.com
SUMMARY:Incredible Business Networking - Jim n Nicks
DESCRIPTION:Sponsored by Jurgen Mootz with Tradebank of Chattanooga \nCome Out and Meet New People / Brings Cards\, Brochures\, Etc. Free to attend\, no dues or fees No membership required No attendance requirements No category restrictions No Exclusions – all inclusive Buy food/drink if you wish (optional) Check our website for updates.
URL:https://chattanoogametro.com/event/incredible-business-networking-5/2026-07-14/
LOCATION:Jim “N Nick’s\, 2040 Hamilton Pl Blvd Ste 150\, Chattanooga\, TN\, 37421\, United States
CATEGORIES:All Events,Networking Events
ATTACH;FMTTYPE=image/png:https://chattanoogametro.com/wp-content/uploads/2025/04/IBN-Logo.png
END:VEVENT
BEGIN:VEVENT
DTSTART;TZID=America/New_York:20260714T180000
DTEND;TZID=America/New_York:20260714T200000
DTSTAMP:20260420T184739
CREATED:20251014T214356Z
LAST-MODIFIED:20251014T234521Z
UID:10001753-1784052000-1784059200@chattanoogametro.com
SUMMARY:Incredible Business Networking - Broken Horseshoe Winery
DESCRIPTION:Sponsored by Jurgen Mootz with Tradebank of Chattanooga \nCome Out and Meet New People / Brings Cards\, Brochures\, Etc. Free to attend\, no dues or fees No membership required No attendance requirements No category restrictions No Exclusions – all inclusive Buy food/drink if you wish (optional) Check our website for updates.
URL:https://chattanoogametro.com/event/incredible-business-networking-11/2026-07-14/
LOCATION:Broken Horseshoe Winery & Vineyard\, 5 Legion Street\, Ringgold\, GA\, 30736\, United States
CATEGORIES:All Events,Networking Events
ATTACH;FMTTYPE=image/png:https://chattanoogametro.com/wp-content/uploads/2025/04/IBN-Logo.png
END:VEVENT
BEGIN:VEVENT
DTSTART;TZID=America/New_York:20260715T113000
DTEND;TZID=America/New_York:20260715T130000
DTSTAMP:20260420T184739
CREATED:20250424T014039Z
LAST-MODIFIED:20251014T234102Z
UID:10000597-1784115000-1784120400@chattanoogametro.com
SUMMARY:Incredible Business Networking - Local Goat
DESCRIPTION:Sponsored by Jurgen Mootz with Tradebank of Chattanooga \nCome Out and Meet New People / Brings Cards\, Brochures\, Etc. \n\nFree to attend\, no dues or fees\nNo membership required\nNo attendance requirements\nNo category restrictions\nNo Exclusions – all inclusive\nBuy food/drink if you wish (optional)\n\nCheck our website for updates.
URL:https://chattanoogametro.com/event/incredible-business-networking-3/2026-07-15/
LOCATION:Local Goat\, 6108 Artesian Circle\, Ooltewah\, TN\, 37363\, United States
CATEGORIES:Networking Events
ATTACH;FMTTYPE=image/png:https://chattanoogametro.com/wp-content/uploads/2025/04/IBN-Logo.png
END:VEVENT
BEGIN:VEVENT
DTSTART;TZID=UTC:20260716T113000
DTEND;TZID=UTC:20260716T130000
DTSTAMP:20260420T184739
CREATED:20241231T012443Z
LAST-MODIFIED:20241231T020055Z
UID:10000396-1784201400-1784206800@chattanoogametro.com
SUMMARY:Mas Tequila Lunch Networking Event
DESCRIPTION:FREE Lunch Networking Event. Bring a friend\, meet new people.
URL:https://chattanoogametro.com/event/mas-tequila-lunch-networking-event/2026-07-16/
LOCATION:Mas Tequila Mexican Bar & Grill\, 4134 Ringgold Road\, East Ridge\, TN\, 37412\, United States
CATEGORIES:Networking Events
ATTACH;FMTTYPE=image/jpeg:https://chattanoogametro.com/wp-content/uploads/2024/12/Mas-Tequia-Events.jpg
END:VEVENT
BEGIN:VEVENT
DTSTART;TZID=America/New_York:20260720T073000
DTEND;TZID=America/New_York:20260720T090000
DTSTAMP:20260420T184739
CREATED:20251014T205002Z
LAST-MODIFIED:20251015T001109Z
UID:10001813-1784532600-1784538000@chattanoogametro.com
SUMMARY:Incredible Business Networking - Grindhead Coffee
DESCRIPTION:Sponsored by Jurgen Mootz with Tradebank of Chattanooga \nCome Out and Meet New People / Brings Cards\, Brochures\, Etc. Free to attend\, no dues or fees No membership required No attendance requirements No category restrictions No Exclusions – all inclusive Buy food/drink if you wish (optional) Check our website for updates.
URL:https://chattanoogametro.com/event/incredible-business-networking-4-2/2026-07-20/
LOCATION:Grindhead Coffee\, 7955 East Brainerd Road\, Chattanooga\, TN\, 37421\, United States
CATEGORIES:All Events,Networking Events
ATTACH;FMTTYPE=image/png:https://chattanoogametro.com/wp-content/uploads/2025/04/IBN-Logo.png
END:VEVENT
BEGIN:VEVENT
DTSTART;TZID=America/New_York:20260722T113000
DTEND;TZID=America/New_York:20260722T130000
DTSTAMP:20260420T184739
CREATED:20251014T235420Z
LAST-MODIFIED:20251015T000734Z
UID:10000719-1784719800-1784725200@chattanoogametro.com
SUMMARY:Incredible Business Networking - Farm to Folk
DESCRIPTION:Sponsored by Jurgen Mootz with Tradebank of Chattanooga \nCome Out and Meet New People / Brings Cards\, Brochures\, Etc. Free to attend\, no dues or fees No membership required No attendance requirements No category restrictions No Exclusions – all inclusive Buy food/drink if you wish (optional) Check our website for updates.
URL:https://chattanoogametro.com/event/incredible-business-networking-6-2/2026-07-22/
LOCATION:Farm to Folk\, 120 General Lee Street\, Ringgold\, GA\, 30736
CATEGORIES:All Events,Networking Events
ATTACH;FMTTYPE=image/png:https://chattanoogametro.com/wp-content/uploads/2025/04/IBN-Logo.png
END:VEVENT
BEGIN:VEVENT
DTSTART;TZID=America/New_York:20260803T170000
DTEND;TZID=America/New_York:20260803T190000
DTSTAMP:20260420T184739
CREATED:20251014T213604Z
LAST-MODIFIED:20251014T235156Z
UID:10001514-1785776400-1785783600@chattanoogametro.com
SUMMARY:Incredible Business Networking - Amigos
DESCRIPTION:Sponsored by Jurgen Mootz with Tradebank of Chattanooga \nCome Out and Meet New People / Brings Cards\, Brochures\, Etc. Free to attend\, no dues or fees No membership required No attendance requirements No category restrictions No Exclusions – all inclusive Buy food/drink if you wish (optional) Check our website for updates. \nLocated inside Island Cove Marina
URL:https://chattanoogametro.com/event/incredible-business-networking-9/2026-08-03/
LOCATION:Amigos Mexican Rest\, 6830 Flamingo Lane\, Harrison\, TN\, 37341\, United States
CATEGORIES:All Events,Networking Events
ATTACH;FMTTYPE=image/png:https://chattanoogametro.com/wp-content/uploads/2025/04/IBN-Logo.png
END:VEVENT
BEGIN:VEVENT
DTSTART;TZID=America/New_York:20260804T173000
DTEND;TZID=America/New_York:20260804T190000
DTSTAMP:20260420T184739
CREATED:20251014T213946Z
LAST-MODIFIED:20251014T235053Z
UID:10001574-1785864600-1785870000@chattanoogametro.com
SUMMARY:Incredible Business Networking - Champy's
DESCRIPTION:Sponsored by Jurgen Mootz with Tradebank of Chattanooga \nCome Out and Meet New People / Brings Cards\, Brochures\, Etc. Free to attend\, no dues or fees No membership required No attendance requirements No category restrictions No Exclusions – all inclusive Buy food/drink if you wish (optional) Check our website for updates.
URL:https://chattanoogametro.com/event/incredible-business-networking-10/2026-08-04/
LOCATION:Champy’s Chicken\, 191 Ocoee Crossing NW\, Cleveland\, TN\, 37312\, United States
CATEGORIES:All Events,Networking Events
ATTACH;FMTTYPE=image/png:https://chattanoogametro.com/wp-content/uploads/2025/04/IBN-Logo.png
END:VEVENT
BEGIN:VEVENT
DTSTART;TZID=America/New_York:20260806T113000
DTEND;TZID=America/New_York:20260806T130000
DTSTAMP:20260420T184739
CREATED:20251014T211001Z
LAST-MODIFIED:20251015T000531Z
UID:10001106-1786015800-1786021200@chattanoogametro.com
SUMMARY:Incredible Business Networking - Parkway Pourhouse
DESCRIPTION:Sponsored by Jurgen Mootz with Tradebank of Chattanooga \nCome Out and Meet New People / Brings Cards\, Brochures\, Etc. Free to attend\, no dues or fees No membership required No attendance requirements No category restrictions No Exclusions – all inclusive Buy food/drink if you wish (optional) Check our website for updates.
URL:https://chattanoogametro.com/event/incredible-business-networking-2/2026-08-06/
LOCATION:Parkway Pourhouse\, 801 Riverfront Parkway\, Chattanooga\, TN\, 37402\, United States
CATEGORIES:All Events,Networking Events
ATTACH;FMTTYPE=image/png:https://chattanoogametro.com/wp-content/uploads/2025/04/IBN-Logo.png
END:VEVENT
BEGIN:VEVENT
DTSTART;TZID=America/New_York:20260811T113000
DTEND;TZID=America/New_York:20260811T130000
DTSTAMP:20260420T184739
CREATED:20251014T211558Z
LAST-MODIFIED:20251014T234611Z
UID:10001334-1786447800-1786453200@chattanoogametro.com
SUMMARY:Incredible Business Networking - Jim n Nicks
DESCRIPTION:Sponsored by Jurgen Mootz with Tradebank of Chattanooga \nCome Out and Meet New People / Brings Cards\, Brochures\, Etc. Free to attend\, no dues or fees No membership required No attendance requirements No category restrictions No Exclusions – all inclusive Buy food/drink if you wish (optional) Check our website for updates.
URL:https://chattanoogametro.com/event/incredible-business-networking-5/2026-08-11/
LOCATION:Jim “N Nick’s\, 2040 Hamilton Pl Blvd Ste 150\, Chattanooga\, TN\, 37421\, United States
CATEGORIES:All Events,Networking Events
ATTACH;FMTTYPE=image/png:https://chattanoogametro.com/wp-content/uploads/2025/04/IBN-Logo.png
END:VEVENT
BEGIN:VEVENT
DTSTART;TZID=America/New_York:20260811T180000
DTEND;TZID=America/New_York:20260811T200000
DTSTAMP:20260420T184739
CREATED:20251014T214356Z
LAST-MODIFIED:20251014T234521Z
UID:10001754-1786471200-1786478400@chattanoogametro.com
SUMMARY:Incredible Business Networking - Broken Horseshoe Winery
DESCRIPTION:Sponsored by Jurgen Mootz with Tradebank of Chattanooga \nCome Out and Meet New People / Brings Cards\, Brochures\, Etc. Free to attend\, no dues or fees No membership required No attendance requirements No category restrictions No Exclusions – all inclusive Buy food/drink if you wish (optional) Check our website for updates.
URL:https://chattanoogametro.com/event/incredible-business-networking-11/2026-08-11/
LOCATION:Broken Horseshoe Winery & Vineyard\, 5 Legion Street\, Ringgold\, GA\, 30736\, United States
CATEGORIES:All Events,Networking Events
ATTACH;FMTTYPE=image/png:https://chattanoogametro.com/wp-content/uploads/2025/04/IBN-Logo.png
END:VEVENT
END:VCALENDAR