BEGIN:VCALENDAR
VERSION:2.0
PRODID:-//Chattanooga Metro - ECPv6.15.20//NONSGML v1.0//EN
CALSCALE:GREGORIAN
METHOD:PUBLISH
X-WR-CALNAME:Chattanooga Metro
X-ORIGINAL-URL:https://chattanoogametro.com
X-WR-CALDESC:Events for Chattanooga Metro
REFRESH-INTERVAL;VALUE=DURATION:PT1H
X-Robots-Tag:noindex
X-PUBLISHED-TTL:PT1H
BEGIN:VTIMEZONE
TZID:America/New_York
BEGIN:DAYLIGHT
TZOFFSETFROM:-0500
TZOFFSETTO:-0400
TZNAME:EDT
DTSTART:20250309T070000
END:DAYLIGHT
BEGIN:STANDARD
TZOFFSETFROM:-0400
TZOFFSETTO:-0500
TZNAME:EST
DTSTART:20251102T060000
END:STANDARD
BEGIN:DAYLIGHT
TZOFFSETFROM:-0500
TZOFFSETTO:-0400
TZNAME:EDT
DTSTART:20260308T070000
END:DAYLIGHT
BEGIN:STANDARD
TZOFFSETFROM:-0400
TZOFFSETTO:-0500
TZNAME:EST
DTSTART:20261101T060000
END:STANDARD
BEGIN:DAYLIGHT
TZOFFSETFROM:-0500
TZOFFSETTO:-0400
TZNAME:EDT
DTSTART:20270314T070000
END:DAYLIGHT
BEGIN:STANDARD
TZOFFSETFROM:-0400
TZOFFSETTO:-0500
TZNAME:EST
DTSTART:20271107T060000
END:STANDARD
END:VTIMEZONE
BEGIN:VEVENT
DTSTART;TZID=America/New_York:20260407T173000
DTEND;TZID=America/New_York:20260407T190000
DTSTAMP:20260420T213959
CREATED:20251014T213946Z
LAST-MODIFIED:20251014T235053Z
UID:10001570-1775583000-1775588400@chattanoogametro.com
SUMMARY:Incredible Business Networking - Champy's
DESCRIPTION:Sponsored by Jurgen Mootz with Tradebank of Chattanooga \nCome Out and Meet New People / Brings Cards\, Brochures\, Etc. Free to attend\, no dues or fees No membership required No attendance requirements No category restrictions No Exclusions – all inclusive Buy food/drink if you wish (optional) Check our website for updates.
URL:https://chattanoogametro.com/event/incredible-business-networking-10/2026-04-07/
LOCATION:Champy’s Chicken\, 191 Ocoee Crossing NW\, Cleveland\, TN\, 37312\, United States
CATEGORIES:All Events,Networking Events
ATTACH;FMTTYPE=image/png:https://chattanoogametro.com/wp-content/uploads/2025/04/IBN-Logo.png
END:VEVENT
BEGIN:VEVENT
DTSTART;TZID=America/New_York:20260406T170000
DTEND;TZID=America/New_York:20260406T190000
DTSTAMP:20260420T213959
CREATED:20251014T213604Z
LAST-MODIFIED:20251014T235156Z
UID:10001510-1775494800-1775502000@chattanoogametro.com
SUMMARY:Incredible Business Networking - Amigos
DESCRIPTION:Sponsored by Jurgen Mootz with Tradebank of Chattanooga \nCome Out and Meet New People / Brings Cards\, Brochures\, Etc. Free to attend\, no dues or fees No membership required No attendance requirements No category restrictions No Exclusions – all inclusive Buy food/drink if you wish (optional) Check our website for updates. \nLocated inside Island Cove Marina
URL:https://chattanoogametro.com/event/incredible-business-networking-9/2026-04-06/
LOCATION:Amigos Mexican Rest\, 6830 Flamingo Lane\, Harrison\, TN\, 37341\, United States
CATEGORIES:All Events,Networking Events
ATTACH;FMTTYPE=image/png:https://chattanoogametro.com/wp-content/uploads/2025/04/IBN-Logo.png
END:VEVENT
BEGIN:VEVENT
DTSTART;TZID=America/New_York:20260402T113000
DTEND;TZID=America/New_York:20260402T130000
DTSTAMP:20260420T213959
CREATED:20251014T211001Z
LAST-MODIFIED:20251015T000531Z
UID:10001088-1775129400-1775134800@chattanoogametro.com
SUMMARY:Incredible Business Networking - Parkway Pourhouse
DESCRIPTION:Sponsored by Jurgen Mootz with Tradebank of Chattanooga \nCome Out and Meet New People / Brings Cards\, Brochures\, Etc. Free to attend\, no dues or fees No membership required No attendance requirements No category restrictions No Exclusions – all inclusive Buy food/drink if you wish (optional) Check our website for updates.
URL:https://chattanoogametro.com/event/incredible-business-networking-2/2026-04-02/
LOCATION:Parkway Pourhouse\, 801 Riverfront Parkway\, Chattanooga\, TN\, 37402\, United States
CATEGORIES:All Events,Networking Events
ATTACH;FMTTYPE=image/png:https://chattanoogametro.com/wp-content/uploads/2025/04/IBN-Logo.png
END:VEVENT
BEGIN:VEVENT
DTSTART;TZID=America/New_York:20260325T113000
DTEND;TZID=America/New_York:20260325T130000
DTSTAMP:20260420T213959
CREATED:20251014T235420Z
LAST-MODIFIED:20251015T000734Z
UID:10000715-1774438200-1774443600@chattanoogametro.com
SUMMARY:Incredible Business Networking - Farm to Folk
DESCRIPTION:Sponsored by Jurgen Mootz with Tradebank of Chattanooga \nCome Out and Meet New People / Brings Cards\, Brochures\, Etc. Free to attend\, no dues or fees No membership required No attendance requirements No category restrictions No Exclusions – all inclusive Buy food/drink if you wish (optional) Check our website for updates.
URL:https://chattanoogametro.com/event/incredible-business-networking-6-2/2026-03-25/
LOCATION:Farm to Folk\, 120 General Lee Street\, Ringgold\, GA\, 30736
CATEGORIES:All Events,Networking Events
ATTACH;FMTTYPE=image/png:https://chattanoogametro.com/wp-content/uploads/2025/04/IBN-Logo.png
END:VEVENT
END:VCALENDAR