BEGIN:VCALENDAR
VERSION:2.0
PRODID:-//Chattanooga Metro - ECPv6.15.20//NONSGML v1.0//EN
CALSCALE:GREGORIAN
METHOD:PUBLISH
X-WR-CALNAME:Chattanooga Metro
X-ORIGINAL-URL:https://chattanoogametro.com
X-WR-CALDESC:Events for Chattanooga Metro
REFRESH-INTERVAL;VALUE=DURATION:PT1H
X-Robots-Tag:noindex
X-PUBLISHED-TTL:PT1H
BEGIN:VTIMEZONE
TZID:America/New_York
BEGIN:DAYLIGHT
TZOFFSETFROM:-0500
TZOFFSETTO:-0400
TZNAME:EDT
DTSTART:20270314T070000
END:DAYLIGHT
BEGIN:STANDARD
TZOFFSETFROM:-0400
TZOFFSETTO:-0500
TZNAME:EST
DTSTART:20271107T060000
END:STANDARD
BEGIN:DAYLIGHT
TZOFFSETFROM:-0500
TZOFFSETTO:-0400
TZNAME:EDT
DTSTART:20280312T070000
END:DAYLIGHT
BEGIN:STANDARD
TZOFFSETFROM:-0400
TZOFFSETTO:-0500
TZNAME:EST
DTSTART:20281105T060000
END:STANDARD
BEGIN:DAYLIGHT
TZOFFSETFROM:-0500
TZOFFSETTO:-0400
TZNAME:EDT
DTSTART:20290311T070000
END:DAYLIGHT
BEGIN:STANDARD
TZOFFSETFROM:-0400
TZOFFSETTO:-0500
TZNAME:EST
DTSTART:20291104T060000
END:STANDARD
END:VTIMEZONE
BEGIN:VEVENT
DTSTART;TZID=America/New_York:20280703T170000
DTEND;TZID=America/New_York:20280703T190000
DTSTAMP:20260423T033604
CREATED:20251014T213604Z
LAST-MODIFIED:20251014T235156Z
UID:10001537-1846256400-1846263600@chattanoogametro.com
SUMMARY:Incredible Business Networking - Amigos
DESCRIPTION:Sponsored by Jurgen Mootz with Tradebank of Chattanooga \nCome Out and Meet New People / Brings Cards\, Brochures\, Etc. Free to attend\, no dues or fees No membership required No attendance requirements No category restrictions No Exclusions – all inclusive Buy food/drink if you wish (optional) Check our website for updates. \nLocated inside Island Cove Marina
URL:https://chattanoogametro.com/event/incredible-business-networking-9/2028-07-03/
LOCATION:Amigos Mexican Rest\, 6830 Flamingo Lane\, Harrison\, TN\, 37341\, United States
CATEGORIES:All Events,Networking Events
ATTACH;FMTTYPE=image/png:https://chattanoogametro.com/wp-content/uploads/2025/04/IBN-Logo.png
END:VEVENT
BEGIN:VEVENT
DTSTART;TZID=America/New_York:20280704T173000
DTEND;TZID=America/New_York:20280704T190000
DTSTAMP:20260423T033604
CREATED:20251014T213946Z
LAST-MODIFIED:20251014T235053Z
UID:10001597-1846344600-1846350000@chattanoogametro.com
SUMMARY:Incredible Business Networking - Champy's
DESCRIPTION:Sponsored by Jurgen Mootz with Tradebank of Chattanooga \nCome Out and Meet New People / Brings Cards\, Brochures\, Etc. Free to attend\, no dues or fees No membership required No attendance requirements No category restrictions No Exclusions – all inclusive Buy food/drink if you wish (optional) Check our website for updates.
URL:https://chattanoogametro.com/event/incredible-business-networking-10/2028-07-04/
LOCATION:Champy’s Chicken\, 191 Ocoee Crossing NW\, Cleveland\, TN\, 37312\, United States
CATEGORIES:All Events,Networking Events
ATTACH;FMTTYPE=image/png:https://chattanoogametro.com/wp-content/uploads/2025/04/IBN-Logo.png
END:VEVENT
BEGIN:VEVENT
DTSTART;TZID=America/New_York:20280706T113000
DTEND;TZID=America/New_York:20280706T130000
DTSTAMP:20260423T033604
CREATED:20251014T211001Z
LAST-MODIFIED:20251015T000531Z
UID:10001206-1846495800-1846501200@chattanoogametro.com
SUMMARY:Incredible Business Networking - Parkway Pourhouse
DESCRIPTION:Sponsored by Jurgen Mootz with Tradebank of Chattanooga \nCome Out and Meet New People / Brings Cards\, Brochures\, Etc. Free to attend\, no dues or fees No membership required No attendance requirements No category restrictions No Exclusions – all inclusive Buy food/drink if you wish (optional) Check our website for updates.
URL:https://chattanoogametro.com/event/incredible-business-networking-2/2028-07-06/
LOCATION:Parkway Pourhouse\, 801 Riverfront Parkway\, Chattanooga\, TN\, 37402\, United States
CATEGORIES:All Events,Networking Events
ATTACH;FMTTYPE=image/png:https://chattanoogametro.com/wp-content/uploads/2025/04/IBN-Logo.png
END:VEVENT
BEGIN:VEVENT
DTSTART;TZID=America/New_York:20280711T113000
DTEND;TZID=America/New_York:20280711T130000
DTSTAMP:20260423T033604
CREATED:20251014T211558Z
LAST-MODIFIED:20251014T234611Z
UID:10001357-1846927800-1846933200@chattanoogametro.com
SUMMARY:Incredible Business Networking - Jim n Nicks
DESCRIPTION:Sponsored by Jurgen Mootz with Tradebank of Chattanooga \nCome Out and Meet New People / Brings Cards\, Brochures\, Etc. Free to attend\, no dues or fees No membership required No attendance requirements No category restrictions No Exclusions – all inclusive Buy food/drink if you wish (optional) Check our website for updates.
URL:https://chattanoogametro.com/event/incredible-business-networking-5/2028-07-11/
LOCATION:Jim “N Nick’s\, 2040 Hamilton Pl Blvd Ste 150\, Chattanooga\, TN\, 37421\, United States
CATEGORIES:All Events,Networking Events
ATTACH;FMTTYPE=image/png:https://chattanoogametro.com/wp-content/uploads/2025/04/IBN-Logo.png
END:VEVENT
BEGIN:VEVENT
DTSTART;TZID=America/New_York:20280711T180000
DTEND;TZID=America/New_York:20280711T200000
DTSTAMP:20260423T033604
CREATED:20251014T214356Z
LAST-MODIFIED:20251014T234521Z
UID:10001777-1846951200-1846958400@chattanoogametro.com
SUMMARY:Incredible Business Networking - Broken Horseshoe Winery
DESCRIPTION:Sponsored by Jurgen Mootz with Tradebank of Chattanooga \nCome Out and Meet New People / Brings Cards\, Brochures\, Etc. Free to attend\, no dues or fees No membership required No attendance requirements No category restrictions No Exclusions – all inclusive Buy food/drink if you wish (optional) Check our website for updates.
URL:https://chattanoogametro.com/event/incredible-business-networking-11/2028-07-11/
LOCATION:Broken Horseshoe Winery & Vineyard\, 5 Legion Street\, Ringgold\, GA\, 30736\, United States
CATEGORIES:All Events,Networking Events
ATTACH;FMTTYPE=image/png:https://chattanoogametro.com/wp-content/uploads/2025/04/IBN-Logo.png
END:VEVENT
BEGIN:VEVENT
DTSTART;TZID=America/New_York:20280712T113000
DTEND;TZID=America/New_York:20280712T130000
DTSTAMP:20260423T033604
CREATED:20251014T212228Z
LAST-MODIFIED:20251014T234422Z
UID:10001417-1847014200-1847019600@chattanoogametro.com
SUMMARY:Incredible Business Networking - Agave Azul
DESCRIPTION:Sponsored by Jurgen Mootz with Tradebank of Chattanooga \nCome Out and Meet New People / Brings Cards\, Brochures\, Etc. Free to attend\, no dues or fees No membership required No attendance requirements No category restrictions No Exclusions – all inclusive Buy food/drink if you wish (optional) Check our website for updates.
URL:https://chattanoogametro.com/event/incredible-business-networking-7/2028-07-12/
LOCATION:Agave Azul Mexican Bar & Grill\, 4604 Skyview Drive\, Chattanooga\, TN\, 37416\, United States
CATEGORIES:All Events,Networking Events
ATTACH;FMTTYPE=image/png:https://chattanoogametro.com/wp-content/uploads/2025/04/IBN-Logo.png
END:VEVENT
BEGIN:VEVENT
DTSTART;TZID=America/New_York:20280713T073000
DTEND;TZID=America/New_York:20280713T090000
DTSTAMP:20260423T033604
CREATED:20251014T205800Z
LAST-MODIFIED:20251014T234325Z
UID:10001717-1847086200-1847091600@chattanoogametro.com
SUMMARY:Incredible Business Networking - Eggs Up Grill
DESCRIPTION:Sponsored by Jurgen Mootz with Tradebank of Chattanooga \nCome Out and Meet New People / Brings Cards\, Brochures\, Etc. Free to attend\, no dues or fees No membership required No attendance requirements No category restrictions No Exclusions – all inclusive Buy food/drink if you wish (optional) Check our website for updates.
URL:https://chattanoogametro.com/event/incredible-business-networking/2028-07-13/
LOCATION:Eggs Up Grill\, 285 Paul Huff Parkway NW\, Cleveland\, 37312\, United States
CATEGORIES:All Events,Networking Events
ATTACH;FMTTYPE=image/png:https://chattanoogametro.com/wp-content/uploads/2025/04/IBN-Logo-1.png
END:VEVENT
BEGIN:VEVENT
DTSTART;TZID=America/New_York:20280713T113000
DTEND;TZID=America/New_York:20280713T130000
DTSTAMP:20260423T033604
CREATED:20251014T212737Z
LAST-MODIFIED:20251014T234220Z
UID:10001477-1847100600-1847106000@chattanoogametro.com
SUMMARY:Incredible Business Networking - El Jinete
DESCRIPTION:Sponsored by Jurgen Mootz with Tradebank of Chattanooga \nCome Out and Meet New People / Brings Cards\, Brochures\, Etc. Free to attend\, no dues or fees No membership required No attendance requirements No category restrictions No Exclusions – all inclusive Buy food/drink if you wish (optional) Check our website for updates.
URL:https://chattanoogametro.com/event/incredible-business-networking-8/2028-07-13/
LOCATION:El Jinette Mexican Rest\, 5031 Hixson Pike\, Hixson\, TN\, 37343\, United States
CATEGORIES:All Events,Networking Events
ATTACH;FMTTYPE=image/png:https://chattanoogametro.com/wp-content/uploads/2025/04/IBN-Logo.png
END:VEVENT
BEGIN:VEVENT
DTSTART;TZID=America/New_York:20280719T113000
DTEND;TZID=America/New_York:20280719T130000
DTSTAMP:20260423T033604
CREATED:20250424T014039Z
LAST-MODIFIED:20251014T234102Z
UID:10000621-1847619000-1847624400@chattanoogametro.com
SUMMARY:Incredible Business Networking - Local Goat
DESCRIPTION:Sponsored by Jurgen Mootz with Tradebank of Chattanooga \nCome Out and Meet New People / Brings Cards\, Brochures\, Etc. \n\nFree to attend\, no dues or fees\nNo membership required\nNo attendance requirements\nNo category restrictions\nNo Exclusions – all inclusive\nBuy food/drink if you wish (optional)\n\nCheck our website for updates.
URL:https://chattanoogametro.com/event/incredible-business-networking-3/2028-07-19/
LOCATION:Local Goat\, 6108 Artesian Circle\, Ooltewah\, TN\, 37363\, United States
CATEGORIES:Networking Events
ATTACH;FMTTYPE=image/png:https://chattanoogametro.com/wp-content/uploads/2025/04/IBN-Logo.png
END:VEVENT
BEGIN:VEVENT
DTSTART;TZID=America/New_York:20280726T113000
DTEND;TZID=America/New_York:20280726T130000
DTSTAMP:20260423T033604
CREATED:20251014T235420Z
LAST-MODIFIED:20251015T000734Z
UID:10000743-1848223800-1848229200@chattanoogametro.com
SUMMARY:Incredible Business Networking - Farm to Folk
DESCRIPTION:Sponsored by Jurgen Mootz with Tradebank of Chattanooga \nCome Out and Meet New People / Brings Cards\, Brochures\, Etc. Free to attend\, no dues or fees No membership required No attendance requirements No category restrictions No Exclusions – all inclusive Buy food/drink if you wish (optional) Check our website for updates.
URL:https://chattanoogametro.com/event/incredible-business-networking-6-2/2028-07-26/
LOCATION:Farm to Folk\, 120 General Lee Street\, Ringgold\, GA\, 30736
CATEGORIES:All Events,Networking Events
ATTACH;FMTTYPE=image/png:https://chattanoogametro.com/wp-content/uploads/2025/04/IBN-Logo.png
END:VEVENT
END:VCALENDAR