BEGIN:VCALENDAR
VERSION:2.0
PRODID:-//Chattanooga Metro - ECPv6.15.20//NONSGML v1.0//EN
CALSCALE:GREGORIAN
METHOD:PUBLISH
X-ORIGINAL-URL:https://chattanoogametro.com
X-WR-CALDESC:Events for Chattanooga Metro
REFRESH-INTERVAL;VALUE=DURATION:PT1H
X-Robots-Tag:noindex
X-PUBLISHED-TTL:PT1H
BEGIN:VTIMEZONE
TZID:America/New_York
BEGIN:DAYLIGHT
TZOFFSETFROM:-0500
TZOFFSETTO:-0400
TZNAME:EDT
DTSTART:20260308T070000
END:DAYLIGHT
BEGIN:STANDARD
TZOFFSETFROM:-0400
TZOFFSETTO:-0500
TZNAME:EST
DTSTART:20261101T060000
END:STANDARD
BEGIN:DAYLIGHT
TZOFFSETFROM:-0500
TZOFFSETTO:-0400
TZNAME:EDT
DTSTART:20270314T070000
END:DAYLIGHT
BEGIN:STANDARD
TZOFFSETFROM:-0400
TZOFFSETTO:-0500
TZNAME:EST
DTSTART:20271107T060000
END:STANDARD
BEGIN:DAYLIGHT
TZOFFSETFROM:-0500
TZOFFSETTO:-0400
TZNAME:EDT
DTSTART:20280312T070000
END:DAYLIGHT
BEGIN:STANDARD
TZOFFSETFROM:-0400
TZOFFSETTO:-0500
TZNAME:EST
DTSTART:20281105T060000
END:STANDARD
END:VTIMEZONE
BEGIN:VTIMEZONE
TZID:UTC
BEGIN:STANDARD
TZOFFSETFROM:+0000
TZOFFSETTO:+0000
TZNAME:UTC
DTSTART:20260101T000000
END:STANDARD
END:VTIMEZONE
BEGIN:VEVENT
DTSTART;TZID=America/New_York:20270401T113000
DTEND;TZID=America/New_York:20270401T130000
DTSTAMP:20260421T093950
CREATED:20251014T211001Z
LAST-MODIFIED:20251015T000531Z
UID:10001140-1806579000-1806584400@chattanoogametro.com
SUMMARY:Incredible Business Networking - Parkway Pourhouse
DESCRIPTION:Sponsored by Jurgen Mootz with Tradebank of Chattanooga \nCome Out and Meet New People / Brings Cards\, Brochures\, Etc. Free to attend\, no dues or fees No membership required No attendance requirements No category restrictions No Exclusions – all inclusive Buy food/drink if you wish (optional) Check our website for updates.
URL:https://chattanoogametro.com/event/incredible-business-networking-2/2027-04-01/
LOCATION:Parkway Pourhouse\, 801 Riverfront Parkway\, Chattanooga\, TN\, 37402\, United States
CATEGORIES:All Events,Networking Events
ATTACH;FMTTYPE=image/png:https://chattanoogametro.com/wp-content/uploads/2025/04/IBN-Logo.png
END:VEVENT
BEGIN:VEVENT
DTSTART;TZID=America/New_York:20270405T170000
DTEND;TZID=America/New_York:20270405T190000
DTSTAMP:20260421T093950
CREATED:20251014T213604Z
LAST-MODIFIED:20251014T235156Z
UID:10001522-1806944400-1806951600@chattanoogametro.com
SUMMARY:Incredible Business Networking - Amigos
DESCRIPTION:Sponsored by Jurgen Mootz with Tradebank of Chattanooga \nCome Out and Meet New People / Brings Cards\, Brochures\, Etc. Free to attend\, no dues or fees No membership required No attendance requirements No category restrictions No Exclusions – all inclusive Buy food/drink if you wish (optional) Check our website for updates. \nLocated inside Island Cove Marina
URL:https://chattanoogametro.com/event/incredible-business-networking-9/2027-04-05/
LOCATION:Amigos Mexican Rest\, 6830 Flamingo Lane\, Harrison\, TN\, 37341\, United States
CATEGORIES:All Events,Networking Events
ATTACH;FMTTYPE=image/png:https://chattanoogametro.com/wp-content/uploads/2025/04/IBN-Logo.png
END:VEVENT
BEGIN:VEVENT
DTSTART;TZID=America/New_York:20270406T173000
DTEND;TZID=America/New_York:20270406T190000
DTSTAMP:20260421T093950
CREATED:20251014T213946Z
LAST-MODIFIED:20251014T235053Z
UID:10001582-1807032600-1807038000@chattanoogametro.com
SUMMARY:Incredible Business Networking - Champy's
DESCRIPTION:Sponsored by Jurgen Mootz with Tradebank of Chattanooga \nCome Out and Meet New People / Brings Cards\, Brochures\, Etc. Free to attend\, no dues or fees No membership required No attendance requirements No category restrictions No Exclusions – all inclusive Buy food/drink if you wish (optional) Check our website for updates.
URL:https://chattanoogametro.com/event/incredible-business-networking-10/2027-04-06/
LOCATION:Champy’s Chicken\, 191 Ocoee Crossing NW\, Cleveland\, TN\, 37312\, United States
CATEGORIES:All Events,Networking Events
ATTACH;FMTTYPE=image/png:https://chattanoogametro.com/wp-content/uploads/2025/04/IBN-Logo.png
END:VEVENT
BEGIN:VEVENT
DTSTART;TZID=America/New_York:20270408T073000
DTEND;TZID=America/New_York:20270408T090000
DTSTAMP:20260421T093950
CREATED:20251014T205800Z
LAST-MODIFIED:20251014T234325Z
UID:10001702-1807169400-1807174800@chattanoogametro.com
SUMMARY:Incredible Business Networking - Eggs Up Grill
DESCRIPTION:Sponsored by Jurgen Mootz with Tradebank of Chattanooga \nCome Out and Meet New People / Brings Cards\, Brochures\, Etc. Free to attend\, no dues or fees No membership required No attendance requirements No category restrictions No Exclusions – all inclusive Buy food/drink if you wish (optional) Check our website for updates.
URL:https://chattanoogametro.com/event/incredible-business-networking/2027-04-08/
LOCATION:Eggs Up Grill\, 285 Paul Huff Parkway NW\, Cleveland\, 37312\, United States
CATEGORIES:All Events,Networking Events
ATTACH;FMTTYPE=image/png:https://chattanoogametro.com/wp-content/uploads/2025/04/IBN-Logo-1.png
END:VEVENT
BEGIN:VEVENT
DTSTART;TZID=America/New_York:20270408T113000
DTEND;TZID=America/New_York:20270408T130000
DTSTAMP:20260421T093950
CREATED:20251014T212737Z
LAST-MODIFIED:20251014T234220Z
UID:10001462-1807183800-1807189200@chattanoogametro.com
SUMMARY:Incredible Business Networking - El Jinete
DESCRIPTION:Sponsored by Jurgen Mootz with Tradebank of Chattanooga \nCome Out and Meet New People / Brings Cards\, Brochures\, Etc. Free to attend\, no dues or fees No membership required No attendance requirements No category restrictions No Exclusions – all inclusive Buy food/drink if you wish (optional) Check our website for updates.
URL:https://chattanoogametro.com/event/incredible-business-networking-8/2027-04-08/
LOCATION:El Jinette Mexican Rest\, 5031 Hixson Pike\, Hixson\, TN\, 37343\, United States
CATEGORIES:All Events,Networking Events
ATTACH;FMTTYPE=image/png:https://chattanoogametro.com/wp-content/uploads/2025/04/IBN-Logo.png
END:VEVENT
BEGIN:VEVENT
DTSTART;TZID=America/New_York:20270413T113000
DTEND;TZID=America/New_York:20270413T130000
DTSTAMP:20260421T093950
CREATED:20251014T211558Z
LAST-MODIFIED:20251014T234611Z
UID:10001342-1807615800-1807621200@chattanoogametro.com
SUMMARY:Incredible Business Networking - Jim n Nicks
DESCRIPTION:Sponsored by Jurgen Mootz with Tradebank of Chattanooga \nCome Out and Meet New People / Brings Cards\, Brochures\, Etc. Free to attend\, no dues or fees No membership required No attendance requirements No category restrictions No Exclusions – all inclusive Buy food/drink if you wish (optional) Check our website for updates.
URL:https://chattanoogametro.com/event/incredible-business-networking-5/2027-04-13/
LOCATION:Jim “N Nick’s\, 2040 Hamilton Pl Blvd Ste 150\, Chattanooga\, TN\, 37421\, United States
CATEGORIES:All Events,Networking Events
ATTACH;FMTTYPE=image/png:https://chattanoogametro.com/wp-content/uploads/2025/04/IBN-Logo.png
END:VEVENT
BEGIN:VEVENT
DTSTART;TZID=America/New_York:20270413T180000
DTEND;TZID=America/New_York:20270413T200000
DTSTAMP:20260421T093950
CREATED:20251014T214356Z
LAST-MODIFIED:20251014T234521Z
UID:10001762-1807639200-1807646400@chattanoogametro.com
SUMMARY:Incredible Business Networking - Broken Horseshoe Winery
DESCRIPTION:Sponsored by Jurgen Mootz with Tradebank of Chattanooga \nCome Out and Meet New People / Brings Cards\, Brochures\, Etc. Free to attend\, no dues or fees No membership required No attendance requirements No category restrictions No Exclusions – all inclusive Buy food/drink if you wish (optional) Check our website for updates.
URL:https://chattanoogametro.com/event/incredible-business-networking-11/2027-04-13/
LOCATION:Broken Horseshoe Winery & Vineyard\, 5 Legion Street\, Ringgold\, GA\, 30736\, United States
CATEGORIES:All Events,Networking Events
ATTACH;FMTTYPE=image/png:https://chattanoogametro.com/wp-content/uploads/2025/04/IBN-Logo.png
END:VEVENT
BEGIN:VEVENT
DTSTART;TZID=America/New_York:20270414T113000
DTEND;TZID=America/New_York:20270414T130000
DTSTAMP:20260421T093950
CREATED:20251014T212228Z
LAST-MODIFIED:20251014T234422Z
UID:10001402-1807702200-1807707600@chattanoogametro.com
SUMMARY:Incredible Business Networking - Agave Azul
DESCRIPTION:Sponsored by Jurgen Mootz with Tradebank of Chattanooga \nCome Out and Meet New People / Brings Cards\, Brochures\, Etc. Free to attend\, no dues or fees No membership required No attendance requirements No category restrictions No Exclusions – all inclusive Buy food/drink if you wish (optional) Check our website for updates.
URL:https://chattanoogametro.com/event/incredible-business-networking-7/2027-04-14/
LOCATION:Agave Azul Mexican Bar & Grill\, 4604 Skyview Drive\, Chattanooga\, TN\, 37416\, United States
CATEGORIES:All Events,Networking Events
ATTACH;FMTTYPE=image/png:https://chattanoogametro.com/wp-content/uploads/2025/04/IBN-Logo.png
END:VEVENT
BEGIN:VEVENT
DTSTART;TZID=UTC:20270415T113000
DTEND;TZID=UTC:20270415T130000
DTSTAMP:20260421T093950
CREATED:20241231T012443Z
LAST-MODIFIED:20241231T020055Z
UID:10000405-1807788600-1807794000@chattanoogametro.com
SUMMARY:Mas Tequila Lunch Networking Event
DESCRIPTION:FREE Lunch Networking Event. Bring a friend\, meet new people.
URL:https://chattanoogametro.com/event/mas-tequila-lunch-networking-event/2027-04-15/
LOCATION:Mas Tequila Mexican Bar & Grill\, 4134 Ringgold Road\, East Ridge\, TN\, 37412\, United States
CATEGORIES:Networking Events
ATTACH;FMTTYPE=image/jpeg:https://chattanoogametro.com/wp-content/uploads/2024/12/Mas-Tequia-Events.jpg
END:VEVENT
BEGIN:VEVENT
DTSTART;TZID=America/New_York:20270419T073000
DTEND;TZID=America/New_York:20270419T090000
DTSTAMP:20260421T093950
CREATED:20251014T205002Z
LAST-MODIFIED:20251015T001109Z
UID:10001822-1808119800-1808125200@chattanoogametro.com
SUMMARY:Incredible Business Networking - Grindhead Coffee
DESCRIPTION:Sponsored by Jurgen Mootz with Tradebank of Chattanooga \nCome Out and Meet New People / Brings Cards\, Brochures\, Etc. Free to attend\, no dues or fees No membership required No attendance requirements No category restrictions No Exclusions – all inclusive Buy food/drink if you wish (optional) Check our website for updates.
URL:https://chattanoogametro.com/event/incredible-business-networking-4-2/2027-04-19/
LOCATION:Grindhead Coffee\, 7955 East Brainerd Road\, Chattanooga\, TN\, 37421\, United States
CATEGORIES:All Events,Networking Events
ATTACH;FMTTYPE=image/png:https://chattanoogametro.com/wp-content/uploads/2025/04/IBN-Logo.png
END:VEVENT
BEGIN:VEVENT
DTSTART;TZID=America/New_York:20270421T113000
DTEND;TZID=America/New_York:20270421T130000
DTSTAMP:20260421T093950
CREATED:20250424T014039Z
LAST-MODIFIED:20251014T234102Z
UID:10000606-1808307000-1808312400@chattanoogametro.com
SUMMARY:Incredible Business Networking - Local Goat
DESCRIPTION:Sponsored by Jurgen Mootz with Tradebank of Chattanooga \nCome Out and Meet New People / Brings Cards\, Brochures\, Etc. \n\nFree to attend\, no dues or fees\nNo membership required\nNo attendance requirements\nNo category restrictions\nNo Exclusions – all inclusive\nBuy food/drink if you wish (optional)\n\nCheck our website for updates.
URL:https://chattanoogametro.com/event/incredible-business-networking-3/2027-04-21/
LOCATION:Local Goat\, 6108 Artesian Circle\, Ooltewah\, TN\, 37363\, United States
CATEGORIES:Networking Events
ATTACH;FMTTYPE=image/png:https://chattanoogametro.com/wp-content/uploads/2025/04/IBN-Logo.png
END:VEVENT
BEGIN:VEVENT
DTSTART;TZID=America/New_York:20270428T113000
DTEND;TZID=America/New_York:20270428T130000
DTSTAMP:20260421T093950
CREATED:20251014T235420Z
LAST-MODIFIED:20251015T000734Z
UID:10000728-1808911800-1808917200@chattanoogametro.com
SUMMARY:Incredible Business Networking - Farm to Folk
DESCRIPTION:Sponsored by Jurgen Mootz with Tradebank of Chattanooga \nCome Out and Meet New People / Brings Cards\, Brochures\, Etc. Free to attend\, no dues or fees No membership required No attendance requirements No category restrictions No Exclusions – all inclusive Buy food/drink if you wish (optional) Check our website for updates.
URL:https://chattanoogametro.com/event/incredible-business-networking-6-2/2027-04-28/
LOCATION:Farm to Folk\, 120 General Lee Street\, Ringgold\, GA\, 30736
CATEGORIES:All Events,Networking Events
ATTACH;FMTTYPE=image/png:https://chattanoogametro.com/wp-content/uploads/2025/04/IBN-Logo.png
END:VEVENT
BEGIN:VEVENT
DTSTART;TZID=America/New_York:20270503T170000
DTEND;TZID=America/New_York:20270503T190000
DTSTAMP:20260421T093950
CREATED:20251014T213604Z
LAST-MODIFIED:20251014T235156Z
UID:10001523-1809363600-1809370800@chattanoogametro.com
SUMMARY:Incredible Business Networking - Amigos
DESCRIPTION:Sponsored by Jurgen Mootz with Tradebank of Chattanooga \nCome Out and Meet New People / Brings Cards\, Brochures\, Etc. Free to attend\, no dues or fees No membership required No attendance requirements No category restrictions No Exclusions – all inclusive Buy food/drink if you wish (optional) Check our website for updates. \nLocated inside Island Cove Marina
URL:https://chattanoogametro.com/event/incredible-business-networking-9/2027-05-03/
LOCATION:Amigos Mexican Rest\, 6830 Flamingo Lane\, Harrison\, TN\, 37341\, United States
CATEGORIES:All Events,Networking Events
ATTACH;FMTTYPE=image/png:https://chattanoogametro.com/wp-content/uploads/2025/04/IBN-Logo.png
END:VEVENT
BEGIN:VEVENT
DTSTART;TZID=America/New_York:20270504T173000
DTEND;TZID=America/New_York:20270504T190000
DTSTAMP:20260421T093950
CREATED:20251014T213946Z
LAST-MODIFIED:20251014T235053Z
UID:10001583-1809451800-1809457200@chattanoogametro.com
SUMMARY:Incredible Business Networking - Champy's
DESCRIPTION:Sponsored by Jurgen Mootz with Tradebank of Chattanooga \nCome Out and Meet New People / Brings Cards\, Brochures\, Etc. Free to attend\, no dues or fees No membership required No attendance requirements No category restrictions No Exclusions – all inclusive Buy food/drink if you wish (optional) Check our website for updates.
URL:https://chattanoogametro.com/event/incredible-business-networking-10/2027-05-04/
LOCATION:Champy’s Chicken\, 191 Ocoee Crossing NW\, Cleveland\, TN\, 37312\, United States
CATEGORIES:All Events,Networking Events
ATTACH;FMTTYPE=image/png:https://chattanoogametro.com/wp-content/uploads/2025/04/IBN-Logo.png
END:VEVENT
BEGIN:VEVENT
DTSTART;TZID=America/New_York:20270506T113000
DTEND;TZID=America/New_York:20270506T130000
DTSTAMP:20260421T093950
CREATED:20251014T211001Z
LAST-MODIFIED:20251015T000531Z
UID:10001145-1809603000-1809608400@chattanoogametro.com
SUMMARY:Incredible Business Networking - Parkway Pourhouse
DESCRIPTION:Sponsored by Jurgen Mootz with Tradebank of Chattanooga \nCome Out and Meet New People / Brings Cards\, Brochures\, Etc. Free to attend\, no dues or fees No membership required No attendance requirements No category restrictions No Exclusions – all inclusive Buy food/drink if you wish (optional) Check our website for updates.
URL:https://chattanoogametro.com/event/incredible-business-networking-2/2027-05-06/
LOCATION:Parkway Pourhouse\, 801 Riverfront Parkway\, Chattanooga\, TN\, 37402\, United States
CATEGORIES:All Events,Networking Events
ATTACH;FMTTYPE=image/png:https://chattanoogametro.com/wp-content/uploads/2025/04/IBN-Logo.png
END:VEVENT
BEGIN:VEVENT
DTSTART;TZID=America/New_York:20270511T113000
DTEND;TZID=America/New_York:20270511T130000
DTSTAMP:20260421T093950
CREATED:20251014T211558Z
LAST-MODIFIED:20251014T234611Z
UID:10001343-1810035000-1810040400@chattanoogametro.com
SUMMARY:Incredible Business Networking - Jim n Nicks
DESCRIPTION:Sponsored by Jurgen Mootz with Tradebank of Chattanooga \nCome Out and Meet New People / Brings Cards\, Brochures\, Etc. Free to attend\, no dues or fees No membership required No attendance requirements No category restrictions No Exclusions – all inclusive Buy food/drink if you wish (optional) Check our website for updates.
URL:https://chattanoogametro.com/event/incredible-business-networking-5/2027-05-11/
LOCATION:Jim “N Nick’s\, 2040 Hamilton Pl Blvd Ste 150\, Chattanooga\, TN\, 37421\, United States
CATEGORIES:All Events,Networking Events
ATTACH;FMTTYPE=image/png:https://chattanoogametro.com/wp-content/uploads/2025/04/IBN-Logo.png
END:VEVENT
BEGIN:VEVENT
DTSTART;TZID=America/New_York:20270511T180000
DTEND;TZID=America/New_York:20270511T200000
DTSTAMP:20260421T093950
CREATED:20251014T214356Z
LAST-MODIFIED:20251014T234521Z
UID:10001763-1810058400-1810065600@chattanoogametro.com
SUMMARY:Incredible Business Networking - Broken Horseshoe Winery
DESCRIPTION:Sponsored by Jurgen Mootz with Tradebank of Chattanooga \nCome Out and Meet New People / Brings Cards\, Brochures\, Etc. Free to attend\, no dues or fees No membership required No attendance requirements No category restrictions No Exclusions – all inclusive Buy food/drink if you wish (optional) Check our website for updates.
URL:https://chattanoogametro.com/event/incredible-business-networking-11/2027-05-11/
LOCATION:Broken Horseshoe Winery & Vineyard\, 5 Legion Street\, Ringgold\, GA\, 30736\, United States
CATEGORIES:All Events,Networking Events
ATTACH;FMTTYPE=image/png:https://chattanoogametro.com/wp-content/uploads/2025/04/IBN-Logo.png
END:VEVENT
BEGIN:VEVENT
DTSTART;TZID=America/New_York:20270512T113000
DTEND;TZID=America/New_York:20270512T130000
DTSTAMP:20260421T093950
CREATED:20251014T212228Z
LAST-MODIFIED:20251014T234422Z
UID:10001403-1810121400-1810126800@chattanoogametro.com
SUMMARY:Incredible Business Networking - Agave Azul
DESCRIPTION:Sponsored by Jurgen Mootz with Tradebank of Chattanooga \nCome Out and Meet New People / Brings Cards\, Brochures\, Etc. Free to attend\, no dues or fees No membership required No attendance requirements No category restrictions No Exclusions – all inclusive Buy food/drink if you wish (optional) Check our website for updates.
URL:https://chattanoogametro.com/event/incredible-business-networking-7/2027-05-12/
LOCATION:Agave Azul Mexican Bar & Grill\, 4604 Skyview Drive\, Chattanooga\, TN\, 37416\, United States
CATEGORIES:All Events,Networking Events
ATTACH;FMTTYPE=image/png:https://chattanoogametro.com/wp-content/uploads/2025/04/IBN-Logo.png
END:VEVENT
BEGIN:VEVENT
DTSTART;TZID=America/New_York:20270513T073000
DTEND;TZID=America/New_York:20270513T090000
DTSTAMP:20260421T093950
CREATED:20251014T205800Z
LAST-MODIFIED:20251014T234325Z
UID:10001703-1810193400-1810198800@chattanoogametro.com
SUMMARY:Incredible Business Networking - Eggs Up Grill
DESCRIPTION:Sponsored by Jurgen Mootz with Tradebank of Chattanooga \nCome Out and Meet New People / Brings Cards\, Brochures\, Etc. Free to attend\, no dues or fees No membership required No attendance requirements No category restrictions No Exclusions – all inclusive Buy food/drink if you wish (optional) Check our website for updates.
URL:https://chattanoogametro.com/event/incredible-business-networking/2027-05-13/
LOCATION:Eggs Up Grill\, 285 Paul Huff Parkway NW\, Cleveland\, 37312\, United States
CATEGORIES:All Events,Networking Events
ATTACH;FMTTYPE=image/png:https://chattanoogametro.com/wp-content/uploads/2025/04/IBN-Logo-1.png
END:VEVENT
BEGIN:VEVENT
DTSTART;TZID=America/New_York:20270513T113000
DTEND;TZID=America/New_York:20270513T130000
DTSTAMP:20260421T093950
CREATED:20251014T212737Z
LAST-MODIFIED:20251014T234220Z
UID:10001463-1810207800-1810213200@chattanoogametro.com
SUMMARY:Incredible Business Networking - El Jinete
DESCRIPTION:Sponsored by Jurgen Mootz with Tradebank of Chattanooga \nCome Out and Meet New People / Brings Cards\, Brochures\, Etc. Free to attend\, no dues or fees No membership required No attendance requirements No category restrictions No Exclusions – all inclusive Buy food/drink if you wish (optional) Check our website for updates.
URL:https://chattanoogametro.com/event/incredible-business-networking-8/2027-05-13/
LOCATION:El Jinette Mexican Rest\, 5031 Hixson Pike\, Hixson\, TN\, 37343\, United States
CATEGORIES:All Events,Networking Events
ATTACH;FMTTYPE=image/png:https://chattanoogametro.com/wp-content/uploads/2025/04/IBN-Logo.png
END:VEVENT
BEGIN:VEVENT
DTSTART;TZID=America/New_York:20270517T073000
DTEND;TZID=America/New_York:20270517T090000
DTSTAMP:20260421T093950
CREATED:20251014T205002Z
LAST-MODIFIED:20251015T001109Z
UID:10001823-1810539000-1810544400@chattanoogametro.com
SUMMARY:Incredible Business Networking - Grindhead Coffee
DESCRIPTION:Sponsored by Jurgen Mootz with Tradebank of Chattanooga \nCome Out and Meet New People / Brings Cards\, Brochures\, Etc. Free to attend\, no dues or fees No membership required No attendance requirements No category restrictions No Exclusions – all inclusive Buy food/drink if you wish (optional) Check our website for updates.
URL:https://chattanoogametro.com/event/incredible-business-networking-4-2/2027-05-17/
LOCATION:Grindhead Coffee\, 7955 East Brainerd Road\, Chattanooga\, TN\, 37421\, United States
CATEGORIES:All Events,Networking Events
ATTACH;FMTTYPE=image/png:https://chattanoogametro.com/wp-content/uploads/2025/04/IBN-Logo.png
END:VEVENT
BEGIN:VEVENT
DTSTART;TZID=America/New_York:20270519T113000
DTEND;TZID=America/New_York:20270519T130000
DTSTAMP:20260421T093950
CREATED:20250424T014039Z
LAST-MODIFIED:20251014T234102Z
UID:10000607-1810726200-1810731600@chattanoogametro.com
SUMMARY:Incredible Business Networking - Local Goat
DESCRIPTION:Sponsored by Jurgen Mootz with Tradebank of Chattanooga \nCome Out and Meet New People / Brings Cards\, Brochures\, Etc. \n\nFree to attend\, no dues or fees\nNo membership required\nNo attendance requirements\nNo category restrictions\nNo Exclusions – all inclusive\nBuy food/drink if you wish (optional)\n\nCheck our website for updates.
URL:https://chattanoogametro.com/event/incredible-business-networking-3/2027-05-19/
LOCATION:Local Goat\, 6108 Artesian Circle\, Ooltewah\, TN\, 37363\, United States
CATEGORIES:Networking Events
ATTACH;FMTTYPE=image/png:https://chattanoogametro.com/wp-content/uploads/2025/04/IBN-Logo.png
END:VEVENT
BEGIN:VEVENT
DTSTART;TZID=UTC:20270520T113000
DTEND;TZID=UTC:20270520T130000
DTSTAMP:20260421T093950
CREATED:20241231T012443Z
LAST-MODIFIED:20241231T020055Z
UID:10000406-1810812600-1810818000@chattanoogametro.com
SUMMARY:Mas Tequila Lunch Networking Event
DESCRIPTION:FREE Lunch Networking Event. Bring a friend\, meet new people.
URL:https://chattanoogametro.com/event/mas-tequila-lunch-networking-event/2027-05-20/
LOCATION:Mas Tequila Mexican Bar & Grill\, 4134 Ringgold Road\, East Ridge\, TN\, 37412\, United States
CATEGORIES:Networking Events
ATTACH;FMTTYPE=image/jpeg:https://chattanoogametro.com/wp-content/uploads/2024/12/Mas-Tequia-Events.jpg
END:VEVENT
BEGIN:VEVENT
DTSTART;TZID=America/New_York:20270526T113000
DTEND;TZID=America/New_York:20270526T130000
DTSTAMP:20260421T093950
CREATED:20251014T235420Z
LAST-MODIFIED:20251015T000734Z
UID:10000729-1811331000-1811336400@chattanoogametro.com
SUMMARY:Incredible Business Networking - Farm to Folk
DESCRIPTION:Sponsored by Jurgen Mootz with Tradebank of Chattanooga \nCome Out and Meet New People / Brings Cards\, Brochures\, Etc. Free to attend\, no dues or fees No membership required No attendance requirements No category restrictions No Exclusions – all inclusive Buy food/drink if you wish (optional) Check our website for updates.
URL:https://chattanoogametro.com/event/incredible-business-networking-6-2/2027-05-26/
LOCATION:Farm to Folk\, 120 General Lee Street\, Ringgold\, GA\, 30736
CATEGORIES:All Events,Networking Events
ATTACH;FMTTYPE=image/png:https://chattanoogametro.com/wp-content/uploads/2025/04/IBN-Logo.png
END:VEVENT
BEGIN:VEVENT
DTSTART;TZID=America/New_York:20270601T173000
DTEND;TZID=America/New_York:20270601T190000
DTSTAMP:20260421T093950
CREATED:20251014T213946Z
LAST-MODIFIED:20251014T235053Z
UID:10001584-1811871000-1811876400@chattanoogametro.com
SUMMARY:Incredible Business Networking - Champy's
DESCRIPTION:Sponsored by Jurgen Mootz with Tradebank of Chattanooga \nCome Out and Meet New People / Brings Cards\, Brochures\, Etc. Free to attend\, no dues or fees No membership required No attendance requirements No category restrictions No Exclusions – all inclusive Buy food/drink if you wish (optional) Check our website for updates.
URL:https://chattanoogametro.com/event/incredible-business-networking-10/2027-06-01/
LOCATION:Champy’s Chicken\, 191 Ocoee Crossing NW\, Cleveland\, TN\, 37312\, United States
CATEGORIES:All Events,Networking Events
ATTACH;FMTTYPE=image/png:https://chattanoogametro.com/wp-content/uploads/2025/04/IBN-Logo.png
END:VEVENT
BEGIN:VEVENT
DTSTART;TZID=America/New_York:20270603T113000
DTEND;TZID=America/New_York:20270603T130000
DTSTAMP:20260421T093950
CREATED:20251014T211001Z
LAST-MODIFIED:20251015T000531Z
UID:10001149-1812022200-1812027600@chattanoogametro.com
SUMMARY:Incredible Business Networking - Parkway Pourhouse
DESCRIPTION:Sponsored by Jurgen Mootz with Tradebank of Chattanooga \nCome Out and Meet New People / Brings Cards\, Brochures\, Etc. Free to attend\, no dues or fees No membership required No attendance requirements No category restrictions No Exclusions – all inclusive Buy food/drink if you wish (optional) Check our website for updates.
URL:https://chattanoogametro.com/event/incredible-business-networking-2/2027-06-03/
LOCATION:Parkway Pourhouse\, 801 Riverfront Parkway\, Chattanooga\, TN\, 37402\, United States
CATEGORIES:All Events,Networking Events
ATTACH;FMTTYPE=image/png:https://chattanoogametro.com/wp-content/uploads/2025/04/IBN-Logo.png
END:VEVENT
BEGIN:VEVENT
DTSTART;TZID=America/New_York:20270607T170000
DTEND;TZID=America/New_York:20270607T190000
DTSTAMP:20260421T093950
CREATED:20251014T213604Z
LAST-MODIFIED:20251014T235156Z
UID:10001524-1812387600-1812394800@chattanoogametro.com
SUMMARY:Incredible Business Networking - Amigos
DESCRIPTION:Sponsored by Jurgen Mootz with Tradebank of Chattanooga \nCome Out and Meet New People / Brings Cards\, Brochures\, Etc. Free to attend\, no dues or fees No membership required No attendance requirements No category restrictions No Exclusions – all inclusive Buy food/drink if you wish (optional) Check our website for updates. \nLocated inside Island Cove Marina
URL:https://chattanoogametro.com/event/incredible-business-networking-9/2027-06-07/
LOCATION:Amigos Mexican Rest\, 6830 Flamingo Lane\, Harrison\, TN\, 37341\, United States
CATEGORIES:All Events,Networking Events
ATTACH;FMTTYPE=image/png:https://chattanoogametro.com/wp-content/uploads/2025/04/IBN-Logo.png
END:VEVENT
BEGIN:VEVENT
DTSTART;TZID=America/New_York:20270608T113000
DTEND;TZID=America/New_York:20270608T130000
DTSTAMP:20260421T093950
CREATED:20251014T211558Z
LAST-MODIFIED:20251014T234611Z
UID:10001344-1812454200-1812459600@chattanoogametro.com
SUMMARY:Incredible Business Networking - Jim n Nicks
DESCRIPTION:Sponsored by Jurgen Mootz with Tradebank of Chattanooga \nCome Out and Meet New People / Brings Cards\, Brochures\, Etc. Free to attend\, no dues or fees No membership required No attendance requirements No category restrictions No Exclusions – all inclusive Buy food/drink if you wish (optional) Check our website for updates.
URL:https://chattanoogametro.com/event/incredible-business-networking-5/2027-06-08/
LOCATION:Jim “N Nick’s\, 2040 Hamilton Pl Blvd Ste 150\, Chattanooga\, TN\, 37421\, United States
CATEGORIES:All Events,Networking Events
ATTACH;FMTTYPE=image/png:https://chattanoogametro.com/wp-content/uploads/2025/04/IBN-Logo.png
END:VEVENT
BEGIN:VEVENT
DTSTART;TZID=America/New_York:20270608T180000
DTEND;TZID=America/New_York:20270608T200000
DTSTAMP:20260421T093950
CREATED:20251014T214356Z
LAST-MODIFIED:20251014T234521Z
UID:10001764-1812477600-1812484800@chattanoogametro.com
SUMMARY:Incredible Business Networking - Broken Horseshoe Winery
DESCRIPTION:Sponsored by Jurgen Mootz with Tradebank of Chattanooga \nCome Out and Meet New People / Brings Cards\, Brochures\, Etc. Free to attend\, no dues or fees No membership required No attendance requirements No category restrictions No Exclusions – all inclusive Buy food/drink if you wish (optional) Check our website for updates.
URL:https://chattanoogametro.com/event/incredible-business-networking-11/2027-06-08/
LOCATION:Broken Horseshoe Winery & Vineyard\, 5 Legion Street\, Ringgold\, GA\, 30736\, United States
CATEGORIES:All Events,Networking Events
ATTACH;FMTTYPE=image/png:https://chattanoogametro.com/wp-content/uploads/2025/04/IBN-Logo.png
END:VEVENT
BEGIN:VEVENT
DTSTART;TZID=America/New_York:20270609T113000
DTEND;TZID=America/New_York:20270609T130000
DTSTAMP:20260421T093950
CREATED:20251014T212228Z
LAST-MODIFIED:20251014T234422Z
UID:10001404-1812540600-1812546000@chattanoogametro.com
SUMMARY:Incredible Business Networking - Agave Azul
DESCRIPTION:Sponsored by Jurgen Mootz with Tradebank of Chattanooga \nCome Out and Meet New People / Brings Cards\, Brochures\, Etc. Free to attend\, no dues or fees No membership required No attendance requirements No category restrictions No Exclusions – all inclusive Buy food/drink if you wish (optional) Check our website for updates.
URL:https://chattanoogametro.com/event/incredible-business-networking-7/2027-06-09/
LOCATION:Agave Azul Mexican Bar & Grill\, 4604 Skyview Drive\, Chattanooga\, TN\, 37416\, United States
CATEGORIES:All Events,Networking Events
ATTACH;FMTTYPE=image/png:https://chattanoogametro.com/wp-content/uploads/2025/04/IBN-Logo.png
END:VEVENT
END:VCALENDAR