BEGIN:VCALENDAR
VERSION:2.0
PRODID:-//Chattanooga Metro - ECPv6.15.20//NONSGML v1.0//EN
CALSCALE:GREGORIAN
METHOD:PUBLISH
X-WR-CALNAME:Chattanooga Metro
X-ORIGINAL-URL:https://chattanoogametro.com
X-WR-CALDESC:Events for Chattanooga Metro
REFRESH-INTERVAL;VALUE=DURATION:PT1H
X-Robots-Tag:noindex
X-PUBLISHED-TTL:PT1H
BEGIN:VTIMEZONE
TZID:America/New_York
BEGIN:DAYLIGHT
TZOFFSETFROM:-0500
TZOFFSETTO:-0400
TZNAME:EDT
DTSTART:20260308T070000
END:DAYLIGHT
BEGIN:STANDARD
TZOFFSETFROM:-0400
TZOFFSETTO:-0500
TZNAME:EST
DTSTART:20261101T060000
END:STANDARD
BEGIN:DAYLIGHT
TZOFFSETFROM:-0500
TZOFFSETTO:-0400
TZNAME:EDT
DTSTART:20270314T070000
END:DAYLIGHT
BEGIN:STANDARD
TZOFFSETFROM:-0400
TZOFFSETTO:-0500
TZNAME:EST
DTSTART:20271107T060000
END:STANDARD
BEGIN:DAYLIGHT
TZOFFSETFROM:-0500
TZOFFSETTO:-0400
TZNAME:EDT
DTSTART:20280312T070000
END:DAYLIGHT
BEGIN:STANDARD
TZOFFSETFROM:-0400
TZOFFSETTO:-0500
TZNAME:EST
DTSTART:20281105T060000
END:STANDARD
END:VTIMEZONE
BEGIN:VEVENT
DTSTART;TZID=America/New_York:20270311T113000
DTEND;TZID=America/New_York:20270311T130000
DTSTAMP:20260422T182515
CREATED:20251014T212737Z
LAST-MODIFIED:20251014T234220Z
UID:10001461-1804764600-1804770000@chattanoogametro.com
SUMMARY:Incredible Business Networking - El Jinete
DESCRIPTION:Sponsored by Jurgen Mootz with Tradebank of Chattanooga \nCome Out and Meet New People / Brings Cards\, Brochures\, Etc. Free to attend\, no dues or fees No membership required No attendance requirements No category restrictions No Exclusions – all inclusive Buy food/drink if you wish (optional) Check our website for updates.
URL:https://chattanoogametro.com/event/incredible-business-networking-8/2027-03-11/
LOCATION:El Jinette Mexican Rest\, 5031 Hixson Pike\, Hixson\, TN\, 37343\, United States
CATEGORIES:All Events,Networking Events
ATTACH;FMTTYPE=image/png:https://chattanoogametro.com/wp-content/uploads/2025/04/IBN-Logo.png
END:VEVENT
BEGIN:VEVENT
DTSTART;TZID=America/New_York:20270317T113000
DTEND;TZID=America/New_York:20270317T130000
DTSTAMP:20260422T182515
CREATED:20250424T014039Z
LAST-MODIFIED:20251014T234102Z
UID:10000605-1805283000-1805288400@chattanoogametro.com
SUMMARY:Incredible Business Networking - Local Goat
DESCRIPTION:Sponsored by Jurgen Mootz with Tradebank of Chattanooga \nCome Out and Meet New People / Brings Cards\, Brochures\, Etc. \n\nFree to attend\, no dues or fees\nNo membership required\nNo attendance requirements\nNo category restrictions\nNo Exclusions – all inclusive\nBuy food/drink if you wish (optional)\n\nCheck our website for updates.
URL:https://chattanoogametro.com/event/incredible-business-networking-3/2027-03-17/
LOCATION:Local Goat\, 6108 Artesian Circle\, Ooltewah\, TN\, 37363\, United States
CATEGORIES:Networking Events
ATTACH;FMTTYPE=image/png:https://chattanoogametro.com/wp-content/uploads/2025/04/IBN-Logo.png
END:VEVENT
BEGIN:VEVENT
DTSTART;TZID=America/New_York:20270324T113000
DTEND;TZID=America/New_York:20270324T130000
DTSTAMP:20260422T182515
CREATED:20251014T235420Z
LAST-MODIFIED:20251015T000734Z
UID:10000727-1805887800-1805893200@chattanoogametro.com
SUMMARY:Incredible Business Networking - Farm to Folk
DESCRIPTION:Sponsored by Jurgen Mootz with Tradebank of Chattanooga \nCome Out and Meet New People / Brings Cards\, Brochures\, Etc. Free to attend\, no dues or fees No membership required No attendance requirements No category restrictions No Exclusions – all inclusive Buy food/drink if you wish (optional) Check our website for updates.
URL:https://chattanoogametro.com/event/incredible-business-networking-6-2/2027-03-24/
LOCATION:Farm to Folk\, 120 General Lee Street\, Ringgold\, GA\, 30736
CATEGORIES:All Events,Networking Events
ATTACH;FMTTYPE=image/png:https://chattanoogametro.com/wp-content/uploads/2025/04/IBN-Logo.png
END:VEVENT
BEGIN:VEVENT
DTSTART;TZID=America/New_York:20270401T113000
DTEND;TZID=America/New_York:20270401T130000
DTSTAMP:20260422T182515
CREATED:20251014T211001Z
LAST-MODIFIED:20251015T000531Z
UID:10001140-1806579000-1806584400@chattanoogametro.com
SUMMARY:Incredible Business Networking - Parkway Pourhouse
DESCRIPTION:Sponsored by Jurgen Mootz with Tradebank of Chattanooga \nCome Out and Meet New People / Brings Cards\, Brochures\, Etc. Free to attend\, no dues or fees No membership required No attendance requirements No category restrictions No Exclusions – all inclusive Buy food/drink if you wish (optional) Check our website for updates.
URL:https://chattanoogametro.com/event/incredible-business-networking-2/2027-04-01/
LOCATION:Parkway Pourhouse\, 801 Riverfront Parkway\, Chattanooga\, TN\, 37402\, United States
CATEGORIES:All Events,Networking Events
ATTACH;FMTTYPE=image/png:https://chattanoogametro.com/wp-content/uploads/2025/04/IBN-Logo.png
END:VEVENT
END:VCALENDAR