BEGIN:VCALENDAR
VERSION:2.0
PRODID:-//Chattanooga Metro - ECPv6.15.20//NONSGML v1.0//EN
CALSCALE:GREGORIAN
METHOD:PUBLISH
X-ORIGINAL-URL:https://chattanoogametro.com
X-WR-CALDESC:Events for Chattanooga Metro
REFRESH-INTERVAL;VALUE=DURATION:PT1H
X-Robots-Tag:noindex
X-PUBLISHED-TTL:PT1H
BEGIN:VTIMEZONE
TZID:America/New_York
BEGIN:DAYLIGHT
TZOFFSETFROM:-0500
TZOFFSETTO:-0400
TZNAME:EDT
DTSTART:20250309T070000
END:DAYLIGHT
BEGIN:STANDARD
TZOFFSETFROM:-0400
TZOFFSETTO:-0500
TZNAME:EST
DTSTART:20251102T060000
END:STANDARD
BEGIN:DAYLIGHT
TZOFFSETFROM:-0500
TZOFFSETTO:-0400
TZNAME:EDT
DTSTART:20260308T070000
END:DAYLIGHT
BEGIN:STANDARD
TZOFFSETFROM:-0400
TZOFFSETTO:-0500
TZNAME:EST
DTSTART:20261101T060000
END:STANDARD
BEGIN:DAYLIGHT
TZOFFSETFROM:-0500
TZOFFSETTO:-0400
TZNAME:EDT
DTSTART:20270314T070000
END:DAYLIGHT
BEGIN:STANDARD
TZOFFSETFROM:-0400
TZOFFSETTO:-0500
TZNAME:EST
DTSTART:20271107T060000
END:STANDARD
END:VTIMEZONE
BEGIN:VTIMEZONE
TZID:UTC
BEGIN:STANDARD
TZOFFSETFROM:+0000
TZOFFSETTO:+0000
TZNAME:UTC
DTSTART:20250101T000000
END:STANDARD
END:VTIMEZONE
BEGIN:VEVENT
DTSTART;TZID=America/New_York:20260803T170000
DTEND;TZID=America/New_York:20260803T190000
DTSTAMP:20260420T211750
CREATED:20251014T213604Z
LAST-MODIFIED:20251014T235156Z
UID:10001514-1785776400-1785783600@chattanoogametro.com
SUMMARY:Incredible Business Networking - Amigos
DESCRIPTION:Sponsored by Jurgen Mootz with Tradebank of Chattanooga \nCome Out and Meet New People / Brings Cards\, Brochures\, Etc. Free to attend\, no dues or fees No membership required No attendance requirements No category restrictions No Exclusions – all inclusive Buy food/drink if you wish (optional) Check our website for updates. \nLocated inside Island Cove Marina
URL:https://chattanoogametro.com/event/incredible-business-networking-9/2026-08-03/
LOCATION:Amigos Mexican Rest\, 6830 Flamingo Lane\, Harrison\, TN\, 37341\, United States
CATEGORIES:All Events,Networking Events
ATTACH;FMTTYPE=image/png:https://chattanoogametro.com/wp-content/uploads/2025/04/IBN-Logo.png
END:VEVENT
BEGIN:VEVENT
DTSTART;TZID=America/New_York:20260804T173000
DTEND;TZID=America/New_York:20260804T190000
DTSTAMP:20260420T211750
CREATED:20251014T213946Z
LAST-MODIFIED:20251014T235053Z
UID:10001574-1785864600-1785870000@chattanoogametro.com
SUMMARY:Incredible Business Networking - Champy's
DESCRIPTION:Sponsored by Jurgen Mootz with Tradebank of Chattanooga \nCome Out and Meet New People / Brings Cards\, Brochures\, Etc. Free to attend\, no dues or fees No membership required No attendance requirements No category restrictions No Exclusions – all inclusive Buy food/drink if you wish (optional) Check our website for updates.
URL:https://chattanoogametro.com/event/incredible-business-networking-10/2026-08-04/
LOCATION:Champy’s Chicken\, 191 Ocoee Crossing NW\, Cleveland\, TN\, 37312\, United States
CATEGORIES:All Events,Networking Events
ATTACH;FMTTYPE=image/png:https://chattanoogametro.com/wp-content/uploads/2025/04/IBN-Logo.png
END:VEVENT
BEGIN:VEVENT
DTSTART;TZID=America/New_York:20260806T113000
DTEND;TZID=America/New_York:20260806T130000
DTSTAMP:20260420T211750
CREATED:20251014T211001Z
LAST-MODIFIED:20251015T000531Z
UID:10001106-1786015800-1786021200@chattanoogametro.com
SUMMARY:Incredible Business Networking - Parkway Pourhouse
DESCRIPTION:Sponsored by Jurgen Mootz with Tradebank of Chattanooga \nCome Out and Meet New People / Brings Cards\, Brochures\, Etc. Free to attend\, no dues or fees No membership required No attendance requirements No category restrictions No Exclusions – all inclusive Buy food/drink if you wish (optional) Check our website for updates.
URL:https://chattanoogametro.com/event/incredible-business-networking-2/2026-08-06/
LOCATION:Parkway Pourhouse\, 801 Riverfront Parkway\, Chattanooga\, TN\, 37402\, United States
CATEGORIES:All Events,Networking Events
ATTACH;FMTTYPE=image/png:https://chattanoogametro.com/wp-content/uploads/2025/04/IBN-Logo.png
END:VEVENT
BEGIN:VEVENT
DTSTART;TZID=America/New_York:20260811T113000
DTEND;TZID=America/New_York:20260811T130000
DTSTAMP:20260420T211750
CREATED:20251014T211558Z
LAST-MODIFIED:20251014T234611Z
UID:10001334-1786447800-1786453200@chattanoogametro.com
SUMMARY:Incredible Business Networking - Jim n Nicks
DESCRIPTION:Sponsored by Jurgen Mootz with Tradebank of Chattanooga \nCome Out and Meet New People / Brings Cards\, Brochures\, Etc. Free to attend\, no dues or fees No membership required No attendance requirements No category restrictions No Exclusions – all inclusive Buy food/drink if you wish (optional) Check our website for updates.
URL:https://chattanoogametro.com/event/incredible-business-networking-5/2026-08-11/
LOCATION:Jim “N Nick’s\, 2040 Hamilton Pl Blvd Ste 150\, Chattanooga\, TN\, 37421\, United States
CATEGORIES:All Events,Networking Events
ATTACH;FMTTYPE=image/png:https://chattanoogametro.com/wp-content/uploads/2025/04/IBN-Logo.png
END:VEVENT
BEGIN:VEVENT
DTSTART;TZID=America/New_York:20260811T180000
DTEND;TZID=America/New_York:20260811T200000
DTSTAMP:20260420T211750
CREATED:20251014T214356Z
LAST-MODIFIED:20251014T234521Z
UID:10001754-1786471200-1786478400@chattanoogametro.com
SUMMARY:Incredible Business Networking - Broken Horseshoe Winery
DESCRIPTION:Sponsored by Jurgen Mootz with Tradebank of Chattanooga \nCome Out and Meet New People / Brings Cards\, Brochures\, Etc. Free to attend\, no dues or fees No membership required No attendance requirements No category restrictions No Exclusions – all inclusive Buy food/drink if you wish (optional) Check our website for updates.
URL:https://chattanoogametro.com/event/incredible-business-networking-11/2026-08-11/
LOCATION:Broken Horseshoe Winery & Vineyard\, 5 Legion Street\, Ringgold\, GA\, 30736\, United States
CATEGORIES:All Events,Networking Events
ATTACH;FMTTYPE=image/png:https://chattanoogametro.com/wp-content/uploads/2025/04/IBN-Logo.png
END:VEVENT
BEGIN:VEVENT
DTSTART;TZID=America/New_York:20260812T113000
DTEND;TZID=America/New_York:20260812T130000
DTSTAMP:20260420T211750
CREATED:20251014T212228Z
LAST-MODIFIED:20251014T234422Z
UID:10001394-1786534200-1786539600@chattanoogametro.com
SUMMARY:Incredible Business Networking - Agave Azul
DESCRIPTION:Sponsored by Jurgen Mootz with Tradebank of Chattanooga \nCome Out and Meet New People / Brings Cards\, Brochures\, Etc. Free to attend\, no dues or fees No membership required No attendance requirements No category restrictions No Exclusions – all inclusive Buy food/drink if you wish (optional) Check our website for updates.
URL:https://chattanoogametro.com/event/incredible-business-networking-7/2026-08-12/
LOCATION:Agave Azul Mexican Bar & Grill\, 4604 Skyview Drive\, Chattanooga\, TN\, 37416\, United States
CATEGORIES:All Events,Networking Events
ATTACH;FMTTYPE=image/png:https://chattanoogametro.com/wp-content/uploads/2025/04/IBN-Logo.png
END:VEVENT
BEGIN:VEVENT
DTSTART;TZID=America/New_York:20260813T073000
DTEND;TZID=America/New_York:20260813T090000
DTSTAMP:20260420T211750
CREATED:20251014T205800Z
LAST-MODIFIED:20251014T234325Z
UID:10001694-1786606200-1786611600@chattanoogametro.com
SUMMARY:Incredible Business Networking - Eggs Up Grill
DESCRIPTION:Sponsored by Jurgen Mootz with Tradebank of Chattanooga \nCome Out and Meet New People / Brings Cards\, Brochures\, Etc. Free to attend\, no dues or fees No membership required No attendance requirements No category restrictions No Exclusions – all inclusive Buy food/drink if you wish (optional) Check our website for updates.
URL:https://chattanoogametro.com/event/incredible-business-networking/2026-08-13/
LOCATION:Eggs Up Grill\, 285 Paul Huff Parkway NW\, Cleveland\, 37312\, United States
CATEGORIES:All Events,Networking Events
ATTACH;FMTTYPE=image/png:https://chattanoogametro.com/wp-content/uploads/2025/04/IBN-Logo-1.png
END:VEVENT
BEGIN:VEVENT
DTSTART;TZID=America/New_York:20260813T113000
DTEND;TZID=America/New_York:20260813T130000
DTSTAMP:20260420T211750
CREATED:20251014T212737Z
LAST-MODIFIED:20251014T234220Z
UID:10001454-1786620600-1786626000@chattanoogametro.com
SUMMARY:Incredible Business Networking - El Jinete
DESCRIPTION:Sponsored by Jurgen Mootz with Tradebank of Chattanooga \nCome Out and Meet New People / Brings Cards\, Brochures\, Etc. Free to attend\, no dues or fees No membership required No attendance requirements No category restrictions No Exclusions – all inclusive Buy food/drink if you wish (optional) Check our website for updates.
URL:https://chattanoogametro.com/event/incredible-business-networking-8/2026-08-13/
LOCATION:El Jinette Mexican Rest\, 5031 Hixson Pike\, Hixson\, TN\, 37343\, United States
CATEGORIES:All Events,Networking Events
ATTACH;FMTTYPE=image/png:https://chattanoogametro.com/wp-content/uploads/2025/04/IBN-Logo.png
END:VEVENT
BEGIN:VEVENT
DTSTART;TZID=America/New_York:20260817T073000
DTEND;TZID=America/New_York:20260817T090000
DTSTAMP:20260420T211750
CREATED:20251014T205002Z
LAST-MODIFIED:20251015T001109Z
UID:10001814-1786951800-1786957200@chattanoogametro.com
SUMMARY:Incredible Business Networking - Grindhead Coffee
DESCRIPTION:Sponsored by Jurgen Mootz with Tradebank of Chattanooga \nCome Out and Meet New People / Brings Cards\, Brochures\, Etc. Free to attend\, no dues or fees No membership required No attendance requirements No category restrictions No Exclusions – all inclusive Buy food/drink if you wish (optional) Check our website for updates.
URL:https://chattanoogametro.com/event/incredible-business-networking-4-2/2026-08-17/
LOCATION:Grindhead Coffee\, 7955 East Brainerd Road\, Chattanooga\, TN\, 37421\, United States
CATEGORIES:All Events,Networking Events
ATTACH;FMTTYPE=image/png:https://chattanoogametro.com/wp-content/uploads/2025/04/IBN-Logo.png
END:VEVENT
BEGIN:VEVENT
DTSTART;TZID=America/New_York:20260819T113000
DTEND;TZID=America/New_York:20260819T130000
DTSTAMP:20260420T211750
CREATED:20250424T014039Z
LAST-MODIFIED:20251014T234102Z
UID:10000598-1787139000-1787144400@chattanoogametro.com
SUMMARY:Incredible Business Networking - Local Goat
DESCRIPTION:Sponsored by Jurgen Mootz with Tradebank of Chattanooga \nCome Out and Meet New People / Brings Cards\, Brochures\, Etc. \n\nFree to attend\, no dues or fees\nNo membership required\nNo attendance requirements\nNo category restrictions\nNo Exclusions – all inclusive\nBuy food/drink if you wish (optional)\n\nCheck our website for updates.
URL:https://chattanoogametro.com/event/incredible-business-networking-3/2026-08-19/
LOCATION:Local Goat\, 6108 Artesian Circle\, Ooltewah\, TN\, 37363\, United States
CATEGORIES:Networking Events
ATTACH;FMTTYPE=image/png:https://chattanoogametro.com/wp-content/uploads/2025/04/IBN-Logo.png
END:VEVENT
BEGIN:VEVENT
DTSTART;TZID=UTC:20260820T113000
DTEND;TZID=UTC:20260820T130000
DTSTAMP:20260420T211750
CREATED:20241231T012443Z
LAST-MODIFIED:20241231T020055Z
UID:10000397-1787225400-1787230800@chattanoogametro.com
SUMMARY:Mas Tequila Lunch Networking Event
DESCRIPTION:FREE Lunch Networking Event. Bring a friend\, meet new people.
URL:https://chattanoogametro.com/event/mas-tequila-lunch-networking-event/2026-08-20/
LOCATION:Mas Tequila Mexican Bar & Grill\, 4134 Ringgold Road\, East Ridge\, TN\, 37412\, United States
CATEGORIES:Networking Events
ATTACH;FMTTYPE=image/jpeg:https://chattanoogametro.com/wp-content/uploads/2024/12/Mas-Tequia-Events.jpg
END:VEVENT
BEGIN:VEVENT
DTSTART;TZID=America/New_York:20260826T113000
DTEND;TZID=America/New_York:20260826T130000
DTSTAMP:20260420T211750
CREATED:20251014T235420Z
LAST-MODIFIED:20251015T000734Z
UID:10000720-1787743800-1787749200@chattanoogametro.com
SUMMARY:Incredible Business Networking - Farm to Folk
DESCRIPTION:Sponsored by Jurgen Mootz with Tradebank of Chattanooga \nCome Out and Meet New People / Brings Cards\, Brochures\, Etc. Free to attend\, no dues or fees No membership required No attendance requirements No category restrictions No Exclusions – all inclusive Buy food/drink if you wish (optional) Check our website for updates.
URL:https://chattanoogametro.com/event/incredible-business-networking-6-2/2026-08-26/
LOCATION:Farm to Folk\, 120 General Lee Street\, Ringgold\, GA\, 30736
CATEGORIES:All Events,Networking Events
ATTACH;FMTTYPE=image/png:https://chattanoogametro.com/wp-content/uploads/2025/04/IBN-Logo.png
END:VEVENT
BEGIN:VEVENT
DTSTART;TZID=America/New_York:20260901T173000
DTEND;TZID=America/New_York:20260901T190000
DTSTAMP:20260420T211750
CREATED:20251014T213946Z
LAST-MODIFIED:20251014T235053Z
UID:10001575-1788283800-1788289200@chattanoogametro.com
SUMMARY:Incredible Business Networking - Champy's
DESCRIPTION:Sponsored by Jurgen Mootz with Tradebank of Chattanooga \nCome Out and Meet New People / Brings Cards\, Brochures\, Etc. Free to attend\, no dues or fees No membership required No attendance requirements No category restrictions No Exclusions – all inclusive Buy food/drink if you wish (optional) Check our website for updates.
URL:https://chattanoogametro.com/event/incredible-business-networking-10/2026-09-01/
LOCATION:Champy’s Chicken\, 191 Ocoee Crossing NW\, Cleveland\, TN\, 37312\, United States
CATEGORIES:All Events,Networking Events
ATTACH;FMTTYPE=image/png:https://chattanoogametro.com/wp-content/uploads/2025/04/IBN-Logo.png
END:VEVENT
BEGIN:VEVENT
DTSTART;TZID=America/New_York:20260903T113000
DTEND;TZID=America/New_York:20260903T130000
DTSTAMP:20260420T211750
CREATED:20251014T211001Z
LAST-MODIFIED:20251015T000531Z
UID:10001110-1788435000-1788440400@chattanoogametro.com
SUMMARY:Incredible Business Networking - Parkway Pourhouse
DESCRIPTION:Sponsored by Jurgen Mootz with Tradebank of Chattanooga \nCome Out and Meet New People / Brings Cards\, Brochures\, Etc. Free to attend\, no dues or fees No membership required No attendance requirements No category restrictions No Exclusions – all inclusive Buy food/drink if you wish (optional) Check our website for updates.
URL:https://chattanoogametro.com/event/incredible-business-networking-2/2026-09-03/
LOCATION:Parkway Pourhouse\, 801 Riverfront Parkway\, Chattanooga\, TN\, 37402\, United States
CATEGORIES:All Events,Networking Events
ATTACH;FMTTYPE=image/png:https://chattanoogametro.com/wp-content/uploads/2025/04/IBN-Logo.png
END:VEVENT
BEGIN:VEVENT
DTSTART;TZID=America/New_York:20260907T170000
DTEND;TZID=America/New_York:20260907T190000
DTSTAMP:20260420T211751
CREATED:20251014T213604Z
LAST-MODIFIED:20251014T235156Z
UID:10001515-1788800400-1788807600@chattanoogametro.com
SUMMARY:Incredible Business Networking - Amigos
DESCRIPTION:Sponsored by Jurgen Mootz with Tradebank of Chattanooga \nCome Out and Meet New People / Brings Cards\, Brochures\, Etc. Free to attend\, no dues or fees No membership required No attendance requirements No category restrictions No Exclusions – all inclusive Buy food/drink if you wish (optional) Check our website for updates. \nLocated inside Island Cove Marina
URL:https://chattanoogametro.com/event/incredible-business-networking-9/2026-09-07/
LOCATION:Amigos Mexican Rest\, 6830 Flamingo Lane\, Harrison\, TN\, 37341\, United States
CATEGORIES:All Events,Networking Events
ATTACH;FMTTYPE=image/png:https://chattanoogametro.com/wp-content/uploads/2025/04/IBN-Logo.png
END:VEVENT
BEGIN:VEVENT
DTSTART;TZID=America/New_York:20260908T113000
DTEND;TZID=America/New_York:20260908T130000
DTSTAMP:20260420T211751
CREATED:20251014T211558Z
LAST-MODIFIED:20251014T234611Z
UID:10001335-1788867000-1788872400@chattanoogametro.com
SUMMARY:Incredible Business Networking - Jim n Nicks
DESCRIPTION:Sponsored by Jurgen Mootz with Tradebank of Chattanooga \nCome Out and Meet New People / Brings Cards\, Brochures\, Etc. Free to attend\, no dues or fees No membership required No attendance requirements No category restrictions No Exclusions – all inclusive Buy food/drink if you wish (optional) Check our website for updates.
URL:https://chattanoogametro.com/event/incredible-business-networking-5/2026-09-08/
LOCATION:Jim “N Nick’s\, 2040 Hamilton Pl Blvd Ste 150\, Chattanooga\, TN\, 37421\, United States
CATEGORIES:All Events,Networking Events
ATTACH;FMTTYPE=image/png:https://chattanoogametro.com/wp-content/uploads/2025/04/IBN-Logo.png
END:VEVENT
BEGIN:VEVENT
DTSTART;TZID=America/New_York:20260908T180000
DTEND;TZID=America/New_York:20260908T200000
DTSTAMP:20260420T211751
CREATED:20251014T214356Z
LAST-MODIFIED:20251014T234521Z
UID:10001755-1788890400-1788897600@chattanoogametro.com
SUMMARY:Incredible Business Networking - Broken Horseshoe Winery
DESCRIPTION:Sponsored by Jurgen Mootz with Tradebank of Chattanooga \nCome Out and Meet New People / Brings Cards\, Brochures\, Etc. Free to attend\, no dues or fees No membership required No attendance requirements No category restrictions No Exclusions – all inclusive Buy food/drink if you wish (optional) Check our website for updates.
URL:https://chattanoogametro.com/event/incredible-business-networking-11/2026-09-08/
LOCATION:Broken Horseshoe Winery & Vineyard\, 5 Legion Street\, Ringgold\, GA\, 30736\, United States
CATEGORIES:All Events,Networking Events
ATTACH;FMTTYPE=image/png:https://chattanoogametro.com/wp-content/uploads/2025/04/IBN-Logo.png
END:VEVENT
BEGIN:VEVENT
DTSTART;TZID=America/New_York:20260909T113000
DTEND;TZID=America/New_York:20260909T130000
DTSTAMP:20260420T211751
CREATED:20251014T212228Z
LAST-MODIFIED:20251014T234422Z
UID:10001395-1788953400-1788958800@chattanoogametro.com
SUMMARY:Incredible Business Networking - Agave Azul
DESCRIPTION:Sponsored by Jurgen Mootz with Tradebank of Chattanooga \nCome Out and Meet New People / Brings Cards\, Brochures\, Etc. Free to attend\, no dues or fees No membership required No attendance requirements No category restrictions No Exclusions – all inclusive Buy food/drink if you wish (optional) Check our website for updates.
URL:https://chattanoogametro.com/event/incredible-business-networking-7/2026-09-09/
LOCATION:Agave Azul Mexican Bar & Grill\, 4604 Skyview Drive\, Chattanooga\, TN\, 37416\, United States
CATEGORIES:All Events,Networking Events
ATTACH;FMTTYPE=image/png:https://chattanoogametro.com/wp-content/uploads/2025/04/IBN-Logo.png
END:VEVENT
BEGIN:VEVENT
DTSTART;TZID=America/New_York:20260910T073000
DTEND;TZID=America/New_York:20260910T090000
DTSTAMP:20260420T211751
CREATED:20251014T205800Z
LAST-MODIFIED:20251014T234325Z
UID:10001695-1789025400-1789030800@chattanoogametro.com
SUMMARY:Incredible Business Networking - Eggs Up Grill
DESCRIPTION:Sponsored by Jurgen Mootz with Tradebank of Chattanooga \nCome Out and Meet New People / Brings Cards\, Brochures\, Etc. Free to attend\, no dues or fees No membership required No attendance requirements No category restrictions No Exclusions – all inclusive Buy food/drink if you wish (optional) Check our website for updates.
URL:https://chattanoogametro.com/event/incredible-business-networking/2026-09-10/
LOCATION:Eggs Up Grill\, 285 Paul Huff Parkway NW\, Cleveland\, 37312\, United States
CATEGORIES:All Events,Networking Events
ATTACH;FMTTYPE=image/png:https://chattanoogametro.com/wp-content/uploads/2025/04/IBN-Logo-1.png
END:VEVENT
BEGIN:VEVENT
DTSTART;TZID=America/New_York:20260910T113000
DTEND;TZID=America/New_York:20260910T130000
DTSTAMP:20260420T211751
CREATED:20251014T212737Z
LAST-MODIFIED:20251014T234220Z
UID:10001455-1789039800-1789045200@chattanoogametro.com
SUMMARY:Incredible Business Networking - El Jinete
DESCRIPTION:Sponsored by Jurgen Mootz with Tradebank of Chattanooga \nCome Out and Meet New People / Brings Cards\, Brochures\, Etc. Free to attend\, no dues or fees No membership required No attendance requirements No category restrictions No Exclusions – all inclusive Buy food/drink if you wish (optional) Check our website for updates.
URL:https://chattanoogametro.com/event/incredible-business-networking-8/2026-09-10/
LOCATION:El Jinette Mexican Rest\, 5031 Hixson Pike\, Hixson\, TN\, 37343\, United States
CATEGORIES:All Events,Networking Events
ATTACH;FMTTYPE=image/png:https://chattanoogametro.com/wp-content/uploads/2025/04/IBN-Logo.png
END:VEVENT
BEGIN:VEVENT
DTSTART;TZID=America/New_York:20260916T113000
DTEND;TZID=America/New_York:20260916T130000
DTSTAMP:20260420T211751
CREATED:20250424T014039Z
LAST-MODIFIED:20251014T234102Z
UID:10000599-1789558200-1789563600@chattanoogametro.com
SUMMARY:Incredible Business Networking - Local Goat
DESCRIPTION:Sponsored by Jurgen Mootz with Tradebank of Chattanooga \nCome Out and Meet New People / Brings Cards\, Brochures\, Etc. \n\nFree to attend\, no dues or fees\nNo membership required\nNo attendance requirements\nNo category restrictions\nNo Exclusions – all inclusive\nBuy food/drink if you wish (optional)\n\nCheck our website for updates.
URL:https://chattanoogametro.com/event/incredible-business-networking-3/2026-09-16/
LOCATION:Local Goat\, 6108 Artesian Circle\, Ooltewah\, TN\, 37363\, United States
CATEGORIES:Networking Events
ATTACH;FMTTYPE=image/png:https://chattanoogametro.com/wp-content/uploads/2025/04/IBN-Logo.png
END:VEVENT
BEGIN:VEVENT
DTSTART;TZID=UTC:20260917T113000
DTEND;TZID=UTC:20260917T130000
DTSTAMP:20260420T211751
CREATED:20241231T012443Z
LAST-MODIFIED:20241231T020055Z
UID:10000398-1789644600-1789650000@chattanoogametro.com
SUMMARY:Mas Tequila Lunch Networking Event
DESCRIPTION:FREE Lunch Networking Event. Bring a friend\, meet new people.
URL:https://chattanoogametro.com/event/mas-tequila-lunch-networking-event/2026-09-17/
LOCATION:Mas Tequila Mexican Bar & Grill\, 4134 Ringgold Road\, East Ridge\, TN\, 37412\, United States
CATEGORIES:Networking Events
ATTACH;FMTTYPE=image/jpeg:https://chattanoogametro.com/wp-content/uploads/2024/12/Mas-Tequia-Events.jpg
END:VEVENT
BEGIN:VEVENT
DTSTART;TZID=America/New_York:20260921T073000
DTEND;TZID=America/New_York:20260921T090000
DTSTAMP:20260420T211751
CREATED:20251014T205002Z
LAST-MODIFIED:20251015T001109Z
UID:10001815-1789975800-1789981200@chattanoogametro.com
SUMMARY:Incredible Business Networking - Grindhead Coffee
DESCRIPTION:Sponsored by Jurgen Mootz with Tradebank of Chattanooga \nCome Out and Meet New People / Brings Cards\, Brochures\, Etc. Free to attend\, no dues or fees No membership required No attendance requirements No category restrictions No Exclusions – all inclusive Buy food/drink if you wish (optional) Check our website for updates.
URL:https://chattanoogametro.com/event/incredible-business-networking-4-2/2026-09-21/
LOCATION:Grindhead Coffee\, 7955 East Brainerd Road\, Chattanooga\, TN\, 37421\, United States
CATEGORIES:All Events,Networking Events
ATTACH;FMTTYPE=image/png:https://chattanoogametro.com/wp-content/uploads/2025/04/IBN-Logo.png
END:VEVENT
BEGIN:VEVENT
DTSTART;TZID=America/New_York:20260923T113000
DTEND;TZID=America/New_York:20260923T130000
DTSTAMP:20260420T211751
CREATED:20251014T235420Z
LAST-MODIFIED:20251015T000734Z
UID:10000721-1790163000-1790168400@chattanoogametro.com
SUMMARY:Incredible Business Networking - Farm to Folk
DESCRIPTION:Sponsored by Jurgen Mootz with Tradebank of Chattanooga \nCome Out and Meet New People / Brings Cards\, Brochures\, Etc. Free to attend\, no dues or fees No membership required No attendance requirements No category restrictions No Exclusions – all inclusive Buy food/drink if you wish (optional) Check our website for updates.
URL:https://chattanoogametro.com/event/incredible-business-networking-6-2/2026-09-23/
LOCATION:Farm to Folk\, 120 General Lee Street\, Ringgold\, GA\, 30736
CATEGORIES:All Events,Networking Events
ATTACH;FMTTYPE=image/png:https://chattanoogametro.com/wp-content/uploads/2025/04/IBN-Logo.png
END:VEVENT
BEGIN:VEVENT
DTSTART;TZID=America/New_York:20261001T113000
DTEND;TZID=America/New_York:20261001T130000
DTSTAMP:20260420T211751
CREATED:20251014T211001Z
LAST-MODIFIED:20251015T000531Z
UID:10001114-1790854200-1790859600@chattanoogametro.com
SUMMARY:Incredible Business Networking - Parkway Pourhouse
DESCRIPTION:Sponsored by Jurgen Mootz with Tradebank of Chattanooga \nCome Out and Meet New People / Brings Cards\, Brochures\, Etc. Free to attend\, no dues or fees No membership required No attendance requirements No category restrictions No Exclusions – all inclusive Buy food/drink if you wish (optional) Check our website for updates.
URL:https://chattanoogametro.com/event/incredible-business-networking-2/2026-10-01/
LOCATION:Parkway Pourhouse\, 801 Riverfront Parkway\, Chattanooga\, TN\, 37402\, United States
CATEGORIES:All Events,Networking Events
ATTACH;FMTTYPE=image/png:https://chattanoogametro.com/wp-content/uploads/2025/04/IBN-Logo.png
END:VEVENT
BEGIN:VEVENT
DTSTART;TZID=America/New_York:20261005T170000
DTEND;TZID=America/New_York:20261005T190000
DTSTAMP:20260420T211751
CREATED:20251014T213604Z
LAST-MODIFIED:20251014T235156Z
UID:10001516-1791219600-1791226800@chattanoogametro.com
SUMMARY:Incredible Business Networking - Amigos
DESCRIPTION:Sponsored by Jurgen Mootz with Tradebank of Chattanooga \nCome Out and Meet New People / Brings Cards\, Brochures\, Etc. Free to attend\, no dues or fees No membership required No attendance requirements No category restrictions No Exclusions – all inclusive Buy food/drink if you wish (optional) Check our website for updates. \nLocated inside Island Cove Marina
URL:https://chattanoogametro.com/event/incredible-business-networking-9/2026-10-05/
LOCATION:Amigos Mexican Rest\, 6830 Flamingo Lane\, Harrison\, TN\, 37341\, United States
CATEGORIES:All Events,Networking Events
ATTACH;FMTTYPE=image/png:https://chattanoogametro.com/wp-content/uploads/2025/04/IBN-Logo.png
END:VEVENT
BEGIN:VEVENT
DTSTART;TZID=America/New_York:20261006T173000
DTEND;TZID=America/New_York:20261006T190000
DTSTAMP:20260420T211751
CREATED:20251014T213946Z
LAST-MODIFIED:20251014T235053Z
UID:10001576-1791307800-1791313200@chattanoogametro.com
SUMMARY:Incredible Business Networking - Champy's
DESCRIPTION:Sponsored by Jurgen Mootz with Tradebank of Chattanooga \nCome Out and Meet New People / Brings Cards\, Brochures\, Etc. Free to attend\, no dues or fees No membership required No attendance requirements No category restrictions No Exclusions – all inclusive Buy food/drink if you wish (optional) Check our website for updates.
URL:https://chattanoogametro.com/event/incredible-business-networking-10/2026-10-06/
LOCATION:Champy’s Chicken\, 191 Ocoee Crossing NW\, Cleveland\, TN\, 37312\, United States
CATEGORIES:All Events,Networking Events
ATTACH;FMTTYPE=image/png:https://chattanoogametro.com/wp-content/uploads/2025/04/IBN-Logo.png
END:VEVENT
BEGIN:VEVENT
DTSTART;TZID=America/New_York:20261008T073000
DTEND;TZID=America/New_York:20261008T090000
DTSTAMP:20260420T211751
CREATED:20251014T205800Z
LAST-MODIFIED:20251014T234325Z
UID:10001696-1791444600-1791450000@chattanoogametro.com
SUMMARY:Incredible Business Networking - Eggs Up Grill
DESCRIPTION:Sponsored by Jurgen Mootz with Tradebank of Chattanooga \nCome Out and Meet New People / Brings Cards\, Brochures\, Etc. Free to attend\, no dues or fees No membership required No attendance requirements No category restrictions No Exclusions – all inclusive Buy food/drink if you wish (optional) Check our website for updates.
URL:https://chattanoogametro.com/event/incredible-business-networking/2026-10-08/
LOCATION:Eggs Up Grill\, 285 Paul Huff Parkway NW\, Cleveland\, 37312\, United States
CATEGORIES:All Events,Networking Events
ATTACH;FMTTYPE=image/png:https://chattanoogametro.com/wp-content/uploads/2025/04/IBN-Logo-1.png
END:VEVENT
BEGIN:VEVENT
DTSTART;TZID=America/New_York:20261008T113000
DTEND;TZID=America/New_York:20261008T130000
DTSTAMP:20260420T211751
CREATED:20251014T212737Z
LAST-MODIFIED:20251014T234220Z
UID:10001456-1791459000-1791464400@chattanoogametro.com
SUMMARY:Incredible Business Networking - El Jinete
DESCRIPTION:Sponsored by Jurgen Mootz with Tradebank of Chattanooga \nCome Out and Meet New People / Brings Cards\, Brochures\, Etc. Free to attend\, no dues or fees No membership required No attendance requirements No category restrictions No Exclusions – all inclusive Buy food/drink if you wish (optional) Check our website for updates.
URL:https://chattanoogametro.com/event/incredible-business-networking-8/2026-10-08/
LOCATION:El Jinette Mexican Rest\, 5031 Hixson Pike\, Hixson\, TN\, 37343\, United States
CATEGORIES:All Events,Networking Events
ATTACH;FMTTYPE=image/png:https://chattanoogametro.com/wp-content/uploads/2025/04/IBN-Logo.png
END:VEVENT
BEGIN:VEVENT
DTSTART;TZID=America/New_York:20261013T113000
DTEND;TZID=America/New_York:20261013T130000
DTSTAMP:20260420T211751
CREATED:20251014T211558Z
LAST-MODIFIED:20251014T234611Z
UID:10001336-1791891000-1791896400@chattanoogametro.com
SUMMARY:Incredible Business Networking - Jim n Nicks
DESCRIPTION:Sponsored by Jurgen Mootz with Tradebank of Chattanooga \nCome Out and Meet New People / Brings Cards\, Brochures\, Etc. Free to attend\, no dues or fees No membership required No attendance requirements No category restrictions No Exclusions – all inclusive Buy food/drink if you wish (optional) Check our website for updates.
URL:https://chattanoogametro.com/event/incredible-business-networking-5/2026-10-13/
LOCATION:Jim “N Nick’s\, 2040 Hamilton Pl Blvd Ste 150\, Chattanooga\, TN\, 37421\, United States
CATEGORIES:All Events,Networking Events
ATTACH;FMTTYPE=image/png:https://chattanoogametro.com/wp-content/uploads/2025/04/IBN-Logo.png
END:VEVENT
END:VCALENDAR